From mboxrd@z Thu Jan 1 00:00:00 1970 Return-Path: Received: from mails.dpdk.org (mails.dpdk.org [217.70.189.124]) by inbox.dpdk.org (Postfix) with ESMTP id F0E99467BF for ; Fri, 23 May 2025 04:31:17 +0200 (CEST) Received: from mails.dpdk.org (localhost [127.0.0.1]) by mails.dpdk.org (Postfix) with ESMTP id 782DD40667; Fri, 23 May 2025 04:31:17 +0200 (CEST) Received: from mail-pg1-f226.google.com (mail-pg1-f226.google.com [209.85.215.226]) by mails.dpdk.org (Postfix) with ESMTP id 1F97A40661 for ; Fri, 23 May 2025 04:31:16 +0200 (CEST) Received: by mail-pg1-f226.google.com with SMTP id 41be03b00d2f7-b1fd59851baso5367345a12.0 for ; Thu, 22 May 2025 19:31:16 -0700 (PDT) DKIM-Signature: v=1; a=rsa-sha256; c=relaxed/relaxed; d=iol.unh.edu; s=unh-iol; t=1747967475; x=1748572275; darn=dpdk.org; h=references:in-reply-to:cc:to:from:subject:message-id:date:from:to :cc:subject:date:message-id:reply-to; bh=dVVI1z3lBQFVD4JsjWh2KzcekV/rmupJhVRV+mK583E=; b=cnMFQ07IW7ZcGx+UFR/VA9mG0KSN7uMK2eAv1U0Iphq68Phzhk+SfR45/aY0DYK1Be SLQuEsw1aii0TNtwn4Cgh5YNTrYKfT/uuJT4I7JlRgJSbf43uB/gDRliwzihzKJ4nm0T +NUeHstnRur+xE2bodvaWIgrUTIbcnBp/qc3I= X-Google-DKIM-Signature: v=1; a=rsa-sha256; c=relaxed/relaxed; d=1e100.net; s=20230601; t=1747967475; x=1748572275; h=references:in-reply-to:cc:to:from:subject:message-id:date :x-gm-message-state:from:to:cc:subject:date:message-id:reply-to; bh=dVVI1z3lBQFVD4JsjWh2KzcekV/rmupJhVRV+mK583E=; b=vTR1qtn/OVljsptfDOXBlLGE3PMRsWqDfQeU5970t0X0yvd4oaEd7XGCb1zJFZznsj KRk/fylkI5DMj2qSpJ7DZvMtB6gklmYVOTbh9zTrnU+tnIjbSdych4QRRI31PXcs/NxZ jv/bwhj+Wy6vzbSZsd5wSGrgltknZq6jTSsemnfdJ8qRuDOb4KSxKw7B/rcgPTqfNTAs +P+CFcq6KRMBtw8gQ43IokW7QhtcBJIrINYLRBi/0GTDw447rCfepRw4zCZ+aTvMa/1O k1B4cwS3iMdBtGOwI2cNphGt6n6nDOHyz9t+JV0LKGknu2KcItSTGKinBJ70w7+yELHy NUkA== X-Gm-Message-State: AOJu0Yy2c0FIRufwoREJcg2395gSttN+4l4Jbq/7aJjrj7a/gsV12SqG /P3jQ3lmdOivIm/xx7FYnWdTNMBH0uqTsx/+r154ciMcTQ1q/nbt9Afckr/SbOewkNHRO1A3yqn rtLfbxy3BhL0hWiFCPclipz8D275o2Uh6rPiXhfUQvabXCHT2k/0gKOMz/00P X-Gm-Gg: ASbGncuNz8THOwAbjrajWvqL/BJVExfZKXCMRC8l4vqwqYGnrRUSaW75W7KeGfgI+6m QSf4QeIlGZYFjNfOs+pIFQeiYWUGIk2kYsDH2Bemvom3gnTMGfnYM7W29I7PN4iresrrS848wT2 PbJZqC3CkHLOz5mfGfEKiroPXuzq8b010iocIPmxM4zkB4G74ZqhNG4Cb1b5Df35ZWM7YTotgZP i0PkdFqDyrG4dbm4PJSb4hUGfFji2kjCBwZUKuT1ozlmY3IeWwCQ4mY0FpMHmHkLphln3L1HiOn iCzaQe4yXGmDDSuHpYE9ytELiUxRyUHEn5W4 X-Google-Smtp-Source: AGHT+IEBHHEfxvZL/zEK3RXRbxAogcIgDy4ZNE/IQrVAB42JTy3Uey9i1BwSksl7YiVXTeNekPYOltvUC93x X-Received: by 2002:a17:902:ea0c:b0:22e:61b2:5eb6 with SMTP id d9443c01a7336-231de3030bemr375585855ad.15.1747967475178; Thu, 22 May 2025 19:31:15 -0700 (PDT) Received: from postal.iol.unh.edu (postal.iol.unh.edu. [2606:4100:3880:1234::84]) by smtp-relay.gmail.com with ESMTPS id d9443c01a7336-231d4aa6f49sm8036945ad.26.2025.05.22.19.31.15 (version=TLS1_2 cipher=ECDHE-ECDSA-AES128-GCM-SHA256 bits=128/128); Thu, 22 May 2025 19:31:15 -0700 (PDT) X-Relaying-Domain: iol.unh.edu Date: Thu, 22 May 2025 19:31:15 -0700 (PDT) Message-ID: <682fddf3.170a0220.2ead12.a35cSMTPIN_ADDED_MISSING@mx.google.com> Received: from [172.21.0.6] (unknown [172.18.0.240]) by postal.iol.unh.edu (Postfix) with ESMTP id CD13C6052471; Thu, 22 May 2025 22:31:13 -0400 (EDT) Subject: |SUCCESS| pw153616 [PATCH] [v2] fix eal/linux: unregister alarm call From: dpdklab@iol.unh.edu To: Test Report Cc: dpdk-test-reports@iol.unh.edu In-Reply-To: <20250522155944.65342-1-rui.ferreira1@h-partners.com> References: <20250522155944.65342-1-rui.ferreira1@h-partners.com> Content-Type: text/plain X-BeenThere: test-report@dpdk.org X-Mailman-Version: 2.1.29 Precedence: list List-Id: automatic DPDK test reports List-Unsubscribe: , List-Archive: List-Post: List-Help: List-Subscribe: , Errors-To: test-report-bounces@dpdk.org Test-Label: iol-unit-arm64-testing Test-Status: SUCCESS http://dpdk.org/patch/153616 _Testing PASS_ Submitter: Rui Ferreira Date: Thursday, May 22 2025 15:59:44 DPDK git baseline: Repo:dpdk Branch: master CommitID:117e86c4b96ed761e9a7ab766261208fe81bf5ca 153616 --> testing pass Upstream job id: Generic-Unit-Test-DPDK#340114 Test environment and result as below: +-----------------------------+------------------------------+--------------+---------------------------+----------------+ | Environment | cryptodev_sw_snow3g_autotest | lpm_autotest | cryptodev_sw_zuc_autotest | dpdk_unit_test | +=============================+==============================+==============+===========================+================+ | Debian 12 (arm) | PASS | SKIPPED | PASS | PASS | +-----------------------------+------------------------------+--------------+---------------------------+----------------+ | Ubuntu 20.04 ARM SVE | SKIPPED | PASS | SKIPPED | SKIPPED | +-----------------------------+------------------------------+--------------+---------------------------+----------------+ | Fedora 40 (ARM Clang) | SKIPPED | SKIPPED | SKIPPED | PASS | +-----------------------------+------------------------------+--------------+---------------------------+----------------+ | CentOS Stream 9 (ARM) | SKIPPED | SKIPPED | SKIPPED | PASS | +-----------------------------+------------------------------+--------------+---------------------------+----------------+ | Fedora 40 (ARM) | SKIPPED | SKIPPED | SKIPPED | PASS | +-----------------------------+------------------------------+--------------+---------------------------+----------------+ | Fedora 41 (ARM) | SKIPPED | SKIPPED | SKIPPED | PASS | +-----------------------------+------------------------------+--------------+---------------------------+----------------+ | CentOS Stream 10 (ARM) | SKIPPED | SKIPPED | SKIPPED | PASS | +-----------------------------+------------------------------+--------------+---------------------------+----------------+ | RHEL9 (ARM) | SKIPPED | SKIPPED | SKIPPED | PASS | +-----------------------------+------------------------------+--------------+---------------------------+----------------+ | Ubuntu 20.04 (ARM) | SKIPPED | SKIPPED | SKIPPED | PASS | +-----------------------------+------------------------------+--------------+---------------------------+----------------+ | Ubuntu 22.04 (ARM) | SKIPPED | SKIPPED | SKIPPED | PASS | +-----------------------------+------------------------------+--------------+---------------------------+----------------+ | Ubuntu 24.04 (ARM) | SKIPPED | SKIPPED | SKIPPED | PASS | +-----------------------------+------------------------------+--------------+---------------------------+----------------+ | Fedora 41 (ARM Clang) | SKIPPED | SKIPPED | SKIPPED | PASS | +-----------------------------+------------------------------+--------------+---------------------------+----------------+ | 32-bit Ubuntu 22.04.4 (ARM) | SKIPPED | SKIPPED | SKIPPED | PASS | +-----------------------------+------------------------------+--------------+---------------------------+----------------+ Debian 12 (arm) Kernel: Depends on container host Compiler: gcc (Debian 12.2.0-14) 12.2.0 Ubuntu 20.04 ARM SVE Kernel: Depends on container host Compiler: gcc (Ubuntu 10.5.0-1ubuntu1~20.04) 10.5.0 Fedora 40 (ARM Clang) Kernel: Depends on container host Compiler: clang 18.1.8 (Fedora 18.1.8-1.fc40) CentOS Stream 9 (ARM) Kernel: Depends on container host Compiler: gcc 11.5.0 20240719 (Red Hat 11.5.0-2) Fedora 40 (ARM) Kernel: Depends on container host Compiler: gcc 14.2.1 20240912 (Red Hat 14.2.1-3) Fedora 41 (ARM) Kernel: Depends on container host Compiler: gcc 14.2.1 20240912 (Red Hat 14.2.1-3) CentOS Stream 10 (ARM) Kernel: Depends on container host Compiler: gcc 14.2.1 20241104 (Red Hat 14.2.1-6) RHEL9 (ARM) Kernel: Depends on container host Compiler: gcc 11.5.0 20240719 (Red Hat 11.5.0-2) Ubuntu 20.04 (ARM) Kernel: Depends on container host Compiler: gcc (Ubuntu 9.4.0-1ubuntu1~20.04.2) 9.4.0 Ubuntu 22.04 (ARM) Kernel: Depends on container host Compiler: gcc (Ubuntu 11.4.0-1ubuntu1~22.04) 11.4.0 Ubuntu 24.04 (ARM) Kernel: Depends on container host Compiler: gcc (Ubuntu 13.3.0-6ubuntu2~24.04) 13.3.0 Fedora 41 (ARM Clang) Kernel: Depends on container host Compiler: clang 19.1.5 (Fedora 19.1.5-1.fc41) 32-bit Ubuntu 22.04.4 (ARM) Kernel: 5.15.83+ aarch64 Compiler: gcc (Ubuntu 11.4.0-1ubuntu1~22.04) 11.4.0 To view detailed results, visit: https://lab.dpdk.org/results/dashboard/patchsets/33236/ UNH-IOL DPDK Community Lab To manage your email subscriptions, visit: https://lab.dpdk.org/results/dashboard/preferences/subscriptions/