From mboxrd@z Thu Jan 1 00:00:00 1970 Return-Path: Received: from mails.dpdk.org (mails.dpdk.org [217.70.189.124]) by inbox.dpdk.org (Postfix) with ESMTP id 96B55467BF for ; Fri, 23 May 2025 04:31:46 +0200 (CEST) Received: from mails.dpdk.org (localhost [127.0.0.1]) by mails.dpdk.org (Postfix) with ESMTP id 9190640661; Fri, 23 May 2025 04:31:46 +0200 (CEST) Received: from mail-pl1-f225.google.com (mail-pl1-f225.google.com [209.85.214.225]) by mails.dpdk.org (Postfix) with ESMTP id 2A9B040661 for ; Fri, 23 May 2025 04:31:45 +0200 (CEST) Received: by mail-pl1-f225.google.com with SMTP id d9443c01a7336-23228b9d684so56971245ad.1 for ; Thu, 22 May 2025 19:31:45 -0700 (PDT) DKIM-Signature: v=1; a=rsa-sha256; c=relaxed/relaxed; d=iol.unh.edu; s=unh-iol; t=1747967504; x=1748572304; darn=dpdk.org; h=references:in-reply-to:cc:to:from:subject:message-id:date:from:to :cc:subject:date:message-id:reply-to; bh=Co3X15e29NJ/E1HVw27gbY5GgdBwhzLkLBnlWudvm1U=; b=XrDd0sF0PV6iX0aFcp2JZxbHrJpIN0b0b7lfbCWKnVy/4zIBKajsTG6QEKl4Yp0dRS 3/G00rVfUiDh1IxwjrBCGHuEMiiNG96gEpmvulbWLDzon8RmatqzZQoEOsgnxMUQMvkK jKaU+1u+yrUxflSkly2yvhBromsQW9Z9YLDXk= X-Google-DKIM-Signature: v=1; a=rsa-sha256; c=relaxed/relaxed; d=1e100.net; s=20230601; t=1747967504; x=1748572304; h=references:in-reply-to:cc:to:from:subject:message-id:date :x-gm-message-state:from:to:cc:subject:date:message-id:reply-to; bh=Co3X15e29NJ/E1HVw27gbY5GgdBwhzLkLBnlWudvm1U=; b=E6Ps7LwGKaDhgPVDQAPwWxEbe6sqQ19bHtmrqJdi+8G1PLseP4l7drl6J1dwLmVmbl bLa6DMq2G246CYma/LBzGZLAq0CoI9UX1FW8M39dtsAaJ2Sbto3ddvu4uHYFQ+MTVgC+ 4NbiM9105yhABRQ5HJ9o1W78xMLJtQAgvqMtSAHt+3FvYkMX4kx1MzqwObKT09hrqLCl aLQrTgoYH8Rl/8mkn95P6XbFnzEeFtDOw9jTwP++/aIui3MNS5P8DpVwdl6ThiM2ZdLH mAbIh0AtH31J/P19Ozh1Oy3cRuQ/TZLb34jGW5KWiebBLdefDNhQlccFQxi5IM6wi56G d4Og== X-Gm-Message-State: AOJu0Yy4rKvGsWcHgrG74PpJ1CwYqiwfPpl+1u80BIUzW+lt2h3o7SIt 9BdTkZVg8G90zPiKk8ccLw8Iyn4w20Eaj5OVvAwnziuS5cWheWeh0i+GdOjyxRQlhrI6UktZ684 OReY2lW9TWr5xIaI9oiQVaOUr5D9X7XTCdWLhdMVw1zOkHc337tSkUL4Lv9hZ X-Gm-Gg: ASbGnctMpHht75QG1NmX8i4T52lfCVvqEPcx8vpYB+pwb15jKw0Qv553p1t+aLxkljF 3wRKpOFExsjCB/FSPpHup1OyGEYsMSa98sMdfC1nRZpXxMQV9U720ZmoErvpLHV7QI+jVtX05sD ePhMnLCOfAiavwwg5S5WuKDmmVp03nk6T61rStXBFFqmBpl2F8v9+eftMssXBaTixPfhYHwNYDb GgSjIYXw6TqtrZk3eL54CEb/CwVqFYOwnhbI/elRKhOqpXNHgwhDB57CO1y+MzTDOwcuA/pG4a5 n94tOeFIOmO5FV13140JUUC58C2ghhDcRqq/ X-Google-Smtp-Source: AGHT+IFMTdo58qWf4buxGRVrRliLPjLbtxg1wKdnUnMx8IfYeQplstJ4cFpHfNbobJemkdHGgPxujPL22BrW X-Received: by 2002:a17:903:244e:b0:22e:3b65:9286 with SMTP id d9443c01a7336-231de3bb4afmr391825085ad.49.1747967504240; Thu, 22 May 2025 19:31:44 -0700 (PDT) Received: from postal.iol.unh.edu (postal.iol.unh.edu. [2606:4100:3880:1234::84]) by smtp-relay.gmail.com with ESMTPS id d9443c01a7336-231d4acb2eesm7921525ad.44.2025.05.22.19.31.44 (version=TLS1_2 cipher=ECDHE-ECDSA-AES128-GCM-SHA256 bits=128/128); Thu, 22 May 2025 19:31:44 -0700 (PDT) X-Relaying-Domain: iol.unh.edu Date: Thu, 22 May 2025 19:31:44 -0700 (PDT) Message-ID: <682fde10.170a0220.77d33.963dSMTPIN_ADDED_MISSING@mx.google.com> Received: from [172.21.0.5] (unknown [172.18.0.240]) by postal.iol.unh.edu (Postfix) with ESMTP id 683ED6052471; Thu, 22 May 2025 22:31:43 -0400 (EDT) Subject: |WARNING| pw153616 [PATCH] [v2] fix eal/linux: unregister alarm call From: dpdklab@iol.unh.edu To: Test Report Cc: dpdk-test-reports@iol.unh.edu In-Reply-To: <20250522155944.65342-1-rui.ferreira1@h-partners.com> References: <20250522155944.65342-1-rui.ferreira1@h-partners.com> Content-Type: text/plain X-BeenThere: test-report@dpdk.org X-Mailman-Version: 2.1.29 Precedence: list List-Id: automatic DPDK test reports List-Unsubscribe: , List-Archive: List-Post: List-Help: List-Subscribe: , Errors-To: test-report-bounces@dpdk.org Test-Label: iol-compile-amd64-testing Test-Status: WARNING http://dpdk.org/patch/153616 _Testing issues_ Submitter: Rui Ferreira Date: Thursday, May 22 2025 15:59:44 DPDK git baseline: Repo:dpdk Branch: master CommitID:117e86c4b96ed761e9a7ab766261208fe81bf5ca 153616 --> testing issues Upstream job id: Generic-DPDK-Compile-Meson#390674 Test environment and result as below: +-----------------------------------+--------------------+-------------------+------------------+-------------------+-------------------------+----------------------+ | Environment | dpdk_meson_compile | dpdk_compile_spdk | dpdk_compile_ovs | dpdk_msvc_compile | dpdk_llvm_clang_compile | dpdk_mingw64_compile | +===================================+====================+===================+==================+===================+=========================+======================+ | CentOS Stream 9 | PASS | PASS | SKIPPED | SKIPPED | SKIPPED | SKIPPED | +-----------------------------------+--------------------+-------------------+------------------+-------------------+-------------------------+----------------------+ | CentOS Stream 10 | PASS | SKIPPED | SKIPPED | SKIPPED | SKIPPED | SKIPPED | +-----------------------------------+--------------------+-------------------+------------------+-------------------+-------------------------+----------------------+ | Debian 12 | PASS | PASS | SKIPPED | SKIPPED | SKIPPED | SKIPPED | +-----------------------------------+--------------------+-------------------+------------------+-------------------+-------------------------+----------------------+ | openSUSE Leap 15 | PASS | SKIPPED | SKIPPED | SKIPPED | SKIPPED | SKIPPED | +-----------------------------------+--------------------+-------------------+------------------+-------------------+-------------------------+----------------------+ | Fedora 41 (Clang) | PEND | PEND | PEND | SKIPPED | SKIPPED | SKIPPED | +-----------------------------------+--------------------+-------------------+------------------+-------------------+-------------------------+----------------------+ | Fedora 40 (Clang) | PASS | WARN | SKIPPED | SKIPPED | SKIPPED | SKIPPED | +-----------------------------------+--------------------+-------------------+------------------+-------------------+-------------------------+----------------------+ | RHEL8 | PASS | SKIPPED | SKIPPED | SKIPPED | SKIPPED | SKIPPED | +-----------------------------------+--------------------+-------------------+------------------+-------------------+-------------------------+----------------------+ | Fedora 40 | PASS | PASS | SKIPPED | SKIPPED | SKIPPED | SKIPPED | +-----------------------------------+--------------------+-------------------+------------------+-------------------+-------------------------+----------------------+ | Fedora 41 | PASS | PASS | PASS | SKIPPED | SKIPPED | SKIPPED | +-----------------------------------+--------------------+-------------------+------------------+-------------------+-------------------------+----------------------+ | Ubuntu 20.04 | PASS | SKIPPED | SKIPPED | SKIPPED | SKIPPED | SKIPPED | +-----------------------------------+--------------------+-------------------+------------------+-------------------+-------------------------+----------------------+ | Ubuntu 22.04 | PEND | PEND | SKIPPED | SKIPPED | SKIPPED | SKIPPED | +-----------------------------------+--------------------+-------------------+------------------+-------------------+-------------------------+----------------------+ | Ubuntu 24.04 | PEND | PEND | PEND | SKIPPED | SKIPPED | SKIPPED | +-----------------------------------+--------------------+-------------------+------------------+-------------------+-------------------------+----------------------+ | Ubuntu 24.04 32 Bit Cross Compile | PEND | SKIPPED | SKIPPED | SKIPPED | SKIPPED | SKIPPED | +-----------------------------------+--------------------+-------------------+------------------+-------------------+-------------------------+----------------------+ | Alpine | PEND | SKIPPED | SKIPPED | SKIPPED | SKIPPED | SKIPPED | +-----------------------------------+--------------------+-------------------+------------------+-------------------+-------------------------+----------------------+ | FreeBSD 14.2 | PASS | SKIPPED | SKIPPED | SKIPPED | SKIPPED | SKIPPED | +-----------------------------------+--------------------+-------------------+------------------+-------------------+-------------------------+----------------------+ | RHEL9 | PEND | SKIPPED | SKIPPED | SKIPPED | SKIPPED | SKIPPED | +-----------------------------------+--------------------+-------------------+------------------+-------------------+-------------------------+----------------------+ | Windows Server 2022 | SKIPPED | SKIPPED | SKIPPED | PASS | PASS | PASS | +-----------------------------------+--------------------+-------------------+------------------+-------------------+-------------------------+----------------------+ ==== 20 line log output for Fedora 40 (Clang) (dpdk_compile_spdk): ==== --- Failed to get log output --- ==== End log output ==== CentOS Stream 9 Kernel: Depends on container host Compiler: gcc 11.5.0 20240719 (Red Hat 11.5.0-2) CentOS Stream 10 Kernel: Depends on container host Compiler: gcc 14.2.1 20241104 (Red Hat 14.2.1-6) Debian 12 Kernel: Depends on container host Compiler: gcc (Debian 12.2.0-14) 12.2.0 openSUSE Leap 15 Kernel: Depends on container host Compiler: gcc (SUSE Linux) 7.5.0 Fedora 41 (Clang) Kernel: Depends on container host Compiler: clang 19.1.5 (Fedora 19.1.5-1.fc41) Fedora 40 (Clang) Kernel: Depends on container host Compiler: clang 18.1.8 (Fedora 18.1.8-1.fc40) RHEL8 Kernel: Depends on container host Compiler: gcc 8.5.0 20210514 (Red Hat 8.5.0-22) Fedora 40 Kernel: Depends on container host Compiler: gcc 14.2.1 20240912 (Red Hat 14.2.1-3) Fedora 41 Kernel: Depends on container host Compiler: gcc 14.2.1 20240912 (Red Hat 14.2.1-3) Ubuntu 20.04 Kernel: Depends on container host Compiler: gcc (Ubuntu 9.4.0-1ubuntu1~20.04.2) 9.4.0 Ubuntu 22.04 Kernel: Depends on container host Compiler: gcc (Ubuntu 11.4.0-1ubuntu1~22.04) 11.4.0 Ubuntu 24.04 Kernel: Depends on container host Compiler: gcc (Ubuntu 13.3.0-6ubuntu2~24.04) 13.3.0 Ubuntu 24.04 32 Bit Cross Compile Kernel: Depends on container host Compiler: gcc (Ubuntu 13.3.0-6ubuntu2~24.04) 13.3.0 Alpine Kernel: Depends on container host Compiler: gcc (Alpine 14.2.0) 14.2.0 FreeBSD 14.2 Kernel: 14.2-RELEASE Compiler: clang 18.1.6 RHEL9 Kernel: Depends on container host Compiler: gcc 11.5.0 20240719 (Red Hat 11.5.0-2) Windows Server 2022 Kernel: 10.0.20348.2031 Compiler: clang 15.0.7, gcc 14.1.0 (MinGW), and MSVC VS 19.39.33521 To view detailed results, visit: https://lab.dpdk.org/results/dashboard/patchsets/33236/ UNH-IOL DPDK Community Lab To manage your email subscriptions, visit: https://lab.dpdk.org/results/dashboard/preferences/subscriptions/