From mboxrd@z Thu Jan 1 00:00:00 1970 Return-Path: Received: from mails.dpdk.org (mails.dpdk.org [217.70.189.124]) by inbox.dpdk.org (Postfix) with ESMTP id 47D61467BF for ; Fri, 23 May 2025 04:38:04 +0200 (CEST) Received: from mails.dpdk.org (localhost [127.0.0.1]) by mails.dpdk.org (Postfix) with ESMTP id 222EE40661; Fri, 23 May 2025 04:38:04 +0200 (CEST) Received: from mail-pl1-f227.google.com (mail-pl1-f227.google.com [209.85.214.227]) by mails.dpdk.org (Postfix) with ESMTP id 50D2140661 for ; Fri, 23 May 2025 04:38:02 +0200 (CEST) Received: by mail-pl1-f227.google.com with SMTP id d9443c01a7336-231e98e46c0so57530835ad.3 for ; Thu, 22 May 2025 19:38:02 -0700 (PDT) DKIM-Signature: v=1; a=rsa-sha256; c=relaxed/relaxed; d=iol.unh.edu; s=unh-iol; t=1747967881; x=1748572681; darn=dpdk.org; h=references:in-reply-to:cc:to:from:subject:message-id:date:from:to :cc:subject:date:message-id:reply-to; bh=WJXvfR4buxa4uNWNlZQaxEsNfnYdWMMytOjPNtiC4uE=; b=RsWC4LSaVc2R0W1H8hZ7eS6CAPRmZaJxiS5l/Ca8nT3Vh09J8DVAj8jDfjZhCCVuzs 45pGOwNpanNsgR/pA+PJYoG/qXBx5r5Pw9M4IbvfNQI+JzRmy9dSzxOUgmNL7YF+hmyD mnVQaiTsjdbhjfQz+4lRgfC+3k627atMxnG1A= X-Google-DKIM-Signature: v=1; a=rsa-sha256; c=relaxed/relaxed; d=1e100.net; s=20230601; t=1747967881; x=1748572681; h=references:in-reply-to:cc:to:from:subject:message-id:date :x-gm-message-state:from:to:cc:subject:date:message-id:reply-to; bh=WJXvfR4buxa4uNWNlZQaxEsNfnYdWMMytOjPNtiC4uE=; b=c0R7V7isGO502/oL057zgs+b64HtpAGA9xLcM+yXpkXiCPVoDrzvquIMbaTDVMinVg 565zqvk87ynxnuhc8Bi1UlJ5XggFmYfj5bUn4w74aIifrYU/zIG/Df4i0sU8fVGzy97/ SBGj+lQsb2M3XZ5fKe7p0jE2w6t2O4MHfCPflOIjnPUyVziE4qkXGjg9ie0/zXtvL0k4 ULuOwc3zBn/fdGYL9vH0Zul3+wO1cplppaJwzHqUVwmJLXwUqR9PbpY8014nkrKmykic BKrhEp+fz/8SCXa93Ubrnwtq7TFFCVPC17FJOmA89Py4XEbXghZOpPSK0xGfEC2jULJ8 lm9Q== X-Gm-Message-State: AOJu0YxoQNEMVPIwgtKF8uttMwP8hIAiyxxAusWMHUA4sZqO1aPKAbAE vdDdcZnUIUQ6W/VffP9/Wny7xz/U+ZNudmXbszBPX+NuuqrXN4b1gnsOXuBez3gspgpSIall8BN jcEUfuTtIPtDlYGVL3j/E0/q+o1D+rwAL3APCkY6l7koKfjfnh64GcKdtPbBW X-Gm-Gg: ASbGncvEv22UU24B0OeTb5SlEjm9PMafoUouuFCMDsuK8qVjzHeGA4jI/hn2ZMfT8b5 FAftl5aKMjGkyW67Ut02eNwLETS1jR24wi83tgZKfK77OUHmSymjXWosu3ylLYJn6Lulx+wA00t /0nbtxg3CWRkAtwq1wMWjas5VCJE6ZG1/FVAaCzvSPkTjJhjP2kDPair2J/JLkqhct9FFB5DY5X LU2bVBKZiLy56mRRa4hvlHQ/7/BWjCuXI+uFIL4hD/M2ZsixcStPmCFn1BedzJfwW0tkW2Hc4Z6 7AvZ51QraWQwOiqC57rpv+DtjCBSNKhHA6WQ X-Google-Smtp-Source: AGHT+IF8MTlliqEynL9gCwSWhfh68DmNa634nLmZzySp7rQ2ck/j7MajuW0yS9tWa+7pi+sQ5TR4YTZQobYL X-Received: by 2002:a17:902:cece:b0:211:e812:3948 with SMTP id d9443c01a7336-233f1f1d2edmr19793845ad.0.1747967881054; Thu, 22 May 2025 19:38:01 -0700 (PDT) Received: from postal.iol.unh.edu (postal.iol.unh.edu. [2606:4100:3880:1234::84]) by smtp-relay.gmail.com with ESMTPS id d9443c01a7336-231d4aa6f33sm8071655ad.7.2025.05.22.19.38.00 (version=TLS1_2 cipher=ECDHE-ECDSA-AES128-GCM-SHA256 bits=128/128); Thu, 22 May 2025 19:38:01 -0700 (PDT) X-Relaying-Domain: iol.unh.edu Date: Thu, 22 May 2025 19:38:01 -0700 (PDT) Message-ID: <682fdf89.170a0220.f40ae.aa28SMTPIN_ADDED_MISSING@mx.google.com> Received: from [172.17.0.5] (unknown [172.18.0.74]) by postal.iol.unh.edu (Postfix) with ESMTP id 425616052471; Thu, 22 May 2025 22:38:00 -0400 (EDT) Subject: |SUCCESS| pw153616 [PATCH] [v2] fix eal/linux: unregister alarm call From: dpdklab@iol.unh.edu To: Test Report Cc: dpdk-test-reports@iol.unh.edu In-Reply-To: <20250522155944.65342-1-rui.ferreira1@h-partners.com> References: <20250522155944.65342-1-rui.ferreira1@h-partners.com> Content-Type: text/plain X-BeenThere: test-report@dpdk.org X-Mailman-Version: 2.1.29 Precedence: list List-Id: automatic DPDK test reports List-Unsubscribe: , List-Archive: List-Post: List-Help: List-Subscribe: , Errors-To: test-report-bounces@dpdk.org Test-Label: iol-unit-amd64-testing Test-Status: SUCCESS http://dpdk.org/patch/153616 _Testing PASS_ Submitter: Rui Ferreira Date: Thursday, May 22 2025 15:59:44 DPDK git baseline: Repo:dpdk Branch: master CommitID:117e86c4b96ed761e9a7ab766261208fe81bf5ca 153616 --> testing pass Upstream job id: Generic-Unit-Test-DPDK#340103 Test environment and result as below: +---------------------+----------------+ | Environment | dpdk_unit_test | +=====================+================+ | Fedora 40 | PASS | +---------------------+----------------+ | Fedora 41 (Clang) | PASS | +---------------------+----------------+ | Debian 12 | PASS | +---------------------+----------------+ | CentOS Stream 9 | PASS | +---------------------+----------------+ | Fedora 40 (Clang) | PASS | +---------------------+----------------+ | Ubuntu 20.04 | PASS | +---------------------+----------------+ | Fedora 41 | PASS | +---------------------+----------------+ | CentOS Stream 10 | PASS | +---------------------+----------------+ | Ubuntu 22.04 | PASS | +---------------------+----------------+ | RHEL9 | PASS | +---------------------+----------------+ | RHEL8 | PASS | +---------------------+----------------+ | Ubuntu 24.04 | PASS | +---------------------+----------------+ | Windows Server 2022 | PASS | +---------------------+----------------+ Fedora 40 Kernel: Depends on container host Compiler: gcc 14.2.1 20240912 (Red Hat 14.2.1-3) Fedora 41 (Clang) Kernel: Depends on container host Compiler: clang 19.1.5 (Fedora 19.1.5-1.fc41) Debian 12 Kernel: Depends on container host Compiler: gcc (Debian 12.2.0-14) 12.2.0 CentOS Stream 9 Kernel: Depends on container host Compiler: gcc 11.5.0 20240719 (Red Hat 11.5.0-2) Fedora 40 (Clang) Kernel: Depends on container host Compiler: clang 18.1.8 (Fedora 18.1.8-1.fc40) Ubuntu 20.04 Kernel: Depends on container host Compiler: gcc (Ubuntu 9.4.0-1ubuntu1~20.04.2) 9.4.0 Fedora 41 Kernel: Depends on container host Compiler: gcc 14.2.1 20240912 (Red Hat 14.2.1-3) CentOS Stream 10 Kernel: Depends on container host Compiler: gcc 14.2.1 20241104 (Red Hat 14.2.1-6) Ubuntu 22.04 Kernel: Depends on container host Compiler: gcc (Ubuntu 11.4.0-1ubuntu1~22.04) 11.4.0 RHEL9 Kernel: Depends on container host Compiler: gcc 11.5.0 20240719 (Red Hat 11.5.0-2) RHEL8 Kernel: Depends on container host Compiler: gcc 8.5.0 20210514 (Red Hat 8.5.0-22) Ubuntu 24.04 Kernel: Depends on container host Compiler: gcc (Ubuntu 13.3.0-6ubuntu2~24.04) 13.3.0 Windows Server 2022 Kernel: 10.0.20348.2031 Compiler: clang 15.0.7, gcc 14.1.0 (MinGW), and MSVC VS 19.39.33521 To view detailed results, visit: https://lab.dpdk.org/results/dashboard/patchsets/33236/ UNH-IOL DPDK Community Lab To manage your email subscriptions, visit: https://lab.dpdk.org/results/dashboard/preferences/subscriptions/