From mboxrd@z Thu Jan 1 00:00:00 1970 Return-Path: Received: from mails.dpdk.org (mails.dpdk.org [217.70.189.124]) by inbox.dpdk.org (Postfix) with ESMTP id 14E17467BF for ; Fri, 23 May 2025 04:47:47 +0200 (CEST) Received: from mails.dpdk.org (localhost [127.0.0.1]) by mails.dpdk.org (Postfix) with ESMTP id E9F9040661; Fri, 23 May 2025 04:47:46 +0200 (CEST) Received: from mail-pj1-f97.google.com (mail-pj1-f97.google.com [209.85.216.97]) by mails.dpdk.org (Postfix) with ESMTP id 3D8D140661 for ; Fri, 23 May 2025 04:47:45 +0200 (CEST) Received: by mail-pj1-f97.google.com with SMTP id 98e67ed59e1d1-310ce23a695so1148586a91.3 for ; Thu, 22 May 2025 19:47:45 -0700 (PDT) DKIM-Signature: v=1; a=rsa-sha256; c=relaxed/relaxed; d=iol.unh.edu; s=unh-iol; t=1747968464; x=1748573264; darn=dpdk.org; h=references:in-reply-to:cc:to:from:subject:message-id:date:from:to :cc:subject:date:message-id:reply-to; bh=qaDgYZ6qMLI/DjvIeiK92V4VwCLqNxKy91ree0XoVrU=; b=Ek/Q+q1+Zvv+mjHYq/XYX9JrHaTrZRk0dIYrJ4SoAD6a/g1vALVYyppqy0Fn83kvxM SDixbd+T6a/wB7SynWbmKlZgiOpSafMa496XGUbC/IOWntxBMszRW0PnIu323HwpKyKn mQH7+hKM2oKurJprzBoLPSfP46E7mB6/FcGHM= X-Google-DKIM-Signature: v=1; a=rsa-sha256; c=relaxed/relaxed; d=1e100.net; s=20230601; t=1747968464; x=1748573264; h=references:in-reply-to:cc:to:from:subject:message-id:date :x-gm-message-state:from:to:cc:subject:date:message-id:reply-to; bh=qaDgYZ6qMLI/DjvIeiK92V4VwCLqNxKy91ree0XoVrU=; b=qj54kXyRQYdS38QqppuAbHGsGJlbsqg1vsgh6gmZlvuTC4vf93clMaJzp3aBAYFSIo HNoUbvdVxyl10tnHNQ0eAFOxjHzAAxMLRa7jd5v254ldXgPuHEtEupqpUnjYGRnc7N2E +4WnikPVO5r6GrwXEnuPyPEUy/whNZmW8ZgRbuzIl0upl/eWNCtBjR3IClbNgooI2deh DUJbpqSqq2xT+qSmRRDExxYbsVTh+mwcAopQ9OaPeconbhF41ZApL9PXvMNK6Fxx4paT nj0yhV1cJXO2Mh7ZWfmJi5c2NBAPedK38dLiW4zf37cLOWh0WiK3A1bjjPHo0Yq8R4/0 l24w== X-Gm-Message-State: AOJu0Yyy/apHyv/WAXO6vjNVmHlCQc7F2RrMmqDQPzWdRAl7s44Ae2UY OEmLIBgwXqN0Uvr9xXpopSHVQVOP7o6DLHphCsRhCNibS+RgUrRVqa0FyH81np+BurNlzatGgVm muLcsoQlvPOPkd9MaXrEd5+pm3u7NM+LUUr0642+X1dJQ X-Gm-Gg: ASbGnctFnmva6OgGLQlZFAUxRQQ4owwJ2uQBT5XuU/gHD86ci07iv85kcaVIG59SLQR 7mT3j1mNmHhY9m8Us/y1t5PQS0QE2WkS4dO30ECr4fSPXJM6DTvRdhW9SkYxUEsTxZautDSrUGv GO7ZxS10wMa+o25QChIukrI/JcgoFub76ORdaopM1jVzbpJ7OZ1edXFiCcQtnxAWrE13vIqfMT2 AN0xmq+YCnvZjCLvHyGBmD8xuKOyykOetfnNKUrgJ+1wgDRduZI5Odd29Vr+U6vvRC0C4sTRFDZ A5ruxpNcg1ig+QnrRLAq39og2Yy3P5PGhP61/YFqHnE6PHDg+v00xsKaXx4= X-Google-Smtp-Source: AGHT+IG6vb9uwRfg82fgzgM+57KMHg8m3Tj3ICbyJofoyDPE4Lpl/FJ2+zaDI01GoQCZ1bB5UfHTVkpGG5Qn X-Received: by 2002:a17:90b:3b4e:b0:30e:840a:92e5 with SMTP id 98e67ed59e1d1-310e96c9502mr2327221a91.11.1747968463946; Thu, 22 May 2025 19:47:43 -0700 (PDT) Received: from postal.iol.unh.edu (postal.iol.unh.edu. [132.177.123.84]) by smtp-relay.gmail.com with ESMTPS id 41be03b00d2f7-b26eb0a4319sm443116a12.30.2025.05.22.19.47.43 (version=TLS1_2 cipher=ECDHE-ECDSA-AES128-GCM-SHA256 bits=128/128); Thu, 22 May 2025 19:47:43 -0700 (PDT) X-Relaying-Domain: iol.unh.edu Date: Thu, 22 May 2025 19:47:43 -0700 (PDT) Message-ID: <682fe1cf.050a0220.185371.63bdSMTPIN_ADDED_MISSING@mx.google.com> Received: from [172.17.0.2] (unknown [172.18.0.76]) by postal.iol.unh.edu (Postfix) with ESMTP id 0D2226052471; Thu, 22 May 2025 22:47:43 -0400 (EDT) Subject: |WARNING| pw153617 [PATCH] rcu: add deprecation notice about limit o From: dpdklab@iol.unh.edu To: Test Report Cc: dpdk-test-reports@iol.unh.edu In-Reply-To: <1747957021-2581-1-git-send-email-andremue@linux.microsoft.com> References: <1747957021-2581-1-git-send-email-andremue@linux.microsoft.com> Content-Type: text/plain X-BeenThere: test-report@dpdk.org X-Mailman-Version: 2.1.29 Precedence: list List-Id: automatic DPDK test reports List-Unsubscribe: , List-Archive: List-Post: List-Help: List-Subscribe: , Errors-To: test-report-bounces@dpdk.org Test-Label: iol-compile-amd64-testing Test-Status: WARNING http://dpdk.org/patch/153617 _Testing issues_ Submitter: Andre Muezerie Date: Thursday, May 22 2025 23:37:01 DPDK git baseline: Repo:dpdk Branch: master CommitID:117e86c4b96ed761e9a7ab766261208fe81bf5ca 153617 --> testing issues Upstream job id: Generic-DPDK-Compile-Meson#390627 Test environment and result as below: +-----------------------------------+--------------------+-------------------+------------------+-------------------------+-------------------+----------------------+ | Environment | dpdk_meson_compile | dpdk_compile_spdk | dpdk_compile_ovs | dpdk_llvm_clang_compile | dpdk_msvc_compile | dpdk_mingw64_compile | +===================================+====================+===================+==================+=========================+===================+======================+ | CentOS Stream 9 | PASS | PASS | SKIPPED | SKIPPED | SKIPPED | SKIPPED | +-----------------------------------+--------------------+-------------------+------------------+-------------------------+-------------------+----------------------+ | CentOS Stream 10 | PASS | SKIPPED | SKIPPED | SKIPPED | SKIPPED | SKIPPED | +-----------------------------------+--------------------+-------------------+------------------+-------------------------+-------------------+----------------------+ | Debian 12 | PASS | PASS | SKIPPED | SKIPPED | SKIPPED | SKIPPED | +-----------------------------------+--------------------+-------------------+------------------+-------------------------+-------------------+----------------------+ | Fedora 40 | PASS | PASS | SKIPPED | SKIPPED | SKIPPED | SKIPPED | +-----------------------------------+--------------------+-------------------+------------------+-------------------------+-------------------+----------------------+ | Fedora 41 (Clang) | PASS | WARN | PASS | SKIPPED | SKIPPED | SKIPPED | +-----------------------------------+--------------------+-------------------+------------------+-------------------------+-------------------+----------------------+ | Fedora 41 | PASS | PASS | PASS | SKIPPED | SKIPPED | SKIPPED | +-----------------------------------+--------------------+-------------------+------------------+-------------------------+-------------------+----------------------+ | openSUSE Leap 15 | PASS | SKIPPED | SKIPPED | SKIPPED | SKIPPED | SKIPPED | +-----------------------------------+--------------------+-------------------+------------------+-------------------------+-------------------+----------------------+ | RHEL8 | PASS | SKIPPED | SKIPPED | SKIPPED | SKIPPED | SKIPPED | +-----------------------------------+--------------------+-------------------+------------------+-------------------------+-------------------+----------------------+ | Ubuntu 20.04 | PASS | SKIPPED | SKIPPED | SKIPPED | SKIPPED | SKIPPED | +-----------------------------------+--------------------+-------------------+------------------+-------------------------+-------------------+----------------------+ | Ubuntu 22.04 | PASS | PASS | SKIPPED | SKIPPED | SKIPPED | SKIPPED | +-----------------------------------+--------------------+-------------------+------------------+-------------------------+-------------------+----------------------+ | Ubuntu 24.04 | PASS | PASS | PASS | SKIPPED | SKIPPED | SKIPPED | +-----------------------------------+--------------------+-------------------+------------------+-------------------------+-------------------+----------------------+ | Alpine | PASS | SKIPPED | SKIPPED | SKIPPED | SKIPPED | SKIPPED | +-----------------------------------+--------------------+-------------------+------------------+-------------------------+-------------------+----------------------+ | Ubuntu 24.04 32 Bit Cross Compile | PASS | SKIPPED | SKIPPED | SKIPPED | SKIPPED | SKIPPED | +-----------------------------------+--------------------+-------------------+------------------+-------------------------+-------------------+----------------------+ | FreeBSD 14.2 | PASS | SKIPPED | SKIPPED | SKIPPED | SKIPPED | SKIPPED | +-----------------------------------+--------------------+-------------------+------------------+-------------------------+-------------------+----------------------+ | Fedora 40 (Clang) | PASS | WARN | SKIPPED | SKIPPED | SKIPPED | SKIPPED | +-----------------------------------+--------------------+-------------------+------------------+-------------------------+-------------------+----------------------+ | RHEL9 | PASS | SKIPPED | SKIPPED | SKIPPED | SKIPPED | SKIPPED | +-----------------------------------+--------------------+-------------------+------------------+-------------------------+-------------------+----------------------+ | Windows Server 2022 | SKIPPED | SKIPPED | SKIPPED | PASS | PASS | PASS | +-----------------------------------+--------------------+-------------------+------------------+-------------------------+-------------------+----------------------+ ==== 20 line log output for Fedora 40 (Clang) (dpdk_compile_spdk): ==== --- Failed to get log output --- ==== End log output ==== CentOS Stream 9 Kernel: Depends on container host Compiler: gcc 11.5.0 20240719 (Red Hat 11.5.0-2) CentOS Stream 10 Kernel: Depends on container host Compiler: gcc 14.2.1 20241104 (Red Hat 14.2.1-6) Debian 12 Kernel: Depends on container host Compiler: gcc (Debian 12.2.0-14) 12.2.0 Fedora 40 Kernel: Depends on container host Compiler: gcc 14.2.1 20240912 (Red Hat 14.2.1-3) Fedora 41 (Clang) Kernel: Depends on container host Compiler: clang 19.1.5 (Fedora 19.1.5-1.fc41) Fedora 41 Kernel: Depends on container host Compiler: gcc 14.2.1 20240912 (Red Hat 14.2.1-3) openSUSE Leap 15 Kernel: Depends on container host Compiler: gcc (SUSE Linux) 7.5.0 RHEL8 Kernel: Depends on container host Compiler: gcc 8.5.0 20210514 (Red Hat 8.5.0-22) Ubuntu 20.04 Kernel: Depends on container host Compiler: gcc (Ubuntu 9.4.0-1ubuntu1~20.04.2) 9.4.0 Ubuntu 22.04 Kernel: Depends on container host Compiler: gcc (Ubuntu 11.4.0-1ubuntu1~22.04) 11.4.0 Ubuntu 24.04 Kernel: Depends on container host Compiler: gcc (Ubuntu 13.3.0-6ubuntu2~24.04) 13.3.0 Alpine Kernel: Depends on container host Compiler: gcc (Alpine 14.2.0) 14.2.0 Ubuntu 24.04 32 Bit Cross Compile Kernel: Depends on container host Compiler: gcc (Ubuntu 13.3.0-6ubuntu2~24.04) 13.3.0 FreeBSD 14.2 Kernel: 14.2-RELEASE Compiler: clang 18.1.6 Fedora 40 (Clang) Kernel: Depends on container host Compiler: clang 18.1.8 (Fedora 18.1.8-1.fc40) RHEL9 Kernel: Depends on container host Compiler: gcc 11.5.0 20240719 (Red Hat 11.5.0-2) Windows Server 2022 Kernel: 10.0.20348.2031 Compiler: clang 15.0.7, gcc 14.1.0 (MinGW), and MSVC VS 19.39.33521 To view detailed results, visit: https://lab.dpdk.org/results/dashboard/patchsets/33237/ UNH-IOL DPDK Community Lab To manage your email subscriptions, visit: https://lab.dpdk.org/results/dashboard/preferences/subscriptions/