From mboxrd@z Thu Jan 1 00:00:00 1970 Return-Path: Received: from mails.dpdk.org (mails.dpdk.org [217.70.189.124]) by inbox.dpdk.org (Postfix) with ESMTP id 3A8D6467BF for ; Fri, 23 May 2025 04:49:28 +0200 (CEST) Received: from mails.dpdk.org (localhost [127.0.0.1]) by mails.dpdk.org (Postfix) with ESMTP id 2492740661; Fri, 23 May 2025 04:49:28 +0200 (CEST) Received: from mail-pg1-f228.google.com (mail-pg1-f228.google.com [209.85.215.228]) by mails.dpdk.org (Postfix) with ESMTP id 2E58E40661 for ; Fri, 23 May 2025 04:49:26 +0200 (CEST) Received: by mail-pg1-f228.google.com with SMTP id 41be03b00d2f7-879d2e419b9so7302326a12.2 for ; Thu, 22 May 2025 19:49:26 -0700 (PDT) DKIM-Signature: v=1; a=rsa-sha256; c=relaxed/relaxed; d=iol.unh.edu; s=unh-iol; t=1747968565; x=1748573365; darn=dpdk.org; h=references:in-reply-to:cc:to:from:subject:message-id:date:from:to :cc:subject:date:message-id:reply-to; bh=b6oHEAQN2Qe0ZiFoFtVcIEpACv+7FUWMjxkgYoaHCzA=; b=DeDoq+skojPMcqT1leMV1Gzp3PzORuC89ziXowJFlYDBlCoFSRL4mbLhWP/7UkWNQW MbUrkDnYFqfI7HA5MSg4bNbyfB9RtUQ5XMekeY/0OpqUCGWz3nUukqhXi+Ef3fDP5qLG ddBbOgHIr077DKykU/HObu3SnANxOqG75Vmnk= X-Google-DKIM-Signature: v=1; a=rsa-sha256; c=relaxed/relaxed; d=1e100.net; s=20230601; t=1747968565; x=1748573365; h=references:in-reply-to:cc:to:from:subject:message-id:date :x-gm-message-state:from:to:cc:subject:date:message-id:reply-to; bh=b6oHEAQN2Qe0ZiFoFtVcIEpACv+7FUWMjxkgYoaHCzA=; b=W/cDzCDQ7s/lq8X9EIS3uefZn7TUuumYtpCXvV+jOfBRukyceMh4NYoZlD2WU3JEAc vTLKyMak80QVDV2fjVypRm5rBP2uH0iaKYbEzddPkKpdqGnbTjxeg965S8e4HDF6+G3Z dIY380alHuTs5pISIWGa07UkXxLMayY42OX8c2HBwwROtdQG5hDgunbizd1n1Gb7/21x +NvPAFVBr5Nuflkf/+AOZxtJjs+zYBLT96EobeRSNd8qNbquIZIHTBtocLSycea0M/48 EPQv4IztTFtN/QFj2LZbCZ3KyHlgBJ3d/YAkdY9np6IvaT0Du+l/HmgbY6Ntb1VPI8Fo wEPw== X-Gm-Message-State: AOJu0YwCfs66QuFZtfGbdmV0NWbrUn1AWFBimeFgtsR3NvtMxp2e1G+2 MrEcbtYeIlz81/m5upuxdrXRK8dInOmljq7+jMt4i7DZsjbHSfQXqNo0rF12sUHuc35CsN81Rjb oWZjbwjLjuSm+tmlXs81W0QSEgOenAQIaMFfQLBfo6dtfsmvLfbUUwR0Ge5uE X-Gm-Gg: ASbGnctmMSLDt8HmDz2IuXdhthEt3wARd6gOd3/lM/t+Q5xXrxmcYHjuO3OvI+eMyMe mOOxMVwYePmSoaR6qtESyBl9GAPwL28dZLP6vXh+7lmAfqYp7KsR0gaab/6ABlP0ki44b/6D1xO ZsJwryECf9n/0J1mMEpqSnOD3SQFZusa9/oqRguX7o5UrWBe4zBnlCD8xc9rbzJQBgbuYChDbCo jJfQXNNkstMMW/+OkNvA6SYbIwLNNFTcj4vmQvNZc9iQFtTjaAlrlsxelXiHhlCxf0exp7wMdWp pC6qiwD6vPqb5SJKGRjfyTIRGupcCCZhvHvv X-Google-Smtp-Source: AGHT+IFQizv9OxvxBCyKOhUyaYvJd/78jitxP2ysKQUvg1cW5/vw9zj6kUgdkbijAcr4XC1J2sdx9/c8U9yF X-Received: by 2002:a17:903:3d0f:b0:231:7e15:f7a with SMTP id d9443c01a7336-231d453469cmr345887345ad.27.1747968565105; Thu, 22 May 2025 19:49:25 -0700 (PDT) Received: from postal.iol.unh.edu (postal.iol.unh.edu. [2606:4100:3880:1234::84]) by smtp-relay.gmail.com with ESMTPS id d9443c01a7336-231d4abe931sm7740615ad.38.2025.05.22.19.49.24 (version=TLS1_2 cipher=ECDHE-ECDSA-AES128-GCM-SHA256 bits=128/128); Thu, 22 May 2025 19:49:25 -0700 (PDT) X-Relaying-Domain: iol.unh.edu Date: Thu, 22 May 2025 19:49:25 -0700 (PDT) Message-ID: <682fe235.170a0220.78ceb.ae51SMTPIN_ADDED_MISSING@mx.google.com> Received: from [172.17.0.2] (unknown [172.18.0.76]) by postal.iol.unh.edu (Postfix) with ESMTP id 8F0DF6052471; Thu, 22 May 2025 22:49:24 -0400 (EDT) Subject: |SUCCESS| pw153616 [PATCH] [v2] fix eal/linux: unregister alarm call From: dpdklab@iol.unh.edu To: Test Report Cc: dpdk-test-reports@iol.unh.edu In-Reply-To: <20250522155944.65342-1-rui.ferreira1@h-partners.com> References: <20250522155944.65342-1-rui.ferreira1@h-partners.com> Content-Type: text/plain X-BeenThere: test-report@dpdk.org X-Mailman-Version: 2.1.29 Precedence: list List-Id: automatic DPDK test reports List-Unsubscribe: , List-Archive: List-Post: List-Help: List-Subscribe: , Errors-To: test-report-bounces@dpdk.org Test-Label: iol-abi-testing Test-Status: SUCCESS http://dpdk.org/patch/153616 _Testing PASS_ Submitter: Rui Ferreira Date: Thursday, May 22 2025 15:59:44 DPDK git baseline: Repo:dpdk Branch: master CommitID:117e86c4b96ed761e9a7ab766261208fe81bf5ca 153616 --> testing pass Upstream job id: Generic-DPDK-Compile-ABI#127393 Test environment and result as below: +-------------------+----------+ | Environment | abi_test | +===================+==========+ | Debian 12 | PASS | +-------------------+----------+ | CentOS Stream 10 | PASS | +-------------------+----------+ | CentOS Stream 9 | PASS | +-------------------+----------+ | Ubuntu 24.04 | PASS | +-------------------+----------+ | Fedora 40 (Clang) | PASS | +-------------------+----------+ | Fedora 41 | PASS | +-------------------+----------+ | Fedora 40 | PASS | +-------------------+----------+ | openSUSE Leap 15 | PASS | +-------------------+----------+ | Fedora 41 (Clang) | PASS | +-------------------+----------+ | Ubuntu 22.04 | PASS | +-------------------+----------+ | RHEL8 | PASS | +-------------------+----------+ | RHEL9 | PASS | +-------------------+----------+ Debian 12 Kernel: Depends on container host Compiler: gcc (Debian 12.2.0-14) 12.2.0 CentOS Stream 10 Kernel: Depends on container host Compiler: gcc 14.2.1 20241104 (Red Hat 14.2.1-6) CentOS Stream 9 Kernel: Depends on container host Compiler: gcc 11.5.0 20240719 (Red Hat 11.5.0-2) Ubuntu 24.04 Kernel: Depends on container host Compiler: gcc (Ubuntu 13.3.0-6ubuntu2~24.04) 13.3.0 Fedora 40 (Clang) Kernel: Depends on container host Compiler: clang 18.1.8 (Fedora 18.1.8-1.fc40) Fedora 41 Kernel: Depends on container host Compiler: gcc 14.2.1 20240912 (Red Hat 14.2.1-3) Fedora 40 Kernel: Depends on container host Compiler: gcc 14.2.1 20240912 (Red Hat 14.2.1-3) openSUSE Leap 15 Kernel: Depends on container host Compiler: gcc (SUSE Linux) 7.5.0 Fedora 41 (Clang) Kernel: Depends on container host Compiler: clang 19.1.5 (Fedora 19.1.5-1.fc41) Ubuntu 22.04 Kernel: Depends on container host Compiler: gcc (Ubuntu 11.4.0-1ubuntu1~22.04) 11.4.0 RHEL8 Kernel: Depends on container host Compiler: gcc 8.5.0 20210514 (Red Hat 8.5.0-22) RHEL9 Kernel: Depends on container host Compiler: gcc 11.5.0 20240719 (Red Hat 11.5.0-2) To view detailed results, visit: https://lab.dpdk.org/results/dashboard/patchsets/33236/ UNH-IOL DPDK Community Lab To manage your email subscriptions, visit: https://lab.dpdk.org/results/dashboard/preferences/subscriptions/