From mboxrd@z Thu Jan 1 00:00:00 1970 Return-Path: Received: from mails.dpdk.org (mails.dpdk.org [217.70.189.124]) by inbox.dpdk.org (Postfix) with ESMTP id 5354F467BF for ; Fri, 23 May 2025 04:50:03 +0200 (CEST) Received: from mails.dpdk.org (localhost [127.0.0.1]) by mails.dpdk.org (Postfix) with ESMTP id 4674240661; Fri, 23 May 2025 04:50:03 +0200 (CEST) Received: from mail-yb1-f228.google.com (mail-yb1-f228.google.com [209.85.219.228]) by mails.dpdk.org (Postfix) with ESMTP id 269D040661 for ; Fri, 23 May 2025 04:50:02 +0200 (CEST) Received: by mail-yb1-f228.google.com with SMTP id 3f1490d57ef6-e7d5d7b99c3so2429799276.3 for ; Thu, 22 May 2025 19:50:02 -0700 (PDT) DKIM-Signature: v=1; a=rsa-sha256; c=relaxed/relaxed; d=iol.unh.edu; s=unh-iol; t=1747968601; x=1748573401; darn=dpdk.org; h=references:in-reply-to:cc:to:from:subject:message-id:date:from:to :cc:subject:date:message-id:reply-to; bh=xN36YJCH4EEi1547xhcDeCFYOl1a2ofm0BmNqUdOb5Y=; b=J7MpnCGa7ldc4gs1vv17up5lvvWw0R/YRfgyA+L1xpY8WtLLtgsM2yqoRkAhjUwmEO ejJZQXPRxpvA6KPyXJiKGsMAuix0uRg5kL8/TEZE2REGDnCxhKIfBBuhO8+IeFS+ByUu ZPcbF2LzRAI03plS/pdQx1Dkn0VCMJiMqg4sk= X-Google-DKIM-Signature: v=1; a=rsa-sha256; c=relaxed/relaxed; d=1e100.net; s=20230601; t=1747968601; x=1748573401; h=references:in-reply-to:cc:to:from:subject:message-id:date :x-gm-message-state:from:to:cc:subject:date:message-id:reply-to; bh=xN36YJCH4EEi1547xhcDeCFYOl1a2ofm0BmNqUdOb5Y=; b=Dm1vEOJKwGIzwOWV28Rg5LFbdRM5zV7u48yLm+zBEzUHdNcRT1+Fd1w7MTj1Lwq3U9 0b3XnEQHyC6Vo8ZxezkzyymtX1rilBy0sUDqlSXn7CU4nifh/4oDYm+L+dYRJAELA4qu A0+PrWLpwVm5v8Q2MAMFX5f2gs/ZhWy8Rqt20g9wfcrr5VbsNvS+g4+S3677W5rmob8z YcUUv6zyGVoGXb5jjNeRpIXxhn9iQJBm9I/Jt0O4VWbllC85J6EryshFdfpZJQgh1c9s 0WisAbIsltrgDD7nX/uN8VztmDg6kWJjZQgJ6UQ7WzpBMBYuUAcgNNwx7kNVuaSrQcB4 8sLA== X-Gm-Message-State: AOJu0YzTie1+3yKKjta/a2u8D+rsk0fe3xNMIJ4rAa5p4kcbMOehp10/ CACYtkcxw5CXL8wof5jITxVH+yYKYpZBOhDWpzbfDGB/n7tzoH7A/04PrUT3oTyId6Ji/sJvOil /Vqn2PD7/yQb5ec5F4suT+UunFAx4sGQmQ9+cgkVW3xq2 X-Gm-Gg: ASbGncu+qM/Mijow+3QwOrs7VITtpjgN4boGuN98enll2TISkQnYd5GWpFmx8vqnHbw H45XUDIM4eu15Mk6A95Vd/CpenpR6K/OVcPJkrAkCqb6Iq0VC7eOO/SpMNpDB3N09ZGa2ddQolw WLpq+H685Ipj6xGzhQJmm/qjYWlB9dCAXTnJREvnA/W3i4TfpIVz9bbEKl/4q276UWdyMhleoq+ dYRgD2Q5qXrxVHWj3kPdl56YtNhe3Ud2JgtTJqtMUuwmN7K1dqPE1rHJQlbYzMM7cbp6bmXWEP5 qnq0gNgybEfqMkggATf70mWc1XazQpai6GwFEDb+037aos8OEax3Xhi5PdU= X-Google-Smtp-Source: AGHT+IFbSNPFlcJp8TwxLxXhC13hQn14Ewc0+Ic6CQO524ieu8kW8ZOukvTo4Vyo4na+lD3lj53zg0K9or8B X-Received: by 2002:a05:690c:698c:b0:70d:ecdd:9bd2 with SMTP id 00721157ae682-70decdda00cmr171579097b3.31.1747968601355; Thu, 22 May 2025 19:50:01 -0700 (PDT) Received: from postal.iol.unh.edu (postal.iol.unh.edu. [132.177.123.84]) by smtp-relay.gmail.com with ESMTPS id 00721157ae682-70ca82ff0d7sm5993337b3.8.2025.05.22.19.50.01 (version=TLS1_2 cipher=ECDHE-ECDSA-AES128-GCM-SHA256 bits=128/128); Thu, 22 May 2025 19:50:01 -0700 (PDT) X-Relaying-Domain: iol.unh.edu Date: Thu, 22 May 2025 19:50:01 -0700 (PDT) Message-ID: <682fe259.810a0220.2a95b4.1670SMTPIN_ADDED_MISSING@mx.google.com> Received: from [172.17.0.2] (unknown [172.18.0.76]) by postal.iol.unh.edu (Postfix) with ESMTP id 058946052471; Thu, 22 May 2025 22:50:01 -0400 (EDT) Subject: |SUCCESS| pw153617 [PATCH] rcu: add deprecation notice about limit o From: dpdklab@iol.unh.edu To: Test Report Cc: dpdk-test-reports@iol.unh.edu In-Reply-To: <1747957021-2581-1-git-send-email-andremue@linux.microsoft.com> References: <1747957021-2581-1-git-send-email-andremue@linux.microsoft.com> Content-Type: text/plain X-BeenThere: test-report@dpdk.org X-Mailman-Version: 2.1.29 Precedence: list List-Id: automatic DPDK test reports List-Unsubscribe: , List-Archive: List-Post: List-Help: List-Subscribe: , Errors-To: test-report-bounces@dpdk.org Test-Label: iol-abi-testing Test-Status: SUCCESS http://dpdk.org/patch/153617 _Testing PASS_ Submitter: Andre Muezerie Date: Thursday, May 22 2025 23:37:01 DPDK git baseline: Repo:dpdk Branch: master CommitID:117e86c4b96ed761e9a7ab766261208fe81bf5ca 153617 --> testing pass Upstream job id: Generic-DPDK-Compile-ABI#127386 Test environment and result as below: +-------------------+----------+ | Environment | abi_test | +===================+==========+ | CentOS Stream 10 | PASS | +-------------------+----------+ | CentOS Stream 9 | PASS | +-------------------+----------+ | Debian 12 | PASS | +-------------------+----------+ | Fedora 40 (Clang) | PASS | +-------------------+----------+ | openSUSE Leap 15 | PASS | +-------------------+----------+ | Fedora 40 | PASS | +-------------------+----------+ | Fedora 41 (Clang) | PASS | +-------------------+----------+ | Fedora 41 | PASS | +-------------------+----------+ | RHEL8 | PASS | +-------------------+----------+ | Ubuntu 22.04 | PASS | +-------------------+----------+ | Ubuntu 24.04 | PASS | +-------------------+----------+ | RHEL9 | PASS | +-------------------+----------+ CentOS Stream 10 Kernel: Depends on container host Compiler: gcc 14.2.1 20241104 (Red Hat 14.2.1-6) CentOS Stream 9 Kernel: Depends on container host Compiler: gcc 11.5.0 20240719 (Red Hat 11.5.0-2) Debian 12 Kernel: Depends on container host Compiler: gcc (Debian 12.2.0-14) 12.2.0 Fedora 40 (Clang) Kernel: Depends on container host Compiler: clang 18.1.8 (Fedora 18.1.8-1.fc40) openSUSE Leap 15 Kernel: Depends on container host Compiler: gcc (SUSE Linux) 7.5.0 Fedora 40 Kernel: Depends on container host Compiler: gcc 14.2.1 20240912 (Red Hat 14.2.1-3) Fedora 41 (Clang) Kernel: Depends on container host Compiler: clang 19.1.5 (Fedora 19.1.5-1.fc41) Fedora 41 Kernel: Depends on container host Compiler: gcc 14.2.1 20240912 (Red Hat 14.2.1-3) RHEL8 Kernel: Depends on container host Compiler: gcc 8.5.0 20210514 (Red Hat 8.5.0-22) Ubuntu 22.04 Kernel: Depends on container host Compiler: gcc (Ubuntu 11.4.0-1ubuntu1~22.04) 11.4.0 Ubuntu 24.04 Kernel: Depends on container host Compiler: gcc (Ubuntu 13.3.0-6ubuntu2~24.04) 13.3.0 RHEL9 Kernel: Depends on container host Compiler: gcc 11.5.0 20240719 (Red Hat 11.5.0-2) To view detailed results, visit: https://lab.dpdk.org/results/dashboard/patchsets/33237/ UNH-IOL DPDK Community Lab To manage your email subscriptions, visit: https://lab.dpdk.org/results/dashboard/preferences/subscriptions/