From mboxrd@z Thu Jan 1 00:00:00 1970 Return-Path: Received: from mails.dpdk.org (mails.dpdk.org [217.70.189.124]) by inbox.dpdk.org (Postfix) with ESMTP id 01BA6467BF for ; Fri, 23 May 2025 04:55:33 +0200 (CEST) Received: from mails.dpdk.org (localhost [127.0.0.1]) by mails.dpdk.org (Postfix) with ESMTP id C1E4440661; Fri, 23 May 2025 04:55:33 +0200 (CEST) Received: from mail-pf1-f225.google.com (mail-pf1-f225.google.com [209.85.210.225]) by mails.dpdk.org (Postfix) with ESMTP id F0F4B40661 for ; Fri, 23 May 2025 04:55:31 +0200 (CEST) Received: by mail-pf1-f225.google.com with SMTP id d2e1a72fcca58-7376dd56f8fso9852983b3a.2 for ; Thu, 22 May 2025 19:55:31 -0700 (PDT) DKIM-Signature: v=1; a=rsa-sha256; c=relaxed/relaxed; d=iol.unh.edu; s=unh-iol; t=1747968931; x=1748573731; darn=dpdk.org; h=references:in-reply-to:cc:to:from:subject:message-id:date:from:to :cc:subject:date:message-id:reply-to; bh=Vgo6SYWAS5T7o4UNXa84nAgzjOWNBAfUs5Tn+c53pIY=; b=M3+XNkEzYtn1M4hAMGdNqsxriFLDxVxxhwnoKz91kCL8Z9Qevbn6wDCXWK2Wqt/+// dAkZOouTcNIdf4+oBoThql2VYEYRMT+RqhgRsioYhiHpKeeIZk9Lsel902oid3V8wHLC K7/5K47Rbcg7+Ibl7Vknlkn3dBOdBZlQV4dLo= X-Google-DKIM-Signature: v=1; a=rsa-sha256; c=relaxed/relaxed; d=1e100.net; s=20230601; t=1747968931; x=1748573731; h=references:in-reply-to:cc:to:from:subject:message-id:date :x-gm-message-state:from:to:cc:subject:date:message-id:reply-to; bh=Vgo6SYWAS5T7o4UNXa84nAgzjOWNBAfUs5Tn+c53pIY=; b=l2mbJUmVFxGw51rKwAJ7xfq18viXX0gHc1Gx3ogflNTsC4luJceIs2CaGeIK60BJLf VENh7+kYD6dJi+HRfrgxdvA5RxKoFCqfeE5wX2K3o4tt6rFYoPWERsBPDpGb5yk3N4r5 VmuROXjyO8Tsxgjye277H9z8WqsP2NjdorHzkY1fBJDgL2vyA9mvKwJvCz5xre0pqdmP ukV6IK+SUHNbPQadj9DgN+HzOVnLI0CQXvty4rm4N0MLKZsJyuGUiNZqDB4Y+3SrzysP xO2AyhRCS283YLlgdWX9bnop1xwwJPzr2hcr8+Iv9Mvgw2m1vpfkZWbVqtM0axADRkuD SWbQ== X-Gm-Message-State: AOJu0Ywi+xGyRxBzWFN4MsZ353nIBmrlD7paSODKPc7ykTmmEVqOTamM vt91z9rb373iqB8H6yH9cC5Sumxo9dEnwVCj4ySWVszJWBjs6Ejuipcx2Lp6v+7qkSGK6/IYi6e 9EEOr7zgt97MpG7JCaSNwkGM76sb9CKtIzxw6ZhO7qGrc X-Gm-Gg: ASbGncsvNwMnAOQ2hZlmn9XWqKhX0Q5fPUE96Ko9ylDeom6VIXmyzh+Jy/A6W3qq1F8 6lFVUso0k+4KmFMctqe6Di//ZfsMLSSdyHfkqJ8Z5h/rkCDRjZ6DiDUs2pxIhkK5y4ErK0yQHmM SZEhPEftzuHdDpp0hTPdNqJ4dwG1YSA4QW+kBQagv/7p4TCX9k9ERJ7F+waB7A6mDkbso/fNI2C fRwViWbinGPdOTeOdJ3vXZI/Ushj9xmJiEO72bSThuDN8g2WNQXuiAVqkUw6Sm5CNFVTZ4PEu0t TJj9jyQtyHGSTDw636qQ9VLoyZxDndZ841vZEI+ZQFQTJj0mGxQgGitZTI8= X-Google-Smtp-Source: AGHT+IEhRf2wzSHf9CUjiJbR+dETvgW+LH+XlFGl8YystlUUk9NqMMU8n4UuwlEDIFz899woGsZ5YmkUel3Z X-Received: by 2002:a05:6a00:894:b0:740:a921:f6de with SMTP id d2e1a72fcca58-742a98e9c0cmr37121655b3a.23.1747968930786; Thu, 22 May 2025 19:55:30 -0700 (PDT) Received: from postal.iol.unh.edu (postal.iol.unh.edu. [132.177.123.84]) by smtp-relay.gmail.com with ESMTPS id d2e1a72fcca58-742a984c557sm909845b3a.19.2025.05.22.19.55.30 (version=TLS1_2 cipher=ECDHE-ECDSA-AES128-GCM-SHA256 bits=128/128); Thu, 22 May 2025 19:55:30 -0700 (PDT) X-Relaying-Domain: iol.unh.edu Date: Thu, 22 May 2025 19:55:30 -0700 (PDT) Message-ID: <682fe3a2.050a0220.30db32.f92bSMTPIN_ADDED_MISSING@mx.google.com> Received: from [172.17.0.2] (unknown [172.18.0.76]) by postal.iol.unh.edu (Postfix) with ESMTP id DCCF36052471; Thu, 22 May 2025 22:55:29 -0400 (EDT) Subject: |WARNING| pw153616 [PATCH] [v2] fix eal/linux: unregister alarm call From: dpdklab@iol.unh.edu To: Test Report Cc: dpdk-test-reports@iol.unh.edu In-Reply-To: <20250522155944.65342-1-rui.ferreira1@h-partners.com> References: <20250522155944.65342-1-rui.ferreira1@h-partners.com> Content-Type: text/plain X-BeenThere: test-report@dpdk.org X-Mailman-Version: 2.1.29 Precedence: list List-Id: automatic DPDK test reports List-Unsubscribe: , List-Archive: List-Post: List-Help: List-Subscribe: , Errors-To: test-report-bounces@dpdk.org Test-Label: iol-compile-amd64-testing Test-Status: WARNING http://dpdk.org/patch/153616 _Testing issues_ Submitter: Rui Ferreira Date: Thursday, May 22 2025 15:59:44 DPDK git baseline: Repo:dpdk Branch: master CommitID:117e86c4b96ed761e9a7ab766261208fe81bf5ca 153616 --> testing issues Upstream job id: Generic-DPDK-Compile-Meson#390683 Test environment and result as below: +-----------------------------------+--------------------+-------------------+------------------+-------------------+-------------------------+----------------------+ | Environment | dpdk_meson_compile | dpdk_compile_spdk | dpdk_compile_ovs | dpdk_msvc_compile | dpdk_llvm_clang_compile | dpdk_mingw64_compile | +===================================+====================+===================+==================+===================+=========================+======================+ | CentOS Stream 9 | PASS | PASS | SKIPPED | SKIPPED | SKIPPED | SKIPPED | +-----------------------------------+--------------------+-------------------+------------------+-------------------+-------------------------+----------------------+ | CentOS Stream 10 | PASS | SKIPPED | SKIPPED | SKIPPED | SKIPPED | SKIPPED | +-----------------------------------+--------------------+-------------------+------------------+-------------------+-------------------------+----------------------+ | Debian 12 | PASS | PASS | SKIPPED | SKIPPED | SKIPPED | SKIPPED | +-----------------------------------+--------------------+-------------------+------------------+-------------------+-------------------------+----------------------+ | openSUSE Leap 15 | PASS | SKIPPED | SKIPPED | SKIPPED | SKIPPED | SKIPPED | +-----------------------------------+--------------------+-------------------+------------------+-------------------+-------------------------+----------------------+ | Fedora 41 (Clang) | PASS | WARN | PASS | SKIPPED | SKIPPED | SKIPPED | +-----------------------------------+--------------------+-------------------+------------------+-------------------+-------------------------+----------------------+ | Fedora 40 (Clang) | PASS | WARN | SKIPPED | SKIPPED | SKIPPED | SKIPPED | +-----------------------------------+--------------------+-------------------+------------------+-------------------+-------------------------+----------------------+ | RHEL8 | PASS | SKIPPED | SKIPPED | SKIPPED | SKIPPED | SKIPPED | +-----------------------------------+--------------------+-------------------+------------------+-------------------+-------------------------+----------------------+ | Fedora 40 | PASS | PASS | SKIPPED | SKIPPED | SKIPPED | SKIPPED | +-----------------------------------+--------------------+-------------------+------------------+-------------------+-------------------------+----------------------+ | Fedora 41 | PASS | PASS | PASS | SKIPPED | SKIPPED | SKIPPED | +-----------------------------------+--------------------+-------------------+------------------+-------------------+-------------------------+----------------------+ | Ubuntu 20.04 | PASS | SKIPPED | SKIPPED | SKIPPED | SKIPPED | SKIPPED | +-----------------------------------+--------------------+-------------------+------------------+-------------------+-------------------------+----------------------+ | Ubuntu 22.04 | PASS | PASS | SKIPPED | SKIPPED | SKIPPED | SKIPPED | +-----------------------------------+--------------------+-------------------+------------------+-------------------+-------------------------+----------------------+ | Ubuntu 24.04 | PASS | PASS | PASS | SKIPPED | SKIPPED | SKIPPED | +-----------------------------------+--------------------+-------------------+------------------+-------------------+-------------------------+----------------------+ | Ubuntu 24.04 32 Bit Cross Compile | PASS | SKIPPED | SKIPPED | SKIPPED | SKIPPED | SKIPPED | +-----------------------------------+--------------------+-------------------+------------------+-------------------+-------------------------+----------------------+ | Alpine | PASS | SKIPPED | SKIPPED | SKIPPED | SKIPPED | SKIPPED | +-----------------------------------+--------------------+-------------------+------------------+-------------------+-------------------------+----------------------+ | FreeBSD 14.2 | PASS | SKIPPED | SKIPPED | SKIPPED | SKIPPED | SKIPPED | +-----------------------------------+--------------------+-------------------+------------------+-------------------+-------------------------+----------------------+ | RHEL9 | PASS | SKIPPED | SKIPPED | SKIPPED | SKIPPED | SKIPPED | +-----------------------------------+--------------------+-------------------+------------------+-------------------+-------------------------+----------------------+ | Windows Server 2022 | SKIPPED | SKIPPED | SKIPPED | PASS | PASS | PASS | +-----------------------------------+--------------------+-------------------+------------------+-------------------+-------------------------+----------------------+ ==== 20 line log output for Fedora 40 (Clang) (dpdk_compile_spdk): ==== --- Failed to get log output --- ==== End log output ==== CentOS Stream 9 Kernel: Depends on container host Compiler: gcc 11.5.0 20240719 (Red Hat 11.5.0-2) CentOS Stream 10 Kernel: Depends on container host Compiler: gcc 14.2.1 20241104 (Red Hat 14.2.1-6) Debian 12 Kernel: Depends on container host Compiler: gcc (Debian 12.2.0-14) 12.2.0 openSUSE Leap 15 Kernel: Depends on container host Compiler: gcc (SUSE Linux) 7.5.0 Fedora 41 (Clang) Kernel: Depends on container host Compiler: clang 19.1.5 (Fedora 19.1.5-1.fc41) Fedora 40 (Clang) Kernel: Depends on container host Compiler: clang 18.1.8 (Fedora 18.1.8-1.fc40) RHEL8 Kernel: Depends on container host Compiler: gcc 8.5.0 20210514 (Red Hat 8.5.0-22) Fedora 40 Kernel: Depends on container host Compiler: gcc 14.2.1 20240912 (Red Hat 14.2.1-3) Fedora 41 Kernel: Depends on container host Compiler: gcc 14.2.1 20240912 (Red Hat 14.2.1-3) Ubuntu 20.04 Kernel: Depends on container host Compiler: gcc (Ubuntu 9.4.0-1ubuntu1~20.04.2) 9.4.0 Ubuntu 22.04 Kernel: Depends on container host Compiler: gcc (Ubuntu 11.4.0-1ubuntu1~22.04) 11.4.0 Ubuntu 24.04 Kernel: Depends on container host Compiler: gcc (Ubuntu 13.3.0-6ubuntu2~24.04) 13.3.0 Ubuntu 24.04 32 Bit Cross Compile Kernel: Depends on container host Compiler: gcc (Ubuntu 13.3.0-6ubuntu2~24.04) 13.3.0 Alpine Kernel: Depends on container host Compiler: gcc (Alpine 14.2.0) 14.2.0 FreeBSD 14.2 Kernel: 14.2-RELEASE Compiler: clang 18.1.6 RHEL9 Kernel: Depends on container host Compiler: gcc 11.5.0 20240719 (Red Hat 11.5.0-2) Windows Server 2022 Kernel: 10.0.20348.2031 Compiler: clang 15.0.7, gcc 14.1.0 (MinGW), and MSVC VS 19.39.33521 To view detailed results, visit: https://lab.dpdk.org/results/dashboard/patchsets/33236/ UNH-IOL DPDK Community Lab To manage your email subscriptions, visit: https://lab.dpdk.org/results/dashboard/preferences/subscriptions/