From mboxrd@z Thu Jan 1 00:00:00 1970 Return-Path: Received: from mails.dpdk.org (mails.dpdk.org [217.70.189.124]) by inbox.dpdk.org (Postfix) with ESMTP id 0FA6E467BF for ; Fri, 23 May 2025 05:15:16 +0200 (CEST) Received: from mails.dpdk.org (localhost [127.0.0.1]) by mails.dpdk.org (Postfix) with ESMTP id DDA1540667; Fri, 23 May 2025 05:15:15 +0200 (CEST) Received: from mail-io1-f97.google.com (mail-io1-f97.google.com [209.85.166.97]) by mails.dpdk.org (Postfix) with ESMTP id E0C2D40667 for ; Fri, 23 May 2025 05:15:14 +0200 (CEST) Received: by mail-io1-f97.google.com with SMTP id ca18e2360f4ac-85df99da233so858331139f.3 for ; Thu, 22 May 2025 20:15:14 -0700 (PDT) DKIM-Signature: v=1; a=rsa-sha256; c=relaxed/relaxed; d=iol.unh.edu; s=unh-iol; t=1747970114; x=1748574914; darn=dpdk.org; h=references:in-reply-to:cc:to:from:subject:message-id:date:from:to :cc:subject:date:message-id:reply-to; bh=D8Os34Tc5prWB8XWDvM3/k0SE4PRD0JSdmelLAEq8dw=; b=deOaU8oC1YzM0yznf/5CbAgd/5s/Uv099QMJDVbhvVmukSk3sSXXNLAIvQddZNAUcY 2IJARzPQPQI1wJCldd7ipt7RcF8fWvjw9PfHBL2ncQFDU5j/TKk0uJOstfRChw1D4m/1 pgIcCaV9AwbrnPYvQD19OSMTbmJjoSgV6Z2sQ= X-Google-DKIM-Signature: v=1; a=rsa-sha256; c=relaxed/relaxed; d=1e100.net; s=20230601; t=1747970114; x=1748574914; h=references:in-reply-to:cc:to:from:subject:message-id:date :x-gm-message-state:from:to:cc:subject:date:message-id:reply-to; bh=D8Os34Tc5prWB8XWDvM3/k0SE4PRD0JSdmelLAEq8dw=; b=CjdDKIB1osHsDhr8ygJbu45zD13oD2MGvlf3zAsWS3G0iBIs7DBGQZ5EH5I1jRw5Jf BWUVi/Vb0darLN5olrm14W4yQ/QoqcnKMY6sQ2B7Nmnn1a7E5yFPp4UpdQFDnHDZ1v3H 0b1SLUjXclmKSwID4YslK2dKwdGqB5CcoZupRh1vY2Y6tMd16R4Oj80tWLRhsx7Y7hQN NQyag8Hp+V2TXMmpZZi8L+ApIulzMZnUTX2+czdjeDWxUDLuRaRHrk3eVagkANYBbyLP aaPHdTnwBnihs+P2BjQO2I9JgvXUzp6t76nB09N1G+bKfGHOL06G1mhoJOGuqW32csfl a5NQ== X-Gm-Message-State: AOJu0Yy4DuYy4wEacRr/8Jg9sO7j0Z4QfJBVmoAvcjopV2gPc1xdtww8 8zdBaF3UoSiTUHuwesfnawRATKTAn/kh39p7ugpw566hMX7Jc12GESWwbISVuSYlKmeKVDaUj1w vt3SOGeU3BT3VyQ5pPly6RGE2PGGTaq1zX3CD7rxS8ex8 X-Gm-Gg: ASbGncu1oKN7x6pbyfDk8SSoEPciyYvcUYkDY/nUKaQB1wKoA8NIM3YiMPL14zkujGR HlQfCBLzjZzxu+WbWV6fH+1KFFW32MpWudJddgYoyqjgmccFZwcTQHXBRVgo+ZEz2pLXtPimMHl AAyysUw9A1B1O9/1umy6QS6Ml8wVRBttgevRYG+VsDHetuffW7tumxnOI9Uf2TvF/95f32WdpEg e18lI6qQmRXimlAiC4fHIeLt1XAwIWrMb9+WWkwv3gvMTINruNEP/iO/krYb91mIn7sFrh2TTA1 KasriKgC/VPs3OumsB7CqoHopAZ5w2Eedte9n00vrr8v8e9AngJxEx63EPk= X-Google-Smtp-Source: AGHT+IGR2HBKe1LkiDhMEu9/i2MU1uc+Jpgi1FEXJrWk9zmEWpuH4mQDqrufL+lYdaxuzQrQDbTK0oO1hRYk X-Received: by 2002:a05:6602:4804:b0:85c:96a5:dc2c with SMTP id ca18e2360f4ac-86a24cd5c72mr3488706339f.14.1747970114110; Thu, 22 May 2025 20:15:14 -0700 (PDT) Received: from postal.iol.unh.edu (postal.iol.unh.edu. [132.177.123.84]) by smtp-relay.gmail.com with ESMTPS id ca18e2360f4ac-86a55226b83sm31501339f.8.2025.05.22.20.15.14 (version=TLS1_2 cipher=ECDHE-ECDSA-AES128-GCM-SHA256 bits=128/128); Thu, 22 May 2025 20:15:14 -0700 (PDT) X-Relaying-Domain: iol.unh.edu Date: Thu, 22 May 2025 20:15:14 -0700 (PDT) Message-ID: <682fe842.050a0220.27fb17.07c1SMTPIN_ADDED_MISSING@mx.google.com> Received: from [172.17.0.2] (unknown [172.18.0.76]) by postal.iol.unh.edu (Postfix) with ESMTP id 5962C6052471; Thu, 22 May 2025 23:15:13 -0400 (EDT) Subject: |SUCCESS| pw153617 [PATCH] rcu: add deprecation notice about limit o From: dpdklab@iol.unh.edu To: Test Report Cc: dpdk-test-reports@iol.unh.edu In-Reply-To: <1747957021-2581-1-git-send-email-andremue@linux.microsoft.com> References: <1747957021-2581-1-git-send-email-andremue@linux.microsoft.com> Content-Type: text/plain X-BeenThere: test-report@dpdk.org X-Mailman-Version: 2.1.29 Precedence: list List-Id: automatic DPDK test reports List-Unsubscribe: , List-Archive: List-Post: List-Help: List-Subscribe: , Errors-To: test-report-bounces@dpdk.org Test-Label: iol-compile-arm64-testing Test-Status: SUCCESS http://dpdk.org/patch/153617 _Testing PASS_ Submitter: Andre Muezerie Date: Thursday, May 22 2025 23:37:01 DPDK git baseline: Repo:dpdk Branch: master CommitID:117e86c4b96ed761e9a7ab766261208fe81bf5ca 153617 --> testing pass Upstream job id: Generic-DPDK-Compile-Meson#390644 Test environment and result as below: +----------------------------------------+--------------------+ | Environment | dpdk_meson_compile | +========================================+====================+ | RHEL9 (ARM) | PASS | +----------------------------------------+--------------------+ | Ubuntu 20.04 ARM GCC Cross Compile | PASS | +----------------------------------------+--------------------+ | Ubuntu 20.04 ARM SVE | PASS | +----------------------------------------+--------------------+ | Debian 12 with MUSDK | PASS | +----------------------------------------+--------------------+ | Fedora 40 (ARM Clang) | PASS | +----------------------------------------+--------------------+ | Fedora 40 (ARM) | PASS | +----------------------------------------+--------------------+ | Fedora 41 (ARM) | PASS | +----------------------------------------+--------------------+ | Fedora 41 (ARM Clang) | PASS | +----------------------------------------+--------------------+ | Ubuntu 20.04 (ARM) | PASS | +----------------------------------------+--------------------+ | Ubuntu 24.04 (ARM) | PASS | +----------------------------------------+--------------------+ | CentOS Stream 9 (ARM) | PASS | +----------------------------------------+--------------------+ | Ubuntu 22.04 (ARM) | PASS | +----------------------------------------+--------------------+ | CentOS Stream 10 (ARM) | PASS | +----------------------------------------+--------------------+ | Debian 12 (arm) | PASS | +----------------------------------------+--------------------+ | Ubuntu 20.04 ARM Clang Cross Compile | PASS | +----------------------------------------+--------------------+ | Ubuntu 20.04 aarch32 GCC Cross Compile | PASS | +----------------------------------------+--------------------+ RHEL9 (ARM) Kernel: Depends on container host Compiler: gcc 11.5.0 20240719 (Red Hat 11.5.0-2) Ubuntu 20.04 ARM GCC Cross Compile Kernel: Depends on container host Compiler: aarch64-linux-gnu-gcc (Ubuntu 9.4.0-1ubuntu1~20.04.2) 9.4.0 Ubuntu 20.04 ARM SVE Kernel: Depends on container host Compiler: gcc (Ubuntu 10.5.0-1ubuntu1~20.04) 10.5.0 Debian 12 with MUSDK Kernel: Depends on container host Compiler: gcc (Debian 12.2.0-14) 12.2.0 Fedora 40 (ARM Clang) Kernel: Depends on container host Compiler: clang 18.1.8 (Fedora 18.1.8-1.fc40) Fedora 40 (ARM) Kernel: Depends on container host Compiler: gcc 14.2.1 20240912 (Red Hat 14.2.1-3) Fedora 41 (ARM) Kernel: Depends on container host Compiler: gcc 14.2.1 20240912 (Red Hat 14.2.1-3) Fedora 41 (ARM Clang) Kernel: Depends on container host Compiler: clang 19.1.5 (Fedora 19.1.5-1.fc41) Ubuntu 20.04 (ARM) Kernel: Depends on container host Compiler: gcc (Ubuntu 9.4.0-1ubuntu1~20.04.2) 9.4.0 Ubuntu 24.04 (ARM) Kernel: Depends on container host Compiler: gcc (Ubuntu 13.3.0-6ubuntu2~24.04) 13.3.0 CentOS Stream 9 (ARM) Kernel: Depends on container host Compiler: gcc 11.5.0 20240719 (Red Hat 11.5.0-2) Ubuntu 22.04 (ARM) Kernel: Depends on container host Compiler: gcc (Ubuntu 11.4.0-1ubuntu1~22.04) 11.4.0 CentOS Stream 10 (ARM) Kernel: Depends on container host Compiler: gcc 14.2.1 20241104 (Red Hat 14.2.1-6) Debian 12 (arm) Kernel: Depends on container host Compiler: gcc (Debian 12.2.0-14) 12.2.0 Ubuntu 20.04 ARM Clang Cross Compile Kernel: Depends on container host Compiler: clang 10.0.0-4ubuntu1 Ubuntu 20.04 aarch32 GCC Cross Compile Kernel: Depends on container host Compiler: gcc 9.4.0 To view detailed results, visit: https://lab.dpdk.org/results/dashboard/patchsets/33237/ UNH-IOL DPDK Community Lab To manage your email subscriptions, visit: https://lab.dpdk.org/results/dashboard/preferences/subscriptions/