From mboxrd@z Thu Jan 1 00:00:00 1970 Return-Path: Received: from mails.dpdk.org (mails.dpdk.org [217.70.189.124]) by inbox.dpdk.org (Postfix) with ESMTP id 01D72467C9 for ; Fri, 23 May 2025 16:30:47 +0200 (CEST) Received: from mails.dpdk.org (localhost [127.0.0.1]) by mails.dpdk.org (Postfix) with ESMTP id D9B9B40611; Fri, 23 May 2025 16:30:47 +0200 (CEST) Received: from mail-il1-f225.google.com (mail-il1-f225.google.com [209.85.166.225]) by mails.dpdk.org (Postfix) with ESMTP id 936CE40611 for ; Fri, 23 May 2025 16:30:47 +0200 (CEST) Received: by mail-il1-f225.google.com with SMTP id e9e14a558f8ab-3dc6f653152so18158535ab.3 for ; Fri, 23 May 2025 07:30:47 -0700 (PDT) DKIM-Signature: v=1; a=rsa-sha256; c=relaxed/relaxed; d=iol.unh.edu; s=unh-iol; t=1748010647; x=1748615447; darn=dpdk.org; h=references:in-reply-to:cc:to:from:subject:message-id:date:from:to :cc:subject:date:message-id:reply-to; bh=rdj4YJ2fRx3+GSCFgW/AXrU/meclm1/juFu/DO4+v48=; b=P70BQyiHMjyiAjG6o1oSrTSh6O0wZqNYW/K4wdUBBVyeE6i1TQmOY3cuDrgYfCMyMo jmpUpPhPSTefrY7TypZmrmL488mVJORL6+UItsOK4/GcHcvNcIIt2Ry7gu/xrp2qkxcG NRS+3ki/xuuBYYDt82WWYM2Yme8aamvhw6gpM= X-Google-DKIM-Signature: v=1; a=rsa-sha256; c=relaxed/relaxed; d=1e100.net; s=20230601; t=1748010647; x=1748615447; h=references:in-reply-to:cc:to:from:subject:message-id:date :x-gm-message-state:from:to:cc:subject:date:message-id:reply-to; bh=rdj4YJ2fRx3+GSCFgW/AXrU/meclm1/juFu/DO4+v48=; b=Q3yEdR7ydYjt/jyeM4G6HnD8nmmprDdiPeusEDaYq2Lb0Nny0EvIWZ0zDE8Xo0P6Uj j8ZRbVbqCVXJjCqDi3Hq/p2jZHl+pYmlqkUYL5SrGLb5hxWv4mgOAmFNQ+NBRSR6oudR C9mWBLPhOgHNF73kST1OeTZDbf9ObFzN8L4EdlQKp1rRv1imgmrNrMwPhRP+4i1n4tmG cdj0+85iBF/uVdXTnXgHBHcmeW7te7uh64Xdx8DIwxtXffoCQKUv0WU/o5Q7mFm0NY8S 5UjKvmEw0an4FPhX1LYP8uPmhBU/mkIY2ksJpPoU+TFv0Ea+qiJTuWkm60TQb+MFNgQf +B2A== X-Gm-Message-State: AOJu0Yw14Oc5wXTY/DUHiVbqklFPaqAq0m9KoKwwky+eZXZpj8Ej9RdK 2U+4JqxUkn1zmiRPIG29/KY+yKPFBaOe1+EQeffcW6mY5aXNwB5ot0sLrTj7zgmNxvWTXZQZy5l saslQVRbm3rSA5rHPMhA2IYciojQcyiRXCFtlOG3YG9in X-Gm-Gg: ASbGncs8fI9yYDOUuTW2DrSw37p0CHoU8dNfiD4YoNlXZMgw5/dOPCEYa5/awCRGUNL klPLgliYtRyqW5bs6bjSjqYlfI4X0qaUXdjiOanA42dhn3sxhvBMRvHQMk+FzDU2FFilfjPQRPm btJwd6fYCoH1PMutzLUNJ+2UsMDZ/+9ncojjXwX/fCMrZo5GAa6FToP5/CbuDUxLw4kP0PmmWD4 Lzaf/pvHPRvAeBqkhjKQELvCeYrTIUkm3ygZL8QqjN6fJpWZX2YB272al8NPlkHeC6ScNLkQ3uU 17ECYeQkE13LJ+of8z090ZagdfsyFLpm3yxSj8YdRy7v1eUpEvLms1rsI9Q= X-Google-Smtp-Source: AGHT+IFHh1KUONibORYUuYGz7xAdisdzCdqzdPQ3NFdCjUfNj95gcHoXTQaWDT7FGTm+AEZ9zylRbyxXeE9C X-Received: by 2002:a92:ca0d:0:b0:3d8:1ea5:26d1 with SMTP id e9e14a558f8ab-3dc932db875mr37827705ab.18.1748010646800; Fri, 23 May 2025 07:30:46 -0700 (PDT) Received: from postal.iol.unh.edu (postal.iol.unh.edu. [132.177.123.84]) by smtp-relay.gmail.com with ESMTPS id e9e14a558f8ab-3dc7978e986sm4487085ab.9.2025.05.23.07.30.46 (version=TLS1_2 cipher=ECDHE-ECDSA-AES128-GCM-SHA256 bits=128/128); Fri, 23 May 2025 07:30:46 -0700 (PDT) X-Relaying-Domain: iol.unh.edu Date: Fri, 23 May 2025 07:30:46 -0700 (PDT) Message-ID: <68308696.920a0220.15084a.7c9aSMTPIN_ADDED_MISSING@mx.google.com> Received: from [172.17.0.5] (unknown [172.18.0.74]) by postal.iol.unh.edu (Postfix) with ESMTP id 4344E6052471; Fri, 23 May 2025 10:30:46 -0400 (EDT) Subject: |SUCCESS| pw153590 [PATCH] [v3] ethdev: fix the bug where the flag v From: dpdklab@iol.unh.edu To: Test Report Cc: dpdk-test-reports@iol.unh.edu In-Reply-To: <20250522074242.30376-1-sunyang.wu@jaguarmicro.com> References: <20250522074242.30376-1-sunyang.wu@jaguarmicro.com> Content-Type: text/plain X-BeenThere: test-report@dpdk.org X-Mailman-Version: 2.1.29 Precedence: list List-Id: automatic DPDK test reports List-Unsubscribe: , List-Archive: List-Post: List-Help: List-Subscribe: , Errors-To: test-report-bounces@dpdk.org Test-Label: iol-unit-arm64-testing Test-Status: SUCCESS http://dpdk.org/patch/153590 _Testing PASS_ Submitter: Sunyang Wu Date: Thursday, May 22 2025 07:42:42 DPDK git baseline: Repo:dpdk Branch: master CommitID:a0ad790eb9fcef4b00366ae474132bee4bcdab75 153590 --> testing pass Upstream job id: Aarch32-Unit-Test#6321 Test environment and result as below: +-----------------------------+--------------+------------------------------+----------------+---------------------------+ | Environment | lpm_autotest | cryptodev_sw_snow3g_autotest | dpdk_unit_test | cryptodev_sw_zuc_autotest | +=============================+==============+==============================+================+===========================+ | Ubuntu 20.04 ARM SVE | PASS | SKIPPED | SKIPPED | SKIPPED | +-----------------------------+--------------+------------------------------+----------------+---------------------------+ | Debian 12 (arm) | SKIPPED | PASS | PASS | PASS | +-----------------------------+--------------+------------------------------+----------------+---------------------------+ | CentOS Stream 9 (ARM) | SKIPPED | SKIPPED | PASS | SKIPPED | +-----------------------------+--------------+------------------------------+----------------+---------------------------+ | CentOS Stream 10 (ARM) | SKIPPED | SKIPPED | PASS | SKIPPED | +-----------------------------+--------------+------------------------------+----------------+---------------------------+ | Fedora 40 (ARM Clang) | SKIPPED | SKIPPED | PASS | SKIPPED | +-----------------------------+--------------+------------------------------+----------------+---------------------------+ | Fedora 41 (ARM) | SKIPPED | SKIPPED | PASS | SKIPPED | +-----------------------------+--------------+------------------------------+----------------+---------------------------+ | Fedora 40 (ARM) | SKIPPED | SKIPPED | PASS | SKIPPED | +-----------------------------+--------------+------------------------------+----------------+---------------------------+ | RHEL9 (ARM) | SKIPPED | SKIPPED | PASS | SKIPPED | +-----------------------------+--------------+------------------------------+----------------+---------------------------+ | Fedora 41 (ARM Clang) | SKIPPED | SKIPPED | PASS | SKIPPED | +-----------------------------+--------------+------------------------------+----------------+---------------------------+ | Ubuntu 20.04 (ARM) | SKIPPED | SKIPPED | PASS | SKIPPED | +-----------------------------+--------------+------------------------------+----------------+---------------------------+ | Ubuntu 22.04 (ARM) | SKIPPED | SKIPPED | PASS | SKIPPED | +-----------------------------+--------------+------------------------------+----------------+---------------------------+ | Ubuntu 24.04 (ARM) | SKIPPED | SKIPPED | PASS | SKIPPED | +-----------------------------+--------------+------------------------------+----------------+---------------------------+ | 32-bit Ubuntu 22.04.4 (ARM) | SKIPPED | SKIPPED | PASS | SKIPPED | +-----------------------------+--------------+------------------------------+----------------+---------------------------+ Ubuntu 20.04 ARM SVE Kernel: Depends on container host Compiler: gcc (Ubuntu 10.5.0-1ubuntu1~20.04) 10.5.0 Debian 12 (arm) Kernel: Depends on container host Compiler: gcc (Debian 12.2.0-14) 12.2.0 CentOS Stream 9 (ARM) Kernel: Depends on container host Compiler: gcc 11.5.0 20240719 (Red Hat 11.5.0-2) CentOS Stream 10 (ARM) Kernel: Depends on container host Compiler: gcc 14.2.1 20241104 (Red Hat 14.2.1-6) Fedora 40 (ARM Clang) Kernel: Depends on container host Compiler: clang 18.1.8 (Fedora 18.1.8-1.fc40) Fedora 41 (ARM) Kernel: Depends on container host Compiler: gcc 14.2.1 20240912 (Red Hat 14.2.1-3) Fedora 40 (ARM) Kernel: Depends on container host Compiler: gcc 14.2.1 20240912 (Red Hat 14.2.1-3) RHEL9 (ARM) Kernel: Depends on container host Compiler: gcc 11.5.0 20240719 (Red Hat 11.5.0-2) Fedora 41 (ARM Clang) Kernel: Depends on container host Compiler: clang 19.1.5 (Fedora 19.1.5-1.fc41) Ubuntu 20.04 (ARM) Kernel: Depends on container host Compiler: gcc (Ubuntu 9.4.0-1ubuntu1~20.04.2) 9.4.0 Ubuntu 22.04 (ARM) Kernel: Depends on container host Compiler: gcc (Ubuntu 11.4.0-1ubuntu1~22.04) 11.4.0 Ubuntu 24.04 (ARM) Kernel: Depends on container host Compiler: gcc (Ubuntu 13.3.0-6ubuntu2~24.04) 13.3.0 32-bit Ubuntu 22.04.4 (ARM) Kernel: 5.15.83+ aarch64 Compiler: gcc (Ubuntu 11.4.0-1ubuntu1~22.04) 11.4.0 To view detailed results, visit: https://lab.dpdk.org/results/dashboard/patchsets/33230/ UNH-IOL DPDK Community Lab To manage your email subscriptions, visit: https://lab.dpdk.org/results/dashboard/preferences/subscriptions/