From mboxrd@z Thu Jan 1 00:00:00 1970 Return-Path: Received: from mails.dpdk.org (mails.dpdk.org [217.70.189.124]) by inbox.dpdk.org (Postfix) with ESMTP id 01F00467C9 for ; Fri, 23 May 2025 17:41:49 +0200 (CEST) Received: from mails.dpdk.org (localhost [127.0.0.1]) by mails.dpdk.org (Postfix) with ESMTP id CDFE8402B4; Fri, 23 May 2025 17:41:49 +0200 (CEST) Received: from mail-pl1-f225.google.com (mail-pl1-f225.google.com [209.85.214.225]) by mails.dpdk.org (Postfix) with ESMTP id 2CC68402B4 for ; Fri, 23 May 2025 17:41:48 +0200 (CEST) Received: by mail-pl1-f225.google.com with SMTP id d9443c01a7336-22d95f0dda4so137155ad.2 for ; Fri, 23 May 2025 08:41:48 -0700 (PDT) DKIM-Signature: v=1; a=rsa-sha256; c=relaxed/relaxed; d=iol.unh.edu; s=unh-iol; t=1748014907; x=1748619707; darn=dpdk.org; h=references:in-reply-to:cc:to:from:subject:message-id:date:from:to :cc:subject:date:message-id:reply-to; bh=o+qQ7z8yjxOaLkNw5siDmMPuHSW8Ilf4ykj/XBo+K78=; b=OsFCJ0u9Q3lFb8vzVfKGOAL3WQTxDsY0jz4ErYLbpJTTvSRy3X7UpU0/Y4UtaeUEh9 +Z38ugVpyOTWjCtZeilbPbEJ8kYN8UXkFo+SFaS834PKzWJEGftv6hvsOV1rITinLycb fKelRhSn7sj8hIocCY+zkFkdb5b/2IC+omMLE= X-Google-DKIM-Signature: v=1; a=rsa-sha256; c=relaxed/relaxed; d=1e100.net; s=20230601; t=1748014907; x=1748619707; h=references:in-reply-to:cc:to:from:subject:message-id:date :x-gm-message-state:from:to:cc:subject:date:message-id:reply-to; bh=o+qQ7z8yjxOaLkNw5siDmMPuHSW8Ilf4ykj/XBo+K78=; b=D0tIk0fQ1JTTDzJ6QYyCf/qKBdoLT5fb/33vAyzwgSCUjlpsbwS9jOhIddxhdoHIHn +0d9i8BsV4ahrhT/WQT63Ac9CLi32LIOEF4mrtM+XPaBNr275iGsTVbURXdcELwTqzkw FuLRTYGbAgmJtlc0ldOdSSmM+nhQpOCKz06aznsbZtzADCPGVex5SZFKV5VcjTMfBZND MhvL3Uk6NDp0dvyWhR6ZUSX5UxgmEUrYIlJspa5ozN4AcS45lLoo6DPfD8NasdcsgfaQ riIN/YdLHxj2qs4M9hox0sa0GrWCGEIWfYTRh/4CXOMMBaIs4AnML4AIhv6tAFLSaxQW xVlQ== X-Gm-Message-State: AOJu0Yzbhgm3TaIBTrGkYUxzGbYksExzG8wcBTOnkvVya2kAiXpROJBp EKgKQyk3Gy30lNq+SHfIVl9M8jJRwqpFgAnJNETeN1ts1aKEoaEAPjnpyMd9mw2pMwzyjFs+/A8 9KlmL26Wq2msiorS5Dq2QivELkEKH31now7uYz/avnPOE X-Gm-Gg: ASbGnctJhiRRlGhmo7fr3vBPmrWRs0BuofOx0anKtqhYa40yIH+UqfpFnzcM7m1/gu3 N/1mgFDx4pi4WohBdmuUOD+ExSZlk4Mvcc+NyWJDSyks6KMYJvPkmhh5G2pnDORsJ450du/AyA8 66N76+NkvjhTwl0oUe8hJyTHqzdhJcTUCoV1MDdzEQkC/ao7RwlnDbSLDg4q0GIsM/77vNJjCs6 m6CNYa2FuSqdBhCU65PrIiBD7gAlAWVb4vLXFWI7qcixtJ961h8/s1GBDmubhvPwpCG7dNGg202 PYtAle045WektGZsNb8W9tp+aQYe9N+2osVjY0NCF4VYk/LJa0YKiN6ZcUE= X-Google-Smtp-Source: AGHT+IH2am1sVb15tlgaFvwwF+lhefKX/3hu0TJUzfXC5sWHTn5IZ5OgNJTmY37RXXFBW4qGAx+G481s1hA5 X-Received: by 2002:a17:903:1983:b0:22e:62c3:6990 with SMTP id d9443c01a7336-231d44e7182mr430680275ad.16.1748014906697; Fri, 23 May 2025 08:41:46 -0700 (PDT) Received: from postal.iol.unh.edu (postal.iol.unh.edu. [132.177.123.84]) by smtp-relay.gmail.com with ESMTPS id d9443c01a7336-231d4eba38asm8576735ad.107.2025.05.23.08.41.46 (version=TLS1_2 cipher=ECDHE-ECDSA-AES128-GCM-SHA256 bits=128/128); Fri, 23 May 2025 08:41:46 -0700 (PDT) X-Relaying-Domain: iol.unh.edu Date: Fri, 23 May 2025 08:41:46 -0700 (PDT) Message-ID: <6830973a.170a0220.184887.d41bSMTPIN_ADDED_MISSING@mx.google.com> Received: from [172.21.0.8] (unknown [172.18.0.240]) by postal.iol.unh.edu (Postfix) with ESMTP id D77366052471; Fri, 23 May 2025 11:41:45 -0400 (EDT) Subject: |WARNING| pw153626-153662 [PATCH] [40/40] crypto/cnxk: copy 8B iv in From: dpdklab@iol.unh.edu To: Test Report Cc: dpdk-test-reports@iol.unh.edu In-Reply-To: <20250523135111.2178408-41-ktejasree@marvell.com> References: <20250523135111.2178408-41-ktejasree@marvell.com> Content-Type: text/plain X-BeenThere: test-report@dpdk.org X-Mailman-Version: 2.1.29 Precedence: list List-Id: automatic DPDK test reports List-Unsubscribe: , List-Archive: List-Post: List-Help: List-Subscribe: , Errors-To: test-report-bounces@dpdk.org Test-Label: iol-compile-amd64-testing Test-Status: WARNING http://dpdk.org/patch/153662 _Testing issues_ Submitter: Tejasree Kondoj Date: Friday, May 23 2025 13:51:11 DPDK git baseline: Repo:dpdk Branch: master CommitID:fc627d7065ba5100faa928cf2edfa1622846f542 153626-153662 --> testing issues Upstream job id: Generic-DPDK-Compile-Meson#390787 Test environment and result as below: +-----------------------------------+--------------------+-------------------+------------------+-------------------------+-------------------+----------------------+ | Environment | dpdk_meson_compile | dpdk_compile_spdk | dpdk_compile_ovs | dpdk_llvm_clang_compile | dpdk_msvc_compile | dpdk_mingw64_compile | +===================================+====================+===================+==================+=========================+===================+======================+ | CentOS Stream 9 | PASS | PASS | SKIPPED | SKIPPED | SKIPPED | SKIPPED | +-----------------------------------+--------------------+-------------------+------------------+-------------------------+-------------------+----------------------+ | CentOS Stream 10 | PASS | SKIPPED | SKIPPED | SKIPPED | SKIPPED | SKIPPED | +-----------------------------------+--------------------+-------------------+------------------+-------------------------+-------------------+----------------------+ | Fedora 40 | PASS | PASS | SKIPPED | SKIPPED | SKIPPED | SKIPPED | +-----------------------------------+--------------------+-------------------+------------------+-------------------------+-------------------+----------------------+ | Debian 12 | PEND | PEND | SKIPPED | SKIPPED | SKIPPED | SKIPPED | +-----------------------------------+--------------------+-------------------+------------------+-------------------------+-------------------+----------------------+ | Fedora 40 (Clang) | PASS | WARN | SKIPPED | SKIPPED | SKIPPED | SKIPPED | +-----------------------------------+--------------------+-------------------+------------------+-------------------------+-------------------+----------------------+ | Fedora 41 (Clang) | PEND | PEND | PEND | SKIPPED | SKIPPED | SKIPPED | +-----------------------------------+--------------------+-------------------+------------------+-------------------------+-------------------+----------------------+ | Fedora 41 | PEND | PEND | PEND | SKIPPED | SKIPPED | SKIPPED | +-----------------------------------+--------------------+-------------------+------------------+-------------------------+-------------------+----------------------+ | openSUSE Leap 15 | PASS | SKIPPED | SKIPPED | SKIPPED | SKIPPED | SKIPPED | +-----------------------------------+--------------------+-------------------+------------------+-------------------------+-------------------+----------------------+ | RHEL8 | PASS | SKIPPED | SKIPPED | SKIPPED | SKIPPED | SKIPPED | +-----------------------------------+--------------------+-------------------+------------------+-------------------------+-------------------+----------------------+ | RHEL9 | PASS | SKIPPED | SKIPPED | SKIPPED | SKIPPED | SKIPPED | +-----------------------------------+--------------------+-------------------+------------------+-------------------------+-------------------+----------------------+ | Ubuntu 20.04 | PEND | SKIPPED | SKIPPED | SKIPPED | SKIPPED | SKIPPED | +-----------------------------------+--------------------+-------------------+------------------+-------------------------+-------------------+----------------------+ | Ubuntu 22.04 | PEND | PEND | SKIPPED | SKIPPED | SKIPPED | SKIPPED | +-----------------------------------+--------------------+-------------------+------------------+-------------------------+-------------------+----------------------+ | Alpine | PASS | SKIPPED | SKIPPED | SKIPPED | SKIPPED | SKIPPED | +-----------------------------------+--------------------+-------------------+------------------+-------------------------+-------------------+----------------------+ | Ubuntu 24.04 32 Bit Cross Compile | PEND | SKIPPED | SKIPPED | SKIPPED | SKIPPED | SKIPPED | +-----------------------------------+--------------------+-------------------+------------------+-------------------------+-------------------+----------------------+ | FreeBSD 14.2 | PASS | SKIPPED | SKIPPED | SKIPPED | SKIPPED | SKIPPED | +-----------------------------------+--------------------+-------------------+------------------+-------------------------+-------------------+----------------------+ | Ubuntu 24.04 | PEND | PEND | PEND | SKIPPED | SKIPPED | SKIPPED | +-----------------------------------+--------------------+-------------------+------------------+-------------------------+-------------------+----------------------+ | Windows Server 2022 | SKIPPED | SKIPPED | SKIPPED | PASS | PASS | PASS | +-----------------------------------+--------------------+-------------------+------------------+-------------------------+-------------------+----------------------+ ==== 20 line log output for Fedora 40 (Clang) (dpdk_compile_spdk): ==== --- Failed to get log output --- ==== End log output ==== CentOS Stream 9 Kernel: Depends on container host Compiler: gcc 11.5.0 20240719 (Red Hat 11.5.0-2) CentOS Stream 10 Kernel: Depends on container host Compiler: gcc 14.2.1 20241104 (Red Hat 14.2.1-6) Fedora 40 Kernel: Depends on container host Compiler: gcc 14.2.1 20240912 (Red Hat 14.2.1-3) Debian 12 Kernel: Depends on container host Compiler: gcc (Debian 12.2.0-14) 12.2.0 Fedora 40 (Clang) Kernel: Depends on container host Compiler: clang 18.1.8 (Fedora 18.1.8-1.fc40) Fedora 41 (Clang) Kernel: Depends on container host Compiler: clang 19.1.5 (Fedora 19.1.5-1.fc41) Fedora 41 Kernel: Depends on container host Compiler: gcc 14.2.1 20240912 (Red Hat 14.2.1-3) openSUSE Leap 15 Kernel: Depends on container host Compiler: gcc (SUSE Linux) 7.5.0 RHEL8 Kernel: Depends on container host Compiler: gcc 8.5.0 20210514 (Red Hat 8.5.0-22) RHEL9 Kernel: Depends on container host Compiler: gcc 11.5.0 20240719 (Red Hat 11.5.0-2) Ubuntu 20.04 Kernel: Depends on container host Compiler: gcc (Ubuntu 9.4.0-1ubuntu1~20.04.2) 9.4.0 Ubuntu 22.04 Kernel: Depends on container host Compiler: gcc (Ubuntu 11.4.0-1ubuntu1~22.04) 11.4.0 Alpine Kernel: Depends on container host Compiler: gcc (Alpine 14.2.0) 14.2.0 Ubuntu 24.04 32 Bit Cross Compile Kernel: Depends on container host Compiler: gcc (Ubuntu 13.3.0-6ubuntu2~24.04) 13.3.0 FreeBSD 14.2 Kernel: 14.2-RELEASE Compiler: clang 18.1.6 Ubuntu 24.04 Kernel: Depends on container host Compiler: gcc (Ubuntu 13.3.0-6ubuntu2~24.04) 13.3.0 Windows Server 2022 Kernel: 10.0.20348.2031 Compiler: clang 15.0.7, gcc 14.1.0 (MinGW), and MSVC VS 19.39.33521 To view detailed results, visit: https://lab.dpdk.org/results/dashboard/patchsets/33240/ UNH-IOL DPDK Community Lab To manage your email subscriptions, visit: https://lab.dpdk.org/results/dashboard/preferences/subscriptions/