From mboxrd@z Thu Jan 1 00:00:00 1970 Return-Path: Received: from mails.dpdk.org (mails.dpdk.org [217.70.189.124]) by inbox.dpdk.org (Postfix) with ESMTP id 16B5C467C9 for ; Fri, 23 May 2025 17:53:34 +0200 (CEST) Received: from mails.dpdk.org (localhost [127.0.0.1]) by mails.dpdk.org (Postfix) with ESMTP id F15FE402B4; Fri, 23 May 2025 17:53:33 +0200 (CEST) Received: from mail-pl1-f225.google.com (mail-pl1-f225.google.com [209.85.214.225]) by mails.dpdk.org (Postfix) with ESMTP id D2EB1402B4 for ; Fri, 23 May 2025 17:53:32 +0200 (CEST) Received: by mail-pl1-f225.google.com with SMTP id d9443c01a7336-231e98e46c0so223475ad.3 for ; Fri, 23 May 2025 08:53:32 -0700 (PDT) DKIM-Signature: v=1; a=rsa-sha256; c=relaxed/relaxed; d=iol.unh.edu; s=unh-iol; t=1748015611; x=1748620411; darn=dpdk.org; h=references:in-reply-to:cc:to:from:subject:message-id:date:from:to :cc:subject:date:message-id:reply-to; bh=YAmB4MgJMHFW8Yarjp11LrN0fJfGpcameNjnz6QDtnc=; b=RyBwsjfcGYFhOzBuDEAty/3lulxpSD4fDV9iBqmJo+DKx3kVdPG2k07pAmgxFjj72D GMt1joVjXJqYOvrq3XZiD4dcoI5MMHPdZiDU8qGFcJnM+uvHSwDPvQ7Vp6SGtwmfma9H IH5aJCrzq7IcTwTGTgeLDzqQiqB9ke8uczREk= X-Google-DKIM-Signature: v=1; a=rsa-sha256; c=relaxed/relaxed; d=1e100.net; s=20230601; t=1748015611; x=1748620411; h=references:in-reply-to:cc:to:from:subject:message-id:date :x-gm-message-state:from:to:cc:subject:date:message-id:reply-to; bh=YAmB4MgJMHFW8Yarjp11LrN0fJfGpcameNjnz6QDtnc=; b=ltsC7JA0lAUwDC45v+jcD0qdUd9sPFfQCv87+BUZdt/D7Re36WXSbtjphiLbRhEpfX iKqpK3cX1PYjf+CPO6hZlWjAr/z/KWFBUKGSLNVX+/N21GQCkE3L4Z8fXa5++vqll+xW I0SHZSy6hxQmteNQZQYYCR+fqIu0aW1UwBY9l+sNVu6o1eet6uhQN2JoG0x4JIo7QeoQ NC847/skglS8tGyv5W6Yfp/Rh+kE8cuLrqXQ4ysmH+s7y1gtinVAYqiFKAmHUhEH8JOi JZiSFxsOApAcHGxzE/TZSg/Yf4CYndUxBSK37Jtni8YoLcWyqViKrV2qegvrLbA3Y0Eq YDwQ== X-Gm-Message-State: AOJu0YxV2tJe+pILvQnQwqb4ofFCJo4OVqJPNn37HgCI3sV179NPP9Qj bPXhP7OSg1Qt5OyAKNcQRGUSJg3GEM96QWh7qjoxvL9EJ6PWRteKLmAFm24K1pQ2J6PR7WHycgL FpFVKQ7q10oDy3a5II1Tcc0jsoDIx3EyjSh7kMBTPWtTF5SWnt2KOCvVMKIX8 X-Gm-Gg: ASbGncv8AHT8qawbbvqf9Zy58Y4WnXTmu/8tL9g4M0i2T5G8FLqnyaWfPNMhaOnZLi5 g+UyEKDD3m6eMzOxZoVR72h0mGX4r3XHmaTy8FEvy+HEtdJIB/j5qKxUN60MSHxKPDcT/14hYoe c/PXcJhz0UGv/8rKl+RINwqJGF2Cgo9Ho9G2j2U+7DU0bX8c+/6r5HctEaHmgxunBBzU1l0Tjxk XbISKumnDb/q9sK4LIR4iV1EmSyoZWau/ZHDkSo5I24banY5hvqHvehF0GKtSCr+PH9aJtcrA15 EHkH4Viz4M8Yl6CSc9kIctFa/vnhoESZqDbu X-Google-Smtp-Source: AGHT+IEPo3ZuobklDvPMFMEPGAdBBKRIvRK7u7Mep54febPj7R06oyRMgw8iCJ8i5Eu56Ktglkj5I/VTDcxm X-Received: by 2002:a17:902:da91:b0:231:faf5:c1d0 with SMTP id d9443c01a7336-233f23cbab1mr59494455ad.24.1748015611548; Fri, 23 May 2025 08:53:31 -0700 (PDT) Received: from postal.iol.unh.edu (postal.iol.unh.edu. [2606:4100:3880:1234::84]) by smtp-relay.gmail.com with ESMTPS id d9443c01a7336-231d4eb9d12sm9266815ad.100.2025.05.23.08.53.31 (version=TLS1_2 cipher=ECDHE-ECDSA-AES128-GCM-SHA256 bits=128/128); Fri, 23 May 2025 08:53:31 -0700 (PDT) X-Relaying-Domain: iol.unh.edu Date: Fri, 23 May 2025 08:53:31 -0700 (PDT) Message-ID: <683099fb.170a0220.5df26.0deeSMTPIN_ADDED_MISSING@mx.google.com> Received: from [172.17.0.3] (unknown [172.18.0.74]) by postal.iol.unh.edu (Postfix) with ESMTP id B90706052471; Fri, 23 May 2025 11:53:30 -0400 (EDT) Subject: |SUCCESS| pw153626-153662 [PATCH] [40/40] crypto/cnxk: copy 8B iv in From: dpdklab@iol.unh.edu To: Test Report Cc: dpdk-test-reports@iol.unh.edu In-Reply-To: <20250523135111.2178408-41-ktejasree@marvell.com> References: <20250523135111.2178408-41-ktejasree@marvell.com> Content-Type: text/plain X-BeenThere: test-report@dpdk.org X-Mailman-Version: 2.1.29 Precedence: list List-Id: automatic DPDK test reports List-Unsubscribe: , List-Archive: List-Post: List-Help: List-Subscribe: , Errors-To: test-report-bounces@dpdk.org Test-Label: iol-abi-testing Test-Status: SUCCESS http://dpdk.org/patch/153662 _Testing PASS_ Submitter: Tejasree Kondoj Date: Friday, May 23 2025 13:51:11 DPDK git baseline: Repo:dpdk Branch: master CommitID:fc627d7065ba5100faa928cf2edfa1622846f542 153626-153662 --> testing pass Upstream job id: Generic-DPDK-Compile-ABI#127442 Test environment and result as below: +-------------------+----------+ | Environment | abi_test | +===================+==========+ | Fedora 40 (Clang) | PASS | +-------------------+----------+ | CentOS Stream 9 | PASS | +-------------------+----------+ | Debian 12 | PASS | +-------------------+----------+ | CentOS Stream 10 | PASS | +-------------------+----------+ | RHEL8 | PASS | +-------------------+----------+ | Fedora 41 (Clang) | PASS | +-------------------+----------+ | Fedora 40 | PASS | +-------------------+----------+ | Fedora 41 | PASS | +-------------------+----------+ | openSUSE Leap 15 | PASS | +-------------------+----------+ | Ubuntu 22.04 | PASS | +-------------------+----------+ | Ubuntu 24.04 | PASS | +-------------------+----------+ | RHEL9 | PASS | +-------------------+----------+ Fedora 40 (Clang) Kernel: Depends on container host Compiler: clang 18.1.8 (Fedora 18.1.8-1.fc40) CentOS Stream 9 Kernel: Depends on container host Compiler: gcc 11.5.0 20240719 (Red Hat 11.5.0-2) Debian 12 Kernel: Depends on container host Compiler: gcc (Debian 12.2.0-14) 12.2.0 CentOS Stream 10 Kernel: Depends on container host Compiler: gcc 14.2.1 20241104 (Red Hat 14.2.1-6) RHEL8 Kernel: Depends on container host Compiler: gcc 8.5.0 20210514 (Red Hat 8.5.0-22) Fedora 41 (Clang) Kernel: Depends on container host Compiler: clang 19.1.5 (Fedora 19.1.5-1.fc41) Fedora 40 Kernel: Depends on container host Compiler: gcc 14.2.1 20240912 (Red Hat 14.2.1-3) Fedora 41 Kernel: Depends on container host Compiler: gcc 14.2.1 20240912 (Red Hat 14.2.1-3) openSUSE Leap 15 Kernel: Depends on container host Compiler: gcc (SUSE Linux) 7.5.0 Ubuntu 22.04 Kernel: Depends on container host Compiler: gcc (Ubuntu 11.4.0-1ubuntu1~22.04) 11.4.0 Ubuntu 24.04 Kernel: Depends on container host Compiler: gcc (Ubuntu 13.3.0-6ubuntu2~24.04) 13.3.0 RHEL9 Kernel: Depends on container host Compiler: gcc 11.5.0 20240719 (Red Hat 11.5.0-2) To view detailed results, visit: https://lab.dpdk.org/results/dashboard/patchsets/33240/ UNH-IOL DPDK Community Lab To manage your email subscriptions, visit: https://lab.dpdk.org/results/dashboard/preferences/subscriptions/