From mboxrd@z Thu Jan 1 00:00:00 1970 Return-Path: Received: from mails.dpdk.org (mails.dpdk.org [217.70.189.124]) by inbox.dpdk.org (Postfix) with ESMTP id 436B5467C9 for ; Fri, 23 May 2025 17:56:33 +0200 (CEST) Received: from mails.dpdk.org (localhost [127.0.0.1]) by mails.dpdk.org (Postfix) with ESMTP id 3D2A3402B4; Fri, 23 May 2025 17:56:33 +0200 (CEST) Received: from mail-yw1-f225.google.com (mail-yw1-f225.google.com [209.85.128.225]) by mails.dpdk.org (Postfix) with ESMTP id 87378402B4 for ; Fri, 23 May 2025 17:56:31 +0200 (CEST) Received: by mail-yw1-f225.google.com with SMTP id 00721157ae682-7086dcab64bso786317b3.1 for ; Fri, 23 May 2025 08:56:31 -0700 (PDT) DKIM-Signature: v=1; a=rsa-sha256; c=relaxed/relaxed; d=iol.unh.edu; s=unh-iol; t=1748015791; x=1748620591; darn=dpdk.org; h=references:in-reply-to:cc:to:from:subject:message-id:date:from:to :cc:subject:date:message-id:reply-to; bh=G7jFN9DeTc20fnNN6LvZk61r/DI56HtuWmOj7MdaNWs=; b=NRS3KdCLHHNbWmk020Y8wx+h4r8bEnTH7+uiN8tMka8XDv3bSC/8lDCSd7ctbysmfk qEtDbcllcyfRbt3yjBhpXpcJI+g8c/4XpPW8qOknl204TJMBHzd4tPI5IkRkWQdEkDTU j5viK0LZyJVhmmoxnAjkJhtUuHVA1s8pvXlR8= X-Google-DKIM-Signature: v=1; a=rsa-sha256; c=relaxed/relaxed; d=1e100.net; s=20230601; t=1748015791; x=1748620591; h=references:in-reply-to:cc:to:from:subject:message-id:date :x-gm-message-state:from:to:cc:subject:date:message-id:reply-to; bh=G7jFN9DeTc20fnNN6LvZk61r/DI56HtuWmOj7MdaNWs=; b=fHIrhNIuI62XHi8AHtMRX9pzWQCOdXoMb0cZDHx0Cb7Z5tmd2Fpvh95UQniloJk1v8 lLV4NGTPx6XCvsrAi4v790oEtRZEwZYF2sLZSUSsRKKL96fprmmiTPYzkaywwr/cIM7B unZg2AO1LDNCARsc4phcj/hzSvXG6JVEjTNdB67oR0THz9SfT2jqyo4dl+Rg7ZcD+IAk JfdBDSV+70sdRWIz9g2D/++vy6rkKxZcNlCz+OD7jM6QqwcUVqp9ToWxd6taW5Cfl1hS xV+7fGLEWRlc2tQHgAIyU2N3Moaugny4hid9HsBzdV84jFme7qUbK/aRu/L7QfrF8z3N traA== X-Gm-Message-State: AOJu0Yy0A2ilHiO7AmDmuyPqnDrwmvgKgqV+gbcYGer9GfakTWkF8Tvk k/JCsuwEGx/tbYtFpox2NMpTpC9Q6xVFIEOon0pQFht4deoVkrjkfIeljL/SF4G81joqp1Ito0n wATVjzQhGybvsoR/fW6YykYHJSpzE4Nkjm1XNrnlAc6z1 X-Gm-Gg: ASbGncvgsWZT8hQOD5HWAs4nIMt8wq0hpkKeoZBNlLxkudyEZwxkhvpams22VSOkuYh C3NrBhVYle3hXiaehWvuQ05FW1HcO1vxp1ffUBHhO0BU/lajWxavkNexSzDEC3I0F+eKGzf/gOd Lg6xEGbea6GG+Tj3awpg33R92X4vqcF3JTXl7rwhcSnJfQdITv1ANAaf74WNgQqwiYFqYvXmY5x IGILyDA2lQUU+2IiyVxg1KZQTkPNZ4SzPldEoNNH9KV6V9Sf2jvL7yFiwDgfQckJtHhXk4guBKq jt5WypY//I0wBz/Ox41vRhz0a4gZrxaKBMV9+IGIuey9m8DfKg19Cl8mUt4= X-Google-Smtp-Source: AGHT+IGq1RzjgyrYPhfcWQJHL+R4TgB5HHWhAZ3MvJ3X15EGFXudwYkmoL9E+ZNOdv80MTqMzR98mW/FODh2 X-Received: by 2002:a05:690c:4a04:b0:70e:18c0:dabe with SMTP id 00721157ae682-70e196319eemr46786337b3.10.1748015790947; Fri, 23 May 2025 08:56:30 -0700 (PDT) Received: from postal.iol.unh.edu (postal.iol.unh.edu. [132.177.123.84]) by smtp-relay.gmail.com with ESMTPS id 00721157ae682-70e25ac980dsm343217b3.6.2025.05.23.08.56.30 (version=TLS1_2 cipher=ECDHE-ECDSA-AES128-GCM-SHA256 bits=128/128); Fri, 23 May 2025 08:56:30 -0700 (PDT) X-Relaying-Domain: iol.unh.edu Date: Fri, 23 May 2025 08:56:30 -0700 (PDT) Message-ID: <68309aae.050a0220.fc94d.1f11SMTPIN_ADDED_MISSING@mx.google.com> Received: from [172.17.0.3] (unknown [172.18.0.76]) by postal.iol.unh.edu (Postfix) with ESMTP id 8B0D86052471; Fri, 23 May 2025 11:56:30 -0400 (EDT) Subject: |WARNING| pw153626-153662 [PATCH] [40/40] crypto/cnxk: copy 8B iv in From: dpdklab@iol.unh.edu To: Test Report Cc: dpdk-test-reports@iol.unh.edu In-Reply-To: <20250523135111.2178408-41-ktejasree@marvell.com> References: <20250523135111.2178408-41-ktejasree@marvell.com> Content-Type: text/plain X-BeenThere: test-report@dpdk.org X-Mailman-Version: 2.1.29 Precedence: list List-Id: automatic DPDK test reports List-Unsubscribe: , List-Archive: List-Post: List-Help: List-Subscribe: , Errors-To: test-report-bounces@dpdk.org Test-Label: iol-compile-amd64-testing Test-Status: WARNING http://dpdk.org/patch/153662 _Testing issues_ Submitter: Tejasree Kondoj Date: Friday, May 23 2025 13:51:11 DPDK git baseline: Repo:dpdk Branch: master CommitID:fc627d7065ba5100faa928cf2edfa1622846f542 153626-153662 --> testing issues Upstream job id: Generic-DPDK-Compile-Meson#390779 Test environment and result as below: +-----------------------------------+--------------------+-------------------+------------------+-------------------------+-------------------+----------------------+ | Environment | dpdk_meson_compile | dpdk_compile_spdk | dpdk_compile_ovs | dpdk_llvm_clang_compile | dpdk_msvc_compile | dpdk_mingw64_compile | +===================================+====================+===================+==================+=========================+===================+======================+ | CentOS Stream 9 | PASS | PASS | SKIPPED | SKIPPED | SKIPPED | SKIPPED | +-----------------------------------+--------------------+-------------------+------------------+-------------------------+-------------------+----------------------+ | CentOS Stream 10 | PASS | SKIPPED | SKIPPED | SKIPPED | SKIPPED | SKIPPED | +-----------------------------------+--------------------+-------------------+------------------+-------------------------+-------------------+----------------------+ | Fedora 40 | PASS | PASS | SKIPPED | SKIPPED | SKIPPED | SKIPPED | +-----------------------------------+--------------------+-------------------+------------------+-------------------------+-------------------+----------------------+ | Debian 12 | PASS | PASS | SKIPPED | SKIPPED | SKIPPED | SKIPPED | +-----------------------------------+--------------------+-------------------+------------------+-------------------------+-------------------+----------------------+ | Fedora 40 (Clang) | PASS | WARN | SKIPPED | SKIPPED | SKIPPED | SKIPPED | +-----------------------------------+--------------------+-------------------+------------------+-------------------------+-------------------+----------------------+ | Fedora 41 (Clang) | PASS | WARN | PASS | SKIPPED | SKIPPED | SKIPPED | +-----------------------------------+--------------------+-------------------+------------------+-------------------------+-------------------+----------------------+ | Fedora 41 | PASS | PASS | PASS | SKIPPED | SKIPPED | SKIPPED | +-----------------------------------+--------------------+-------------------+------------------+-------------------------+-------------------+----------------------+ | openSUSE Leap 15 | PASS | SKIPPED | SKIPPED | SKIPPED | SKIPPED | SKIPPED | +-----------------------------------+--------------------+-------------------+------------------+-------------------------+-------------------+----------------------+ | RHEL8 | PASS | SKIPPED | SKIPPED | SKIPPED | SKIPPED | SKIPPED | +-----------------------------------+--------------------+-------------------+------------------+-------------------------+-------------------+----------------------+ | RHEL9 | PASS | SKIPPED | SKIPPED | SKIPPED | SKIPPED | SKIPPED | +-----------------------------------+--------------------+-------------------+------------------+-------------------------+-------------------+----------------------+ | Ubuntu 20.04 | PASS | SKIPPED | SKIPPED | SKIPPED | SKIPPED | SKIPPED | +-----------------------------------+--------------------+-------------------+------------------+-------------------------+-------------------+----------------------+ | Ubuntu 22.04 | PASS | PASS | SKIPPED | SKIPPED | SKIPPED | SKIPPED | +-----------------------------------+--------------------+-------------------+------------------+-------------------------+-------------------+----------------------+ | Alpine | PASS | SKIPPED | SKIPPED | SKIPPED | SKIPPED | SKIPPED | +-----------------------------------+--------------------+-------------------+------------------+-------------------------+-------------------+----------------------+ | Ubuntu 24.04 32 Bit Cross Compile | PASS | SKIPPED | SKIPPED | SKIPPED | SKIPPED | SKIPPED | +-----------------------------------+--------------------+-------------------+------------------+-------------------------+-------------------+----------------------+ | FreeBSD 14.2 | PASS | SKIPPED | SKIPPED | SKIPPED | SKIPPED | SKIPPED | +-----------------------------------+--------------------+-------------------+------------------+-------------------------+-------------------+----------------------+ | Ubuntu 24.04 | PASS | PASS | PASS | SKIPPED | SKIPPED | SKIPPED | +-----------------------------------+--------------------+-------------------+------------------+-------------------------+-------------------+----------------------+ | Windows Server 2022 | SKIPPED | SKIPPED | SKIPPED | PASS | PASS | PASS | +-----------------------------------+--------------------+-------------------+------------------+-------------------------+-------------------+----------------------+ ==== 20 line log output for Fedora 41 (Clang) (dpdk_compile_spdk): ==== --- Failed to get log output --- ==== End log output ==== CentOS Stream 9 Kernel: Depends on container host Compiler: gcc 11.5.0 20240719 (Red Hat 11.5.0-2) CentOS Stream 10 Kernel: Depends on container host Compiler: gcc 14.2.1 20241104 (Red Hat 14.2.1-6) Fedora 40 Kernel: Depends on container host Compiler: gcc 14.2.1 20240912 (Red Hat 14.2.1-3) Debian 12 Kernel: Depends on container host Compiler: gcc (Debian 12.2.0-14) 12.2.0 Fedora 40 (Clang) Kernel: Depends on container host Compiler: clang 18.1.8 (Fedora 18.1.8-1.fc40) Fedora 41 (Clang) Kernel: Depends on container host Compiler: clang 19.1.5 (Fedora 19.1.5-1.fc41) Fedora 41 Kernel: Depends on container host Compiler: gcc 14.2.1 20240912 (Red Hat 14.2.1-3) openSUSE Leap 15 Kernel: Depends on container host Compiler: gcc (SUSE Linux) 7.5.0 RHEL8 Kernel: Depends on container host Compiler: gcc 8.5.0 20210514 (Red Hat 8.5.0-22) RHEL9 Kernel: Depends on container host Compiler: gcc 11.5.0 20240719 (Red Hat 11.5.0-2) Ubuntu 20.04 Kernel: Depends on container host Compiler: gcc (Ubuntu 9.4.0-1ubuntu1~20.04.2) 9.4.0 Ubuntu 22.04 Kernel: Depends on container host Compiler: gcc (Ubuntu 11.4.0-1ubuntu1~22.04) 11.4.0 Alpine Kernel: Depends on container host Compiler: gcc (Alpine 14.2.0) 14.2.0 Ubuntu 24.04 32 Bit Cross Compile Kernel: Depends on container host Compiler: gcc (Ubuntu 13.3.0-6ubuntu2~24.04) 13.3.0 FreeBSD 14.2 Kernel: 14.2-RELEASE Compiler: clang 18.1.6 Ubuntu 24.04 Kernel: Depends on container host Compiler: gcc (Ubuntu 13.3.0-6ubuntu2~24.04) 13.3.0 Windows Server 2022 Kernel: 10.0.20348.2031 Compiler: clang 15.0.7, gcc 14.1.0 (MinGW), and MSVC VS 19.39.33521 To view detailed results, visit: https://lab.dpdk.org/results/dashboard/patchsets/33240/ UNH-IOL DPDK Community Lab To manage your email subscriptions, visit: https://lab.dpdk.org/results/dashboard/preferences/subscriptions/