From mboxrd@z Thu Jan 1 00:00:00 1970 Return-Path: Received: from mails.dpdk.org (mails.dpdk.org [217.70.189.124]) by inbox.dpdk.org (Postfix) with ESMTP id 55AE0467C9 for ; Fri, 23 May 2025 17:56:57 +0200 (CEST) Received: from mails.dpdk.org (localhost [127.0.0.1]) by mails.dpdk.org (Postfix) with ESMTP id 510E4402B4; Fri, 23 May 2025 17:56:57 +0200 (CEST) Received: from mail-pf1-f225.google.com (mail-pf1-f225.google.com [209.85.210.225]) by mails.dpdk.org (Postfix) with ESMTP id D75F0402B4 for ; Fri, 23 May 2025 17:56:55 +0200 (CEST) Received: by mail-pf1-f225.google.com with SMTP id d2e1a72fcca58-7426c44e014so124827b3a.3 for ; Fri, 23 May 2025 08:56:55 -0700 (PDT) DKIM-Signature: v=1; a=rsa-sha256; c=relaxed/relaxed; d=iol.unh.edu; s=unh-iol; t=1748015815; x=1748620615; darn=dpdk.org; h=references:in-reply-to:cc:to:from:subject:message-id:date:from:to :cc:subject:date:message-id:reply-to; bh=K7IztzjF6z61KNxj3kX0oeOtm8l8EZTRYwRfq01TwBc=; b=gNFYVVwQFcPrTLtG8dPu3Dgv7aX6k9En4DVwuq/H9Gntw0oB2EjGYr0B0vYG4Ig0FQ g+ukidFJQbLMDar/zhzS+zBkGxggA7gKJWq2Xbfq7fG0WvwmxjgUoOSQlwCksg+hy09w ka/GjCEY2HXlX4wDv+SiZLzCImDGk9DmT93fM= X-Google-DKIM-Signature: v=1; a=rsa-sha256; c=relaxed/relaxed; d=1e100.net; s=20230601; t=1748015815; x=1748620615; h=references:in-reply-to:cc:to:from:subject:message-id:date :x-gm-message-state:from:to:cc:subject:date:message-id:reply-to; bh=K7IztzjF6z61KNxj3kX0oeOtm8l8EZTRYwRfq01TwBc=; b=cQonYdtT465hb5jjpc5YtRNDmGXC1TdeWrl6E44zkGzJh6fqaJciUOKPCXToVFPhyN AH9S0iptbWGn0CU1kO/uJ9ZGL0c1Oq2EmuyqB220HMUeQY/xg1Ld06wFGzTn9Iqp/Qf1 Np3PnXhRpHB/rXNWuiqW3RJqQ/jMP0BrzxHrSWLrR8QW//yLDZF02QDFCg6GEPqaXfUQ mroDZQf1BCjt8r9BtXJHb9e7UnXCsN9Vsk1z6bEXYRKnXpCnE0R4+aiXQu43A9u+finH hxecwqDmQPbqh9mtcaGpPsIw0dJXRhjuTPpl3IIzpfPpkm1+3BspNkSokKPGZP6FkOnK n+OQ== X-Gm-Message-State: AOJu0YwTKSpASeq5zN6uN0gaOcd2vH17bPl5kRXuPzL2vBeLNc8J21La qnYqLUbVabFNIoEPw9wNwaoZoioxI0wqudqKP9q07r0c5ajPIliBJDY8enxfcAARK7KaxIqHSmF HhReZVbjYVtlKaPRQMiHFmgPz9qeOx9rLnYRgayk4UjXi X-Gm-Gg: ASbGncsBT5JgcT/y2qEAVlk/aprTGK9YH/i2nfa63T3uykhi88mqvLV7V3/c1KtyEMa Rf1Ekee2iXsdmQjyZkmmgUf2uad76IN48eYo0zZ3szTNKRTINfEPOp7RWRl5J9bzPwR2T2PnQMG GGtAUywFJt315W/n0H2nkhcS/RAbBxn4pNErAMaKAbp6gHyqd3vkJjf5Hp9Z70uxz5pWqjkQbsE 1V93rc6YtXzMFaRysTl5ngxr4/g6k+ulo9wHg+8AC1SNz5GpFMHu3L8sXytdJxkmfz5WaKNT15m hLWG7PZQjyH/t4h+rmG0H9L95iUx+usNA1xhzhVgaYdguvrT4h2FGgy4HF0= X-Google-Smtp-Source: AGHT+IFw6mKdUpCaquTtxbtktftcRxuBS38zII5JwxrF0s3BOZMETtGRPErNRys9vMrPZcu6XyBoGOYqrkCu X-Received: by 2002:a17:902:e842:b0:233:fbb3:c5bc with SMTP id d9443c01a7336-233fbb3c677mr31782175ad.19.1748015814830; Fri, 23 May 2025 08:56:54 -0700 (PDT) Received: from postal.iol.unh.edu (postal.iol.unh.edu. [132.177.123.84]) by smtp-relay.gmail.com with ESMTPS id d9443c01a7336-231d4ae3c97sm8787265ad.63.2025.05.23.08.56.54 (version=TLS1_2 cipher=ECDHE-ECDSA-AES128-GCM-SHA256 bits=128/128); Fri, 23 May 2025 08:56:54 -0700 (PDT) X-Relaying-Domain: iol.unh.edu Date: Fri, 23 May 2025 08:56:54 -0700 (PDT) Message-ID: <68309ac6.170a0220.75a9e.037bSMTPIN_ADDED_MISSING@mx.google.com> Received: from [172.17.0.3] (unknown [172.18.0.76]) by postal.iol.unh.edu (Postfix) with ESMTP id 06C6D6052471; Fri, 23 May 2025 11:56:54 -0400 (EDT) Subject: |SUCCESS| pw153626-153662 [PATCH] [40/40] crypto/cnxk: copy 8B iv in From: dpdklab@iol.unh.edu To: Test Report Cc: dpdk-test-reports@iol.unh.edu In-Reply-To: <20250523135111.2178408-41-ktejasree@marvell.com> References: <20250523135111.2178408-41-ktejasree@marvell.com> Content-Type: text/plain X-BeenThere: test-report@dpdk.org X-Mailman-Version: 2.1.29 Precedence: list List-Id: automatic DPDK test reports List-Unsubscribe: , List-Archive: List-Post: List-Help: List-Subscribe: , Errors-To: test-report-bounces@dpdk.org Test-Label: iol-unit-amd64-testing Test-Status: SUCCESS http://dpdk.org/patch/153662 _Testing PASS_ Submitter: Tejasree Kondoj Date: Friday, May 23 2025 13:51:11 DPDK git baseline: Repo:dpdk Branch: master CommitID:fc627d7065ba5100faa928cf2edfa1622846f542 153626-153662 --> testing pass Upstream job id: Generic-Unit-Test-DPDK#340204 Test environment and result as below: +---------------------+----------------+ | Environment | dpdk_unit_test | +=====================+================+ | CentOS Stream 10 | PASS | +---------------------+----------------+ | Fedora 40 | PASS | +---------------------+----------------+ | CentOS Stream 9 | PASS | +---------------------+----------------+ | RHEL9 | PASS | +---------------------+----------------+ | Debian 12 | PASS | +---------------------+----------------+ | Fedora 41 | PASS | +---------------------+----------------+ | Fedora 41 (Clang) | PASS | +---------------------+----------------+ | Fedora 40 (Clang) | PASS | +---------------------+----------------+ | Ubuntu 22.04 | PASS | +---------------------+----------------+ | RHEL8 | PASS | +---------------------+----------------+ | Ubuntu 20.04 | PASS | +---------------------+----------------+ | Ubuntu 24.04 | PASS | +---------------------+----------------+ | Windows Server 2022 | PASS | +---------------------+----------------+ CentOS Stream 10 Kernel: Depends on container host Compiler: gcc 14.2.1 20241104 (Red Hat 14.2.1-6) Fedora 40 Kernel: Depends on container host Compiler: gcc 14.2.1 20240912 (Red Hat 14.2.1-3) CentOS Stream 9 Kernel: Depends on container host Compiler: gcc 11.5.0 20240719 (Red Hat 11.5.0-2) RHEL9 Kernel: Depends on container host Compiler: gcc 11.5.0 20240719 (Red Hat 11.5.0-2) Debian 12 Kernel: Depends on container host Compiler: gcc (Debian 12.2.0-14) 12.2.0 Fedora 41 Kernel: Depends on container host Compiler: gcc 14.2.1 20240912 (Red Hat 14.2.1-3) Fedora 41 (Clang) Kernel: Depends on container host Compiler: clang 19.1.5 (Fedora 19.1.5-1.fc41) Fedora 40 (Clang) Kernel: Depends on container host Compiler: clang 18.1.8 (Fedora 18.1.8-1.fc40) Ubuntu 22.04 Kernel: Depends on container host Compiler: gcc (Ubuntu 11.4.0-1ubuntu1~22.04) 11.4.0 RHEL8 Kernel: Depends on container host Compiler: gcc 8.5.0 20210514 (Red Hat 8.5.0-22) Ubuntu 20.04 Kernel: Depends on container host Compiler: gcc (Ubuntu 9.4.0-1ubuntu1~20.04.2) 9.4.0 Ubuntu 24.04 Kernel: Depends on container host Compiler: gcc (Ubuntu 13.3.0-6ubuntu2~24.04) 13.3.0 Windows Server 2022 Kernel: 10.0.20348.2031 Compiler: clang 15.0.7, gcc 14.1.0 (MinGW), and MSVC VS 19.39.33521 To view detailed results, visit: https://lab.dpdk.org/results/dashboard/patchsets/33240/ UNH-IOL DPDK Community Lab To manage your email subscriptions, visit: https://lab.dpdk.org/results/dashboard/preferences/subscriptions/