From mboxrd@z Thu Jan 1 00:00:00 1970 Return-Path: Received: from mails.dpdk.org (mails.dpdk.org [217.70.189.124]) by inbox.dpdk.org (Postfix) with ESMTP id 8EFCA467CA for ; Fri, 23 May 2025 19:25:01 +0200 (CEST) Received: from mails.dpdk.org (localhost [127.0.0.1]) by mails.dpdk.org (Postfix) with ESMTP id 894A64064F; Fri, 23 May 2025 19:25:01 +0200 (CEST) Received: from mail-pg1-f227.google.com (mail-pg1-f227.google.com [209.85.215.227]) by mails.dpdk.org (Postfix) with ESMTP id 5A1DC4064F for ; Fri, 23 May 2025 19:25:00 +0200 (CEST) Received: by mail-pg1-f227.google.com with SMTP id 41be03b00d2f7-b1fb650bdf7so49716a12.1 for ; Fri, 23 May 2025 10:25:00 -0700 (PDT) DKIM-Signature: v=1; a=rsa-sha256; c=relaxed/relaxed; d=iol.unh.edu; s=unh-iol; t=1748021099; x=1748625899; darn=dpdk.org; h=references:in-reply-to:cc:to:from:subject:message-id:date:from:to :cc:subject:date:message-id:reply-to; bh=fPDOSLUbfZLxf2GoacfuTIIcUltDZR/AI+XKuFi6pqI=; b=A58J0MuW3J1RoCdVN7opyfNuX+x8K3LGfUoJjMxiTUPWfqU6u18jNeogerWWRfjnEE qhE5AjnKAlEh3VXqHvKFr+HfQYXt97yAPlMtKZED2aaQoVd6Pf7GWQGqQCguECLJzJUv VHjuz1uQWdWMs7NdeZvCZhen4sJS5rGbP7Vcs= X-Google-DKIM-Signature: v=1; a=rsa-sha256; c=relaxed/relaxed; d=1e100.net; s=20230601; t=1748021099; x=1748625899; h=references:in-reply-to:cc:to:from:subject:message-id:date :x-gm-message-state:from:to:cc:subject:date:message-id:reply-to; bh=fPDOSLUbfZLxf2GoacfuTIIcUltDZR/AI+XKuFi6pqI=; b=q1KTjOAqT7f0gNTuTPxuMQ/HVZRo8yyGVfmexU/FqX1Kk9RpsbKaH0ivf840l+/7Di flzR/Yok7HCjtYUeOvI1IrqWT/N6EMKjVCdTRA3LYb0JtYodUj6i0a9rhC/CZlFH9Ai4 LYnAgpeyTdLH6mItLe5/4IWAYDKnxg8EV0jB2/nUIMAgFysJwfPf6jkcA7ZyqyXzbETB kWCcs+hj5/a7XjimcIkiFYEi1A9KxYBT6aD8GO2+AAGTmmTsmukxdwVfVsa+mruPNCC1 NKL9J1feBHgFK48V/uDnNjumzdCMCt3OJndl6ucL6GENJ3YFzOVNasI915HxltRtwIsg bvYg== X-Gm-Message-State: AOJu0Yx9UmjuJE7OnpWFakhGDSiYd9Ksj7Q4z1cfv8PR2F/Nf1fOHtCq WHXPejHg3g2dhe9AkHid9n6GpwRKs7V7S0Cyo9w23IAqqhSZCmavVHPpMNJLCuh9bwi+dYe1rEd S/GKZus89ST8+ubtUpz03f1WLJJLV7pAXyLEI6YtlOiQO X-Gm-Gg: ASbGncvIm43EB7gZQWtJW7/aUr8HvvcC3wl3EDIGIWyF4ShEgcZ1Rwj4HGZIBeMTUbr h4NyKJQq3RcT2IUCSKyharjR2/pg1B9Lg5GiMK8dECL+nH6YnnqAYqBhWyUP0i9proR3Wa4Xwnl CnPfFKN2bcZ/HKUSqsS1ar9Zf9QmYRQXm77IJvQRxHW+nDmy+DeGPLRnT7fa0iCTgMOYkwCQOzp BvFn/FnO7Qc8jcv8O9UScmfOObPXFq2+DgmfbRQMK3F7Wo7E0Mg+cuTLfuuGPDJWoFxokOFy4w6 rRFSAfF1XcO4Rod2c/s3p5HdYA913pMKwHyGtHd57u+3Pl+ROpyP2d88fVQ= X-Google-Smtp-Source: AGHT+IH5F4qXOu5/86KYT8JIjEI9M/iL1LdAy4GHX2eI60Io142UlmcxXjRtjNiEMb0aX3NAdXvCo0m7jQCB X-Received: by 2002:a17:902:ef45:b0:220:e924:99dd with SMTP id d9443c01a7336-23414fbc1a9mr3167305ad.34.1748021099484; Fri, 23 May 2025 10:24:59 -0700 (PDT) Received: from postal.iol.unh.edu (postal.iol.unh.edu. [132.177.123.84]) by smtp-relay.gmail.com with ESMTPS id d9443c01a7336-232059b5bccsm7056115ad.35.2025.05.23.10.24.59 (version=TLS1_2 cipher=ECDHE-ECDSA-AES128-GCM-SHA256 bits=128/128); Fri, 23 May 2025 10:24:59 -0700 (PDT) X-Relaying-Domain: iol.unh.edu Date: Fri, 23 May 2025 10:24:59 -0700 (PDT) Message-ID: <6830af6b.170a0220.1084f3.425cSMTPIN_ADDED_MISSING@mx.google.com> Received: from [172.21.0.9] (unknown [172.18.0.240]) by postal.iol.unh.edu (Postfix) with ESMTP id E34C46052471; Fri, 23 May 2025 13:24:58 -0400 (EDT) Subject: |SUCCESS| pw153664-153669 [PATCH] [v2,6/6] net/cnxk: fix bufsize in From: dpdklab@iol.unh.edu To: Test Report Cc: dpdk-test-reports@iol.unh.edu In-Reply-To: <20250523155347.1156891-6-rbhansali@marvell.com> References: <20250523155347.1156891-6-rbhansali@marvell.com> Content-Type: text/plain X-BeenThere: test-report@dpdk.org X-Mailman-Version: 2.1.29 Precedence: list List-Id: automatic DPDK test reports List-Unsubscribe: , List-Archive: List-Post: List-Help: List-Subscribe: , Errors-To: test-report-bounces@dpdk.org Test-Label: iol-unit-amd64-testing Test-Status: SUCCESS http://dpdk.org/patch/153669 _Testing PASS_ Submitter: Rahul Bhansali Date: Friday, May 23 2025 15:53:47 DPDK git baseline: Repo:dpdk Branch: master CommitID:ec01f2cea6bdfa2e67976e9656ca03ba96dd01eb 153664-153669 --> testing pass Upstream job id: Generic-Unit-Test-DPDK#340237 Test environment and result as below: +---------------------+----------------+ | Environment | dpdk_unit_test | +=====================+================+ | CentOS Stream 10 | PASS | +---------------------+----------------+ | CentOS Stream 9 | PASS | +---------------------+----------------+ | Ubuntu 22.04 | PASS | +---------------------+----------------+ | Fedora 41 | PASS | +---------------------+----------------+ | Debian 12 | PASS | +---------------------+----------------+ | Fedora 40 (Clang) | PASS | +---------------------+----------------+ | Fedora 40 | PASS | +---------------------+----------------+ | Ubuntu 24.04 | PASS | +---------------------+----------------+ | Fedora 41 (Clang) | PASS | +---------------------+----------------+ | RHEL9 | PASS | +---------------------+----------------+ | Ubuntu 20.04 | PASS | +---------------------+----------------+ | RHEL8 | PASS | +---------------------+----------------+ | Windows Server 2022 | PASS | +---------------------+----------------+ CentOS Stream 10 Kernel: Depends on container host Compiler: gcc 14.2.1 20241104 (Red Hat 14.2.1-6) CentOS Stream 9 Kernel: Depends on container host Compiler: gcc 11.5.0 20240719 (Red Hat 11.5.0-2) Ubuntu 22.04 Kernel: Depends on container host Compiler: gcc (Ubuntu 11.4.0-1ubuntu1~22.04) 11.4.0 Fedora 41 Kernel: Depends on container host Compiler: gcc 14.2.1 20240912 (Red Hat 14.2.1-3) Debian 12 Kernel: Depends on container host Compiler: gcc (Debian 12.2.0-14) 12.2.0 Fedora 40 (Clang) Kernel: Depends on container host Compiler: clang 18.1.8 (Fedora 18.1.8-1.fc40) Fedora 40 Kernel: Depends on container host Compiler: gcc 14.2.1 20240912 (Red Hat 14.2.1-3) Ubuntu 24.04 Kernel: Depends on container host Compiler: gcc (Ubuntu 13.3.0-6ubuntu2~24.04) 13.3.0 Fedora 41 (Clang) Kernel: Depends on container host Compiler: clang 19.1.5 (Fedora 19.1.5-1.fc41) RHEL9 Kernel: Depends on container host Compiler: gcc 11.5.0 20240719 (Red Hat 11.5.0-2) Ubuntu 20.04 Kernel: Depends on container host Compiler: gcc (Ubuntu 9.4.0-1ubuntu1~20.04.2) 9.4.0 RHEL8 Kernel: Depends on container host Compiler: gcc 8.5.0 20210514 (Red Hat 8.5.0-22) Windows Server 2022 Kernel: 10.0.20348.2031 Compiler: clang 15.0.7, gcc 14.1.0 (MinGW), and MSVC VS 19.39.33521 To view detailed results, visit: https://lab.dpdk.org/results/dashboard/patchsets/33242/ UNH-IOL DPDK Community Lab To manage your email subscriptions, visit: https://lab.dpdk.org/results/dashboard/preferences/subscriptions/