automatic DPDK test reports
 help / color / mirror / Atom feed
From: dpdklab@iol.unh.edu
To: Test Report <test-report@dpdk.org>
Cc: dpdk-test-reports@iol.unh.edu
Subject: |PENDING| pw153663 [PATCH] crypto/virtio: add request check on reque
Date: Fri, 23 May 2025 10:44:31 -0700 (PDT)	[thread overview]
Message-ID: <6830b3ff.630a0220.35b1fb.840eSMTPIN_ADDED_MISSING@mx.google.com> (raw)
In-Reply-To: <20250523140450.75543-1-radu.nicolau@intel.com>

Test-Label: iol-unit-arm64-testing
Test-Status: PENDING
http://dpdk.org/patch/153663

_Testing pending_

Submitter: Radu Nicolau <radu.nicolau@intel.com>
Date: Friday, May 23 2025 14:04:50 
DPDK git baseline: Repo:dpdk
  Branch: master
  CommitID:fc627d7065ba5100faa928cf2edfa1622846f542

153663 --> testing pending

Upstream job id: Aarch32-Unit-Test#6324

Test environment and result as below:

+-----------------------------+---------------------------+------------------------------+--------------+----------------+
|         Environment         | cryptodev_sw_zuc_autotest | cryptodev_sw_snow3g_autotest | lpm_autotest | dpdk_unit_test |
+=============================+===========================+==============================+==============+================+
| Debian 12 (arm)             | PEND                      | PEND                         | SKIPPED      | PEND           |
+-----------------------------+---------------------------+------------------------------+--------------+----------------+
| Ubuntu 20.04 ARM SVE        | SKIPPED                   | SKIPPED                      | PEND         | SKIPPED        |
+-----------------------------+---------------------------+------------------------------+--------------+----------------+
| Ubuntu 24.04 (ARM)          | SKIPPED                   | SKIPPED                      | SKIPPED      | PEND           |
+-----------------------------+---------------------------+------------------------------+--------------+----------------+
| CentOS Stream 10 (ARM)      | SKIPPED                   | SKIPPED                      | SKIPPED      | PEND           |
+-----------------------------+---------------------------+------------------------------+--------------+----------------+
| Fedora 40 (ARM)             | SKIPPED                   | SKIPPED                      | SKIPPED      | PEND           |
+-----------------------------+---------------------------+------------------------------+--------------+----------------+
| CentOS Stream 9 (ARM)       | SKIPPED                   | SKIPPED                      | SKIPPED      | PEND           |
+-----------------------------+---------------------------+------------------------------+--------------+----------------+
| Fedora 40 (ARM Clang)       | SKIPPED                   | SKIPPED                      | SKIPPED      | PEND           |
+-----------------------------+---------------------------+------------------------------+--------------+----------------+
| Ubuntu 20.04 (ARM)          | SKIPPED                   | SKIPPED                      | SKIPPED      | PEND           |
+-----------------------------+---------------------------+------------------------------+--------------+----------------+
| Ubuntu 22.04 (ARM)          | SKIPPED                   | SKIPPED                      | SKIPPED      | PEND           |
+-----------------------------+---------------------------+------------------------------+--------------+----------------+
| Fedora 41 (ARM)             | SKIPPED                   | SKIPPED                      | SKIPPED      | PEND           |
+-----------------------------+---------------------------+------------------------------+--------------+----------------+
| Fedora 41 (ARM Clang)       | SKIPPED                   | SKIPPED                      | SKIPPED      | PEND           |
+-----------------------------+---------------------------+------------------------------+--------------+----------------+
| RHEL9 (ARM)                 | SKIPPED                   | SKIPPED                      | SKIPPED      | PEND           |
+-----------------------------+---------------------------+------------------------------+--------------+----------------+
| 32-bit Ubuntu 22.04.4 (ARM) | SKIPPED                   | SKIPPED                      | SKIPPED      | PASS           |
+-----------------------------+---------------------------+------------------------------+--------------+----------------+


Debian 12 (arm)
	Kernel: Depends on container host
	Compiler: gcc (Debian 12.2.0-14) 12.2.0

Ubuntu 20.04 ARM SVE
	Kernel: Depends on container host
	Compiler: gcc (Ubuntu 10.5.0-1ubuntu1~20.04) 10.5.0

Ubuntu 24.04 (ARM)
	Kernel: Depends on container host
	Compiler: gcc (Ubuntu 13.3.0-6ubuntu2~24.04) 13.3.0

CentOS Stream 10 (ARM)
	Kernel: Depends on container host
	Compiler: gcc 14.2.1 20241104 (Red Hat 14.2.1-6)

Fedora 40 (ARM)
	Kernel: Depends on container host
	Compiler: gcc 14.2.1 20240912 (Red Hat 14.2.1-3)

CentOS Stream 9 (ARM)
	Kernel: Depends on container host
	Compiler: gcc 11.5.0 20240719 (Red Hat 11.5.0-2)

Fedora 40 (ARM Clang)
	Kernel: Depends on container host
	Compiler: clang 18.1.8 (Fedora 18.1.8-1.fc40)

Ubuntu 20.04 (ARM)
	Kernel: Depends on container host
	Compiler: gcc (Ubuntu 9.4.0-1ubuntu1~20.04.2) 9.4.0

Ubuntu 22.04 (ARM)
	Kernel: Depends on container host
	Compiler: gcc (Ubuntu 11.4.0-1ubuntu1~22.04) 11.4.0

Fedora 41 (ARM)
	Kernel: Depends on container host
	Compiler: gcc 14.2.1 20240912 (Red Hat 14.2.1-3)

Fedora 41 (ARM Clang)
	Kernel: Depends on container host
	Compiler: clang 19.1.5 (Fedora 19.1.5-1.fc41)

RHEL9 (ARM)
	Kernel: Depends on container host
	Compiler: gcc 11.5.0 20240719 (Red Hat 11.5.0-2)

32-bit Ubuntu 22.04.4 (ARM)
	Kernel: 5.15.83+ aarch64
	Compiler: gcc (Ubuntu 11.4.0-1ubuntu1~22.04) 11.4.0

To view detailed results, visit:
https://lab.dpdk.org/results/dashboard/patchsets/33241/

UNH-IOL DPDK Community Lab

To manage your email subscriptions, visit: 
https://lab.dpdk.org/results/dashboard/preferences/subscriptions/

  parent reply	other threads:[~2025-05-23 17:44 UTC|newest]

Thread overview: 24+ messages / expand[flat|nested]  mbox.gz  Atom feed  top
     [not found] <20250523140450.75543-1-radu.nicolau@intel.com>
2025-05-23 13:34 ` |SUCCESS| pw153663 [PATCH] crypto/virtio: add request check on request side qemudev
2025-05-23 13:39 ` qemudev
2025-05-23 14:06 ` checkpatch
2025-05-23 15:23 ` 0-day Robot
2025-05-23 17:02 ` |SUCCESS| pw153663 [PATCH] crypto/virtio: add request check on reque dpdklab
2025-05-23 17:16 ` dpdklab
2025-05-23 17:21 ` dpdklab
2025-05-23 17:24 ` |PENDING| " dpdklab
2025-05-23 17:25 ` |SUCCESS| " dpdklab
2025-05-23 17:25 ` dpdklab
2025-05-23 17:39 ` dpdklab
2025-05-23 17:44 ` dpdklab [this message]
2025-05-23 17:54 ` |PENDING| " dpdklab
2025-05-23 17:57 ` dpdklab
2025-05-23 18:00 ` dpdklab
2025-05-23 18:07 ` |SUCCESS| " dpdklab
2025-05-23 18:45 ` |PENDING| " dpdklab
2025-05-23 18:59 ` |WARNING| " dpdklab
2025-05-23 19:01 ` |SUCCESS| " dpdklab
2025-05-23 19:07 ` dpdklab
2025-05-23 19:12 ` dpdklab
2025-05-23 19:29 ` |WARNING| " dpdklab
2025-05-23 23:03 ` |SUCCESS| " dpdklab
2025-05-24  0:52 ` dpdklab

Reply instructions:

You may reply publicly to this message via plain-text email
using any one of the following methods:

* Save the following mbox file, import it into your mail client,
  and reply-to-all from there: mbox

  Avoid top-posting and favor interleaved quoting:
  https://en.wikipedia.org/wiki/Posting_style#Interleaved_style

* Reply using the --to, --cc, and --in-reply-to
  switches of git-send-email(1):

  git send-email \
    --in-reply-to=6830b3ff.630a0220.35b1fb.840eSMTPIN_ADDED_MISSING@mx.google.com \
    --to=dpdklab@iol.unh.edu \
    --cc=dpdk-test-reports@iol.unh.edu \
    --cc=test-report@dpdk.org \
    /path/to/YOUR_REPLY

  https://kernel.org/pub/software/scm/git/docs/git-send-email.html

* If your mail client supports setting the In-Reply-To header
  via mailto: links, try the mailto: link
Be sure your reply has a Subject: header at the top and a blank line before the message body.
This is a public inbox, see mirroring instructions
for how to clone and mirror all data and code used for this inbox;
as well as URLs for NNTP newsgroup(s).