From mboxrd@z Thu Jan 1 00:00:00 1970 Return-Path: Received: from mails.dpdk.org (mails.dpdk.org [217.70.189.124]) by inbox.dpdk.org (Postfix) with ESMTP id 8921C467CA for ; Fri, 23 May 2025 19:45:58 +0200 (CEST) Received: from mails.dpdk.org (localhost [127.0.0.1]) by mails.dpdk.org (Postfix) with ESMTP id 834B34064E; Fri, 23 May 2025 19:45:58 +0200 (CEST) Received: from mail-pj1-f99.google.com (mail-pj1-f99.google.com [209.85.216.99]) by mails.dpdk.org (Postfix) with ESMTP id DEFF84064E for ; Fri, 23 May 2025 19:45:56 +0200 (CEST) Received: by mail-pj1-f99.google.com with SMTP id 98e67ed59e1d1-30e7bfef364so216639a91.1 for ; Fri, 23 May 2025 10:45:56 -0700 (PDT) DKIM-Signature: v=1; a=rsa-sha256; c=relaxed/relaxed; d=iol.unh.edu; s=unh-iol; t=1748022356; x=1748627156; darn=dpdk.org; h=references:in-reply-to:cc:to:from:subject:message-id:date:from:to :cc:subject:date:message-id:reply-to; bh=Ia7qySRh1ymEKtyh3J5cqwsFjoI04o6VqePFGqXEKH4=; b=gwXNCV7yDctbzshmHb9eMPhMo3MKSGb97dDPj0ILoF9op9gzRSbBt0OWqyZgzHwbjJ evEZU5nwA5BN7pGau2TG8Zvhh5TiIZjDoTK1gAgWfX241Njgkq1nTij0Yupt+9UN2K3y ursnST1ZwWZ/dEso0ZC+jz2/X7EIMXoMoW0Wk= X-Google-DKIM-Signature: v=1; a=rsa-sha256; c=relaxed/relaxed; d=1e100.net; s=20230601; t=1748022356; x=1748627156; h=references:in-reply-to:cc:to:from:subject:message-id:date :x-gm-message-state:from:to:cc:subject:date:message-id:reply-to; bh=Ia7qySRh1ymEKtyh3J5cqwsFjoI04o6VqePFGqXEKH4=; b=aB3hfvGOiT2afiGJlFyGrdID/jroLdQk7u5vnc+IJpYX+3GowET6j7McmueKWnJ8R9 qmPMVXqW6YpMy0UfIv2yR5zozJf0iBfKKdy3Q/YR+xLJDH2yhPLT0GrFwMESuipDpTKE GpXoQZqlFGvzjoKtyicrKWooR7jOdsc+muT49rt9dyHDLiAoR+XioiA799H1RUSqdpsf 9TyLxJiQo4cm/n1dz4TJ2IN2S37zBEpEAmYbevYr8t+9fNUTX30vusVyu6G3h2ZFUfTC N1/qmmKAuISoK4K3NnMYN3Z7bkLD91nPp3GcpNvBXaO0YE13q31vwzT8xqhLFVBGVhUa TxBg== X-Gm-Message-State: AOJu0Yy4a5tVtE73V7lT0TFWT2gkQ46k1UM2RnCF92QpNHJz7+v/eoCK jXuGEIbdfA0mLFk5SMg9D7lIxYyyhzpQGPhMvLIedX5EB86tM9X7Zly6/uZCrV28YLQBDLgQ+P6 0Mi8rlN/qkhIqIILEnDq7iAfIXbvo+w9DSNHX7lxlIkpXsRg8OSsbnkDpPMDN X-Gm-Gg: ASbGncteIwSvXFTnaf1joAbVfSkfKjM2/7oHaOklfmumDYlAD8SQqEqpPBYKY7ZkRNO eJkPRj9qTSWesVJ7ZgK+AdzezXrufhtcZZJAQ19sve3bhzJ7Yb9+6/AVUtS10Vg89KkzKskf+aD L+7BKNhHutgG4PjD2AZEBxCQ1KGlT/RCnouqHioUg+pBRpcmCiNMNTUd56Sd84ej9Jur/FpClJ8 8WvCVVdfxL1JtDnEI9YXujNmy5T9aYJ3gRC8EREEruPJPPmQfbvf1sW3+idO9GvKLp16bQyGzII Ch1ic+iWJB/hYgjCpL/AYT9Ywqcx2xhZ9ZZd X-Google-Smtp-Source: AGHT+IGmEM9nz4DFve22up6v6DV6x6ipGoeY0DJrBFyg7rIkEp/9phhdrKfcTHev+VU+8Kv8pakT3Do7Qtuk X-Received: by 2002:a17:90b:48ce:b0:2ee:d371:3227 with SMTP id 98e67ed59e1d1-30e7d53fedcmr53472590a91.17.1748022355800; Fri, 23 May 2025 10:45:55 -0700 (PDT) Received: from postal.iol.unh.edu (postal.iol.unh.edu. [2606:4100:3880:1234::84]) by smtp-relay.gmail.com with ESMTPS id 98e67ed59e1d1-30f36363dfdsm606863a91.3.2025.05.23.10.45.55 (version=TLS1_2 cipher=ECDHE-ECDSA-AES128-GCM-SHA256 bits=128/128); Fri, 23 May 2025 10:45:55 -0700 (PDT) X-Relaying-Domain: iol.unh.edu Date: Fri, 23 May 2025 10:45:55 -0700 (PDT) Message-ID: <6830b453.170a0220.1f2cd9.ff97SMTPIN_ADDED_MISSING@mx.google.com> Received: from [172.21.0.5] (unknown [172.18.0.240]) by postal.iol.unh.edu (Postfix) with ESMTP id EE5536052472; Fri, 23 May 2025 13:45:54 -0400 (EDT) Subject: |WARNING| pw153664-153669 [PATCH] [v2,6/6] net/cnxk: fix bufsize in From: dpdklab@iol.unh.edu To: Test Report Cc: dpdk-test-reports@iol.unh.edu In-Reply-To: <20250523155347.1156891-6-rbhansali@marvell.com> References: <20250523155347.1156891-6-rbhansali@marvell.com> Content-Type: text/plain X-BeenThere: test-report@dpdk.org X-Mailman-Version: 2.1.29 Precedence: list List-Id: automatic DPDK test reports List-Unsubscribe: , List-Archive: List-Post: List-Help: List-Subscribe: , Errors-To: test-report-bounces@dpdk.org Test-Label: iol-compile-amd64-testing Test-Status: WARNING http://dpdk.org/patch/153669 _Testing issues_ Submitter: Rahul Bhansali Date: Friday, May 23 2025 15:53:47 DPDK git baseline: Repo:dpdk Branch: master CommitID:ec01f2cea6bdfa2e67976e9656ca03ba96dd01eb 153664-153669 --> testing issues Upstream job id: Generic-DPDK-Compile-Meson#390807 Test environment and result as below: +-----------------------------------+--------------------+-------------------+------------------+-------------------+-------------------------+----------------------+ | Environment | dpdk_meson_compile | dpdk_compile_spdk | dpdk_compile_ovs | dpdk_msvc_compile | dpdk_llvm_clang_compile | dpdk_mingw64_compile | +===================================+====================+===================+==================+===================+=========================+======================+ | CentOS Stream 9 | PASS | PASS | SKIPPED | SKIPPED | SKIPPED | SKIPPED | +-----------------------------------+--------------------+-------------------+------------------+-------------------+-------------------------+----------------------+ | CentOS Stream 10 | PASS | SKIPPED | SKIPPED | SKIPPED | SKIPPED | SKIPPED | +-----------------------------------+--------------------+-------------------+------------------+-------------------+-------------------------+----------------------+ | Debian 12 | PASS | PASS | SKIPPED | SKIPPED | SKIPPED | SKIPPED | +-----------------------------------+--------------------+-------------------+------------------+-------------------+-------------------------+----------------------+ | Fedora 40 (Clang) | PASS | WARN | SKIPPED | SKIPPED | SKIPPED | SKIPPED | +-----------------------------------+--------------------+-------------------+------------------+-------------------+-------------------------+----------------------+ | Fedora 41 | PASS | PASS | PASS | SKIPPED | SKIPPED | SKIPPED | +-----------------------------------+--------------------+-------------------+------------------+-------------------+-------------------------+----------------------+ | Ubuntu 20.04 | PASS | SKIPPED | SKIPPED | SKIPPED | SKIPPED | SKIPPED | +-----------------------------------+--------------------+-------------------+------------------+-------------------+-------------------------+----------------------+ | openSUSE Leap 15 | PASS | SKIPPED | SKIPPED | SKIPPED | SKIPPED | SKIPPED | +-----------------------------------+--------------------+-------------------+------------------+-------------------+-------------------------+----------------------+ | RHEL8 | PASS | SKIPPED | SKIPPED | SKIPPED | SKIPPED | SKIPPED | +-----------------------------------+--------------------+-------------------+------------------+-------------------+-------------------------+----------------------+ | RHEL9 | PASS | SKIPPED | SKIPPED | SKIPPED | SKIPPED | SKIPPED | +-----------------------------------+--------------------+-------------------+------------------+-------------------+-------------------------+----------------------+ | Ubuntu 24.04 | PASS | PASS | PASS | SKIPPED | SKIPPED | SKIPPED | +-----------------------------------+--------------------+-------------------+------------------+-------------------+-------------------------+----------------------+ | Alpine | PEND | SKIPPED | SKIPPED | SKIPPED | SKIPPED | SKIPPED | +-----------------------------------+--------------------+-------------------+------------------+-------------------+-------------------------+----------------------+ | Ubuntu 22.04 | PASS | PASS | SKIPPED | SKIPPED | SKIPPED | SKIPPED | +-----------------------------------+--------------------+-------------------+------------------+-------------------+-------------------------+----------------------+ | Ubuntu 24.04 32 Bit Cross Compile | PEND | SKIPPED | SKIPPED | SKIPPED | SKIPPED | SKIPPED | +-----------------------------------+--------------------+-------------------+------------------+-------------------+-------------------------+----------------------+ | FreeBSD 14.2 | PASS | SKIPPED | SKIPPED | SKIPPED | SKIPPED | SKIPPED | +-----------------------------------+--------------------+-------------------+------------------+-------------------+-------------------------+----------------------+ | Fedora 40 | PASS | PASS | SKIPPED | SKIPPED | SKIPPED | SKIPPED | +-----------------------------------+--------------------+-------------------+------------------+-------------------+-------------------------+----------------------+ | Fedora 41 (Clang) | PEND | PEND | PEND | SKIPPED | SKIPPED | SKIPPED | +-----------------------------------+--------------------+-------------------+------------------+-------------------+-------------------------+----------------------+ | Windows Server 2022 | SKIPPED | SKIPPED | SKIPPED | PASS | PASS | PEND | +-----------------------------------+--------------------+-------------------+------------------+-------------------+-------------------------+----------------------+ ==== 20 line log output for Fedora 40 (Clang) (dpdk_compile_spdk): ==== --- Failed to get log output --- ==== End log output ==== CentOS Stream 9 Kernel: Depends on container host Compiler: gcc 11.5.0 20240719 (Red Hat 11.5.0-2) CentOS Stream 10 Kernel: Depends on container host Compiler: gcc 14.2.1 20241104 (Red Hat 14.2.1-6) Debian 12 Kernel: Depends on container host Compiler: gcc (Debian 12.2.0-14) 12.2.0 Fedora 40 (Clang) Kernel: Depends on container host Compiler: clang 18.1.8 (Fedora 18.1.8-1.fc40) Fedora 41 Kernel: Depends on container host Compiler: gcc 14.2.1 20240912 (Red Hat 14.2.1-3) Ubuntu 20.04 Kernel: Depends on container host Compiler: gcc (Ubuntu 9.4.0-1ubuntu1~20.04.2) 9.4.0 openSUSE Leap 15 Kernel: Depends on container host Compiler: gcc (SUSE Linux) 7.5.0 RHEL8 Kernel: Depends on container host Compiler: gcc 8.5.0 20210514 (Red Hat 8.5.0-22) RHEL9 Kernel: Depends on container host Compiler: gcc 11.5.0 20240719 (Red Hat 11.5.0-2) Ubuntu 24.04 Kernel: Depends on container host Compiler: gcc (Ubuntu 13.3.0-6ubuntu2~24.04) 13.3.0 Alpine Kernel: Depends on container host Compiler: gcc (Alpine 14.2.0) 14.2.0 Ubuntu 22.04 Kernel: Depends on container host Compiler: gcc (Ubuntu 11.4.0-1ubuntu1~22.04) 11.4.0 Ubuntu 24.04 32 Bit Cross Compile Kernel: Depends on container host Compiler: gcc (Ubuntu 13.3.0-6ubuntu2~24.04) 13.3.0 FreeBSD 14.2 Kernel: 14.2-RELEASE Compiler: clang 18.1.6 Fedora 40 Kernel: Depends on container host Compiler: gcc 14.2.1 20240912 (Red Hat 14.2.1-3) Fedora 41 (Clang) Kernel: Depends on container host Compiler: clang 19.1.5 (Fedora 19.1.5-1.fc41) Windows Server 2022 Kernel: 10.0.20348.2031 Compiler: clang 15.0.7, gcc 14.1.0 (MinGW), and MSVC VS 19.39.33521 To view detailed results, visit: https://lab.dpdk.org/results/dashboard/patchsets/33242/ UNH-IOL DPDK Community Lab To manage your email subscriptions, visit: https://lab.dpdk.org/results/dashboard/preferences/subscriptions/