From mboxrd@z Thu Jan  1 00:00:00 1970
Return-Path: <test-report-bounces@dpdk.org>
Received: from mails.dpdk.org (mails.dpdk.org [217.70.189.124])
	by inbox.dpdk.org (Postfix) with ESMTP id 2D005467CB
	for <public@inbox.dpdk.org>; Fri, 23 May 2025 20:25:51 +0200 (CEST)
Received: from mails.dpdk.org (localhost [127.0.0.1])
	by mails.dpdk.org (Postfix) with ESMTP id 00CB340611;
	Fri, 23 May 2025 20:25:51 +0200 (CEST)
Received: from mail-il1-f225.google.com (mail-il1-f225.google.com
 [209.85.166.225])
 by mails.dpdk.org (Postfix) with ESMTP id 876A740611
 for <test-report@dpdk.org>; Fri, 23 May 2025 20:25:49 +0200 (CEST)
Received: by mail-il1-f225.google.com with SMTP id
 e9e14a558f8ab-3dc73b1bd7aso1127635ab.1
 for <test-report@dpdk.org>; Fri, 23 May 2025 11:25:49 -0700 (PDT)
DKIM-Signature: v=1; a=rsa-sha256; c=relaxed/relaxed;
 d=iol.unh.edu; s=unh-iol; t=1748024749; x=1748629549; darn=dpdk.org;
 h=references:in-reply-to:cc:to:from:subject:message-id:date:from:to
 :cc:subject:date:message-id:reply-to;
 bh=rq7eGbe3qzo9JY05ht1lhkYpQRrmpQRo98UFQ2SRCrQ=;
 b=U5mnk2dl2VchSqmT25C5i5HElRSQLFRr4k2bCR99j6K1U4LOo5SbuaU5uAfI2p7TfD
 eYZdLWJaPO0XvPPsSFTPxEu++Lx0ldZaU+kD4kL/qhCT837cOYzcIC7gtRPpD1Ua5tas
 gFCH647pAreHAe5rwwxaKzI9tFeJZBxK/2IvE=
X-Google-DKIM-Signature: v=1; a=rsa-sha256; c=relaxed/relaxed;
 d=1e100.net; s=20230601; t=1748024749; x=1748629549;
 h=references:in-reply-to:cc:to:from:subject:message-id:date
 :x-gm-message-state:from:to:cc:subject:date:message-id:reply-to;
 bh=rq7eGbe3qzo9JY05ht1lhkYpQRrmpQRo98UFQ2SRCrQ=;
 b=XNOeyKLzLEFKiO9duzZQbwvgjrmsOfqKTgLwQmlMmcI69xcEXs7W8wqUuxF97BVxvO
 K0BWuQVHnnnKWHqv/pwgyrkyEtKjF25ljhCiLfHezqBkcwwdwJyNCDkt+g7bDNemwhs3
 khPv6RPrOT4uG4+/gsQmyxabzeyS8LEl1Qp7Jftubs0C0/tnII2WeOH3IV+Ba9nvVfEJ
 iMI5b0LIeRArk+W8i1CwhGAyyADD+Yp4qraU6P8NF/Dz4QJNl8ZoOdbi+x/jzgDXl0ZM
 sx0xGkkUGkGoG5WZydP6tKyQdNxYu49xd8j2dSC8/EY8nYZOV+73shj3omahHQS5t2vB
 6eoA==
X-Gm-Message-State: AOJu0YyMfzBRBAfh9RI3rKBbq5TrU+zXOVX0TOS1v27iv3MMyCfdYK36
 1hKgxOlRFB4wT/gk4J0jdIocKjutBh/mrG+yT7XW3H0duW5CIYgICWSsPWp+Z1eH40yZL6QK4YS
 0+ifrBBsuPincpXD4E7mOLZh18jcRZxx/RePvFxeYOzKX
X-Gm-Gg: ASbGncsyyH5NCdN+HA3ZTK7a3n/DwNakLwL4uhXNYljAXF1/QPvdFcJoRhB+UfYKCSa
 TENlQFzcTLp7vtt9tBgOKE4LgxzYabvYdZJXl9nEp6+fwYvKav5p9mksE36b35RgYdlguh4XM8o
 CbViGh3ybettjlUmyRzqpmyYI+qFi597mwslwUN/S5gYeo8etCtr/i0prvBg7vczkT86cZcGNuA
 DehfiaawA6X25g3W0cXxrn794ZHreixjN6/jndzkDHjm+eBirQao2Dm4ZzJFwxspySxTqrXjOPe
 7srQhp0rR7BjdeIJKTUZYoxMfSaNXAYU0E9mfkJLNo0UnM9bbJB+vEHfcV8=
X-Google-Smtp-Source: AGHT+IEvjYzH7dboKec2Nfucw7MweZE4lh/fnYtZBSrKTEP4pTXvE3Nxt9ab4NYPdK1bXky2Hf+DW2kxydLB
X-Received: by 2002:a05:6e02:2604:b0:3dc:7bc9:503e with SMTP id
 e9e14a558f8ab-3dc9b66402cmr2404525ab.2.1748024748674; 
 Fri, 23 May 2025 11:25:48 -0700 (PDT)
Received: from postal.iol.unh.edu (postal.iol.unh.edu. [132.177.123.84])
 by smtp-relay.gmail.com with ESMTPS id
 e9e14a558f8ab-3dc7930a54fsm4970195ab.5.2025.05.23.11.25.48
 (version=TLS1_2 cipher=ECDHE-ECDSA-AES128-GCM-SHA256 bits=128/128);
 Fri, 23 May 2025 11:25:48 -0700 (PDT)
X-Relaying-Domain: iol.unh.edu
Date: Fri, 23 May 2025 11:25:48 -0700 (PDT)
Message-ID: <6830bdac.050a0220.1435d4.acf6SMTPIN_ADDED_MISSING@mx.google.com>
Received: from [172.21.0.5] (unknown [172.18.0.240])
 by postal.iol.unh.edu (Postfix) with ESMTP id 354FA6052471;
 Fri, 23 May 2025 14:25:48 -0400 (EDT)
Subject: |SUCCESS| pw153626-153662 [PATCH] [40/40] crypto/cnxk: copy 8B iv in
From: dpdklab@iol.unh.edu
To: Test Report <test-report@dpdk.org>
Cc: dpdk-test-reports@iol.unh.edu
In-Reply-To: <20250523135111.2178408-41-ktejasree@marvell.com>
References: <20250523135111.2178408-41-ktejasree@marvell.com>
Content-Type: text/plain
X-BeenThere: test-report@dpdk.org
X-Mailman-Version: 2.1.29
Precedence: list
List-Id: automatic DPDK test reports <test-report.dpdk.org>
List-Unsubscribe: <https://mails.dpdk.org/options/test-report>,
 <mailto:test-report-request@dpdk.org?subject=unsubscribe>
List-Archive: <http://mails.dpdk.org/archives/test-report/>
List-Post: <mailto:test-report@dpdk.org>
List-Help: <mailto:test-report-request@dpdk.org?subject=help>
List-Subscribe: <https://mails.dpdk.org/listinfo/test-report>,
 <mailto:test-report-request@dpdk.org?subject=subscribe>
Errors-To: test-report-bounces@dpdk.org

Test-Label: iol-unit-arm64-testing
Test-Status: SUCCESS
http://dpdk.org/patch/153662

_Testing PASS_

Submitter: Tejasree Kondoj <ktejasree@marvell.com>
Date: Friday, May 23 2025 13:51:11 
DPDK git baseline: Repo:dpdk
  Branch: master
  CommitID:fc627d7065ba5100faa928cf2edfa1622846f542

153626-153662 --> testing pass

Upstream job id: Generic-Unit-Test-DPDK#340214

Test environment and result as below:

+-----------------------------+--------------+------------------------------+---------------------------+----------------+
|         Environment         | lpm_autotest | cryptodev_sw_snow3g_autotest | cryptodev_sw_zuc_autotest | dpdk_unit_test |
+=============================+==============+==============================+===========================+================+
| Ubuntu 20.04 ARM SVE        | PASS         | SKIPPED                      | SKIPPED                   | SKIPPED        |
+-----------------------------+--------------+------------------------------+---------------------------+----------------+
| Debian 12 (arm)             | SKIPPED      | PASS                         | PASS                      | PASS           |
+-----------------------------+--------------+------------------------------+---------------------------+----------------+
| Fedora 40 (ARM)             | SKIPPED      | SKIPPED                      | SKIPPED                   | PASS           |
+-----------------------------+--------------+------------------------------+---------------------------+----------------+
| CentOS Stream 9 (ARM)       | SKIPPED      | SKIPPED                      | SKIPPED                   | PASS           |
+-----------------------------+--------------+------------------------------+---------------------------+----------------+
| CentOS Stream 10 (ARM)      | SKIPPED      | SKIPPED                      | SKIPPED                   | PASS           |
+-----------------------------+--------------+------------------------------+---------------------------+----------------+
| Fedora 41 (ARM)             | SKIPPED      | SKIPPED                      | SKIPPED                   | PASS           |
+-----------------------------+--------------+------------------------------+---------------------------+----------------+
| Fedora 40 (ARM Clang)       | SKIPPED      | SKIPPED                      | SKIPPED                   | PASS           |
+-----------------------------+--------------+------------------------------+---------------------------+----------------+
| Fedora 41 (ARM Clang)       | SKIPPED      | SKIPPED                      | SKIPPED                   | PASS           |
+-----------------------------+--------------+------------------------------+---------------------------+----------------+
| Ubuntu 22.04 (ARM)          | SKIPPED      | SKIPPED                      | SKIPPED                   | PASS           |
+-----------------------------+--------------+------------------------------+---------------------------+----------------+
| RHEL9 (ARM)                 | SKIPPED      | SKIPPED                      | SKIPPED                   | PASS           |
+-----------------------------+--------------+------------------------------+---------------------------+----------------+
| Ubuntu 20.04 (ARM)          | SKIPPED      | SKIPPED                      | SKIPPED                   | PASS           |
+-----------------------------+--------------+------------------------------+---------------------------+----------------+
| Ubuntu 24.04 (ARM)          | SKIPPED      | SKIPPED                      | SKIPPED                   | PASS           |
+-----------------------------+--------------+------------------------------+---------------------------+----------------+
| 32-bit Ubuntu 22.04.4 (ARM) | SKIPPED      | SKIPPED                      | SKIPPED                   | PASS           |
+-----------------------------+--------------+------------------------------+---------------------------+----------------+


Ubuntu 20.04 ARM SVE
	Kernel: Depends on container host
	Compiler: gcc (Ubuntu 10.5.0-1ubuntu1~20.04) 10.5.0

Debian 12 (arm)
	Kernel: Depends on container host
	Compiler: gcc (Debian 12.2.0-14) 12.2.0

Fedora 40 (ARM)
	Kernel: Depends on container host
	Compiler: gcc 14.2.1 20240912 (Red Hat 14.2.1-3)

CentOS Stream 9 (ARM)
	Kernel: Depends on container host
	Compiler: gcc 11.5.0 20240719 (Red Hat 11.5.0-2)

CentOS Stream 10 (ARM)
	Kernel: Depends on container host
	Compiler: gcc 14.2.1 20241104 (Red Hat 14.2.1-6)

Fedora 41 (ARM)
	Kernel: Depends on container host
	Compiler: gcc 14.2.1 20240912 (Red Hat 14.2.1-3)

Fedora 40 (ARM Clang)
	Kernel: Depends on container host
	Compiler: clang 18.1.8 (Fedora 18.1.8-1.fc40)

Fedora 41 (ARM Clang)
	Kernel: Depends on container host
	Compiler: clang 19.1.5 (Fedora 19.1.5-1.fc41)

Ubuntu 22.04 (ARM)
	Kernel: Depends on container host
	Compiler: gcc (Ubuntu 11.4.0-1ubuntu1~22.04) 11.4.0

RHEL9 (ARM)
	Kernel: Depends on container host
	Compiler: gcc 11.5.0 20240719 (Red Hat 11.5.0-2)

Ubuntu 20.04 (ARM)
	Kernel: Depends on container host
	Compiler: gcc (Ubuntu 9.4.0-1ubuntu1~20.04.2) 9.4.0

Ubuntu 24.04 (ARM)
	Kernel: Depends on container host
	Compiler: gcc (Ubuntu 13.3.0-6ubuntu2~24.04) 13.3.0

32-bit Ubuntu 22.04.4 (ARM)
	Kernel: 5.15.83+ aarch64
	Compiler: gcc (Ubuntu 11.4.0-1ubuntu1~22.04) 11.4.0

To view detailed results, visit:
https://lab.dpdk.org/results/dashboard/patchsets/33240/

UNH-IOL DPDK Community Lab

To manage your email subscriptions, visit: 
https://lab.dpdk.org/results/dashboard/preferences/subscriptions/