From mboxrd@z Thu Jan 1 00:00:00 1970 Return-Path: Received: from mails.dpdk.org (mails.dpdk.org [217.70.189.124]) by inbox.dpdk.org (Postfix) with ESMTP id 441E9467CB for ; Fri, 23 May 2025 21:01:37 +0200 (CEST) Received: from mails.dpdk.org (localhost [127.0.0.1]) by mails.dpdk.org (Postfix) with ESMTP id 3600A4064F; Fri, 23 May 2025 21:01:37 +0200 (CEST) Received: from mail-il1-f226.google.com (mail-il1-f226.google.com [209.85.166.226]) by mails.dpdk.org (Postfix) with ESMTP id 0828040650 for ; Fri, 23 May 2025 21:01:36 +0200 (CEST) Received: by mail-il1-f226.google.com with SMTP id e9e14a558f8ab-3db7b3de375so1549445ab.1 for ; Fri, 23 May 2025 12:01:35 -0700 (PDT) DKIM-Signature: v=1; a=rsa-sha256; c=relaxed/relaxed; d=iol.unh.edu; s=unh-iol; t=1748026895; x=1748631695; darn=dpdk.org; h=references:in-reply-to:cc:to:from:subject:message-id:date:from:to :cc:subject:date:message-id:reply-to; bh=6nXsm4gJLPtrWes2n/Jm0w6lNetHWGRFL6d5YpIhw8k=; b=NKMkcsInBvK3hYnw+jbouzxFtAuZ22VU4WllHNMrwsk1UkF7mBjnv0LmKBbRnG991J QLBnT4YTZ1vvr/z9wRF6e1Xk9r4ixBS0b7zPYso8YSASpv4ozwPWy4w0LS5XgZE75WU2 mamdhKo7oPESoTqvO3MtaSH7iuVjN4BXI3SFA= X-Google-DKIM-Signature: v=1; a=rsa-sha256; c=relaxed/relaxed; d=1e100.net; s=20230601; t=1748026895; x=1748631695; h=references:in-reply-to:cc:to:from:subject:message-id:date :x-gm-message-state:from:to:cc:subject:date:message-id:reply-to; bh=6nXsm4gJLPtrWes2n/Jm0w6lNetHWGRFL6d5YpIhw8k=; b=Y9F+WTXBbEMajTJExL14Sc5FP+bXFsmDLMt93ERTzYL5JwYoenGOTImeQgk+kg0H8d rJPfSQ7azT6o1VwrFdI2QoAy2SsoezkqCt5UOo1wJ/EpqzSg963uOl73qdEdDHYz3h7m 0n0MjUmzMe4Hn539QCtWOlnN0yM2S7o9MtuQeBO8/Wk3i+XaxndkyRWGEcdnyMjpbI0B Ayb0iUMbq1snkWbVdh6D8nJ533uxazwlqJp87qECw9ICewefdR5EprgyFjUkS05YhMPr hbxFRMXoBiNhhx0PsrsH1ffP60cJdCVO7Q4urdwvvDVRBLWqSkSMvlaIXaZa75e/ntLE SYfA== X-Gm-Message-State: AOJu0YxiWntqyukm6l/WrzmCO2Fa5HIViAuJY1iBSduqYew1QRlZ/1+x piannpU+zfNGl9onSkvamyz3cS4SxZsByszJKCXag4VStcfZsuaoD3CPEnAWq6MiXq3NRfLCxLR zhkkz39EBgcVuKSxcyrQCUlDmSxp+R4mpQThsH/utcO0n X-Gm-Gg: ASbGncsZhbyelmecKmxPjJmJEzzQoJnbcVjdexWHtum6/7qy+mv/4xBl87sIiEQiD29 f87Qmm1g9Lya5UOIRwNEDMkfG/WY+pwpBpDc5ArqPdlozxHU7WoBVj1kCNi8GTCcH66NlFMEkHp cBYTmSoZOrdgIni1FPtGxPMTRMC+W9LcK5FHKi5NVgw+HE3TI14AqJe5buZtJpNnH7Z/8pwlh6F 8+/cfNC0wCy2Fg5NkXhX/dxlH9nCOzjgo4u3QGPnoH8W2T20H/3eGut4qRdRkAxbKFuFri1Sk+l Zfv6ObWtUNv4E7MwJ5xYVdiQFTxmXwjKzINmieSmWBfpPciCgQ7o+VVtdVU= X-Google-Smtp-Source: AGHT+IHEU9KhrBsi6aRdtDkowwwMb3O5xuNzgLqTNbgTepOWRfAbHx2W8Alwvgagg5jVNd1VrClZKDt8UCK1 X-Received: by 2002:a05:6e02:1606:b0:3cf:c9ad:46a1 with SMTP id e9e14a558f8ab-3dc9b6d148amr2619755ab.13.1748026895259; Fri, 23 May 2025 12:01:35 -0700 (PDT) Received: from postal.iol.unh.edu (postal.iol.unh.edu. [132.177.123.84]) by smtp-relay.gmail.com with ESMTPS id e9e14a558f8ab-3dc746b3320sm5052945ab.51.2025.05.23.12.01.35 (version=TLS1_2 cipher=ECDHE-ECDSA-AES128-GCM-SHA256 bits=128/128); Fri, 23 May 2025 12:01:35 -0700 (PDT) X-Relaying-Domain: iol.unh.edu Date: Fri, 23 May 2025 12:01:35 -0700 (PDT) Message-ID: <6830c60f.050a0220.109ca0.9fe8SMTPIN_ADDED_MISSING@mx.google.com> Received: from [172.17.0.5] (unknown [172.18.0.74]) by postal.iol.unh.edu (Postfix) with ESMTP id B1FCA6052471; Fri, 23 May 2025 15:01:34 -0400 (EDT) Subject: |SUCCESS| pw153663 [PATCH] crypto/virtio: add request check on reque From: dpdklab@iol.unh.edu To: Test Report Cc: dpdk-test-reports@iol.unh.edu In-Reply-To: <20250523140450.75543-1-radu.nicolau@intel.com> References: <20250523140450.75543-1-radu.nicolau@intel.com> Content-Type: text/plain X-BeenThere: test-report@dpdk.org X-Mailman-Version: 2.1.29 Precedence: list List-Id: automatic DPDK test reports List-Unsubscribe: , List-Archive: List-Post: List-Help: List-Subscribe: , Errors-To: test-report-bounces@dpdk.org Test-Label: iol-unit-amd64-testing Test-Status: SUCCESS http://dpdk.org/patch/153663 _Testing PASS_ Submitter: Radu Nicolau Date: Friday, May 23 2025 14:04:50 DPDK git baseline: Repo:dpdk Branch: master CommitID:fc627d7065ba5100faa928cf2edfa1622846f542 153663 --> testing pass Upstream job id: Generic-VM-Unit-Test-DPDK#28718 Test environment and result as below: +---------------------+----------------+ | Environment | dpdk_unit_test | +=====================+================+ | Debian 12 | PASS | +---------------------+----------------+ | CentOS Stream 10 | PASS | +---------------------+----------------+ | Fedora 40 | PASS | +---------------------+----------------+ | Ubuntu 22.04 | PASS | +---------------------+----------------+ | CentOS Stream 9 | PASS | +---------------------+----------------+ | RHEL9 | PASS | +---------------------+----------------+ | Fedora 40 (Clang) | PASS | +---------------------+----------------+ | Ubuntu 24.04 | PASS | +---------------------+----------------+ | Ubuntu 20.04 | PASS | +---------------------+----------------+ | RHEL8 | PASS | +---------------------+----------------+ | Fedora 41 | PASS | +---------------------+----------------+ | Fedora 41 (Clang) | PASS | +---------------------+----------------+ | Windows Server 2022 | PASS | +---------------------+----------------+ Debian 12 Kernel: Depends on container host Compiler: gcc (Debian 12.2.0-14) 12.2.0 CentOS Stream 10 Kernel: Depends on container host Compiler: gcc 14.2.1 20241104 (Red Hat 14.2.1-6) Fedora 40 Kernel: Depends on container host Compiler: gcc 14.2.1 20240912 (Red Hat 14.2.1-3) Ubuntu 22.04 Kernel: Depends on container host Compiler: gcc (Ubuntu 11.4.0-1ubuntu1~22.04) 11.4.0 CentOS Stream 9 Kernel: Depends on container host Compiler: gcc 11.5.0 20240719 (Red Hat 11.5.0-2) RHEL9 Kernel: Depends on container host Compiler: gcc 11.5.0 20240719 (Red Hat 11.5.0-2) Fedora 40 (Clang) Kernel: Depends on container host Compiler: clang 18.1.8 (Fedora 18.1.8-1.fc40) Ubuntu 24.04 Kernel: Depends on container host Compiler: gcc (Ubuntu 13.3.0-6ubuntu2~24.04) 13.3.0 Ubuntu 20.04 Kernel: Depends on container host Compiler: gcc (Ubuntu 9.4.0-1ubuntu1~20.04.2) 9.4.0 RHEL8 Kernel: Depends on container host Compiler: gcc 8.5.0 20210514 (Red Hat 8.5.0-22) Fedora 41 Kernel: Depends on container host Compiler: gcc 14.2.1 20240912 (Red Hat 14.2.1-3) Fedora 41 (Clang) Kernel: Depends on container host Compiler: clang 19.1.5 (Fedora 19.1.5-1.fc41) Windows Server 2022 Kernel: 10.0.20348.2031 Compiler: clang 15.0.7, gcc 14.1.0 (MinGW), and MSVC VS 19.39.33521 To view detailed results, visit: https://lab.dpdk.org/results/dashboard/patchsets/33241/ UNH-IOL DPDK Community Lab To manage your email subscriptions, visit: https://lab.dpdk.org/results/dashboard/preferences/subscriptions/