From mboxrd@z Thu Jan 1 00:00:00 1970 Return-Path: Received: from mails.dpdk.org (mails.dpdk.org [217.70.189.124]) by inbox.dpdk.org (Postfix) with ESMTP id CEFBA467CB for ; Fri, 23 May 2025 21:07:46 +0200 (CEST) Received: from mails.dpdk.org (localhost [127.0.0.1]) by mails.dpdk.org (Postfix) with ESMTP id B10074064F; Fri, 23 May 2025 21:07:46 +0200 (CEST) Received: from mail-yb1-f225.google.com (mail-yb1-f225.google.com [209.85.219.225]) by mails.dpdk.org (Postfix) with ESMTP id E78EC4064F for ; Fri, 23 May 2025 21:07:45 +0200 (CEST) Received: by mail-yb1-f225.google.com with SMTP id 3f1490d57ef6-e7d5d7b99c3so203242276.3 for ; Fri, 23 May 2025 12:07:45 -0700 (PDT) DKIM-Signature: v=1; a=rsa-sha256; c=relaxed/relaxed; d=iol.unh.edu; s=unh-iol; t=1748027265; x=1748632065; darn=dpdk.org; h=references:in-reply-to:cc:to:from:subject:message-id:date:from:to :cc:subject:date:message-id:reply-to; bh=gWNog1H7pAhUMf2cPPrZPEHPKGXYDbXa+aSwlzQCyyA=; b=OQ1Qy3rjI6XlVzlBOKHv+KHk59DZVVvRm9ejRkT4C8PT2lWZ9czXd5V2WYPr4hcG7z Vjg4QugIXuNw+ZfKMbfxxazjnUzHpupnvdI1hy3ehwTGNFTf0c6Xyerq5lPraLJyRiDU 9tPrQokB+YVy7mJ7Lr0a/fE/qAA2WZQbQ/BDU= X-Google-DKIM-Signature: v=1; a=rsa-sha256; c=relaxed/relaxed; d=1e100.net; s=20230601; t=1748027265; x=1748632065; h=references:in-reply-to:cc:to:from:subject:message-id:date :x-gm-message-state:from:to:cc:subject:date:message-id:reply-to; bh=gWNog1H7pAhUMf2cPPrZPEHPKGXYDbXa+aSwlzQCyyA=; b=IDpEEdIRp8PXuB+Gakmh9hKVdrYdvJoDYe+yf3nBfZ29SHCeK6S9dun5mrT23m7/8j sp8U04728moEJpO23Y8OwoI9dQPlFfFzyXL8Pu/ERcI+hTy61/4yI5sWfetqIwBZf+y1 6zoCZ25YTLZfeFXdgxDJNyyPpXl7a9ItCdd0Kr+OITbh8LJPd9VKwR+Tw3EO/MAwBmLp TLuDSZmNuQmzv4wJZaZVrCdLhWxBAdgoGlplq/5lKHTIt0y1ZoXLygSCQRaauVQu1FXc X8GA5GnEy7trC1TDuK/9OBM4HyoM0EOqxp6Y0gF90NW3bCdtO1ZdeZflVdGvNjuq4AKt W4tQ== X-Gm-Message-State: AOJu0YwHtoty0YVzy77EaFesuRfkDNOyV4psoyT4cmHH91ex2oYFxTwA 5AMjYppEhAkXvuS9PUrDqFpsDzyKvSWgzt5SmIFR7mlNuoTJ6pSxN8nmkjNP14FQ8RPa+difxH7 x9q1MpoZM5dCRzAd2Lkb5EeKNCBMZQTtvHs2CofnNx+Cj X-Gm-Gg: ASbGncsamQiTe4cNIhHdFEmMJ9Feyd73YeQchADSfAL9FXuCzd4kGD1rzcT/3tW0wEz FHA09wR5aKn4/RV/DH8NJQ8aWegOcMtQSYCamEyLYecLaBItewjyqGLfsRjZzzOdQ0LyDnS5sDX ToK8vGvFnW0w2aQ1jpXMODNmVSxk8OXk9X5cbKGzFtwu9o0zpq8BLor6NlQOIZc+f6O9RJmq9zE qM1Ntl7WkY+72iBdshrc7AL4lzqndolWS5OAA4yTW/BtHrw7Y23N6Y1PsXOeyWG1q+nZcjSQwdp VhK5oj93LqEQZspBAyta8MMSZovQIwfH4XxAKjuhDGuRTSll2htMbWFfvMM= X-Google-Smtp-Source: AGHT+IHXrwf3w7ld48j/aWZYjJIdE8EjrJmYoRcd/whK/zzxZk+8RdBKstcV3Biy/Zx14zqoJcWS4I2IVKJQ X-Received: by 2002:a05:6902:1202:b0:e7d:6227:5051 with SMTP id 3f1490d57ef6-e7d919d42eemr842338276.27.1748027265154; Fri, 23 May 2025 12:07:45 -0700 (PDT) Received: from postal.iol.unh.edu (postal.iol.unh.edu. [132.177.123.84]) by smtp-relay.gmail.com with ESMTPS id 3f1490d57ef6-e7d5720e639sm214696276.30.2025.05.23.12.07.45 (version=TLS1_2 cipher=ECDHE-ECDSA-AES128-GCM-SHA256 bits=128/128); Fri, 23 May 2025 12:07:45 -0700 (PDT) X-Relaying-Domain: iol.unh.edu Date: Fri, 23 May 2025 12:07:45 -0700 (PDT) Message-ID: <6830c781.050a0220.3bfe4e.b77dSMTPIN_ADDED_MISSING@mx.google.com> Received: from [172.17.0.3] (unknown [172.18.0.74]) by postal.iol.unh.edu (Postfix) with ESMTP id CE9806052471; Fri, 23 May 2025 15:07:44 -0400 (EDT) Subject: |SUCCESS| pw153663 [PATCH] crypto/virtio: add request check on reque From: dpdklab@iol.unh.edu To: Test Report Cc: dpdk-test-reports@iol.unh.edu In-Reply-To: <20250523140450.75543-1-radu.nicolau@intel.com> References: <20250523140450.75543-1-radu.nicolau@intel.com> Content-Type: text/plain X-BeenThere: test-report@dpdk.org X-Mailman-Version: 2.1.29 Precedence: list List-Id: automatic DPDK test reports List-Unsubscribe: , List-Archive: List-Post: List-Help: List-Subscribe: , Errors-To: test-report-bounces@dpdk.org Test-Label: iol-abi-testing Test-Status: SUCCESS http://dpdk.org/patch/153663 _Testing PASS_ Submitter: Radu Nicolau Date: Friday, May 23 2025 14:04:50 DPDK git baseline: Repo:dpdk Branch: master CommitID:fc627d7065ba5100faa928cf2edfa1622846f542 153663 --> testing pass Upstream job id: Generic-DPDK-Compile-ABI#127466 Test environment and result as below: +-------------------+----------+ | Environment | abi_test | +===================+==========+ | CentOS Stream 10 | PASS | +-------------------+----------+ | Debian 12 | PASS | +-------------------+----------+ | Fedora 40 | PASS | +-------------------+----------+ | Fedora 40 (Clang) | PASS | +-------------------+----------+ | Fedora 41 (Clang) | PASS | +-------------------+----------+ | RHEL8 | PASS | +-------------------+----------+ | openSUSE Leap 15 | PASS | +-------------------+----------+ | RHEL9 | PASS | +-------------------+----------+ | Ubuntu 22.04 | PASS | +-------------------+----------+ | Fedora 41 | PASS | +-------------------+----------+ | CentOS Stream 9 | PASS | +-------------------+----------+ | Ubuntu 24.04 | PASS | +-------------------+----------+ CentOS Stream 10 Kernel: Depends on container host Compiler: gcc 14.2.1 20241104 (Red Hat 14.2.1-6) Debian 12 Kernel: Depends on container host Compiler: gcc (Debian 12.2.0-14) 12.2.0 Fedora 40 Kernel: Depends on container host Compiler: gcc 14.2.1 20240912 (Red Hat 14.2.1-3) Fedora 40 (Clang) Kernel: Depends on container host Compiler: clang 18.1.8 (Fedora 18.1.8-1.fc40) Fedora 41 (Clang) Kernel: Depends on container host Compiler: clang 19.1.5 (Fedora 19.1.5-1.fc41) RHEL8 Kernel: Depends on container host Compiler: gcc 8.5.0 20210514 (Red Hat 8.5.0-22) openSUSE Leap 15 Kernel: Depends on container host Compiler: gcc (SUSE Linux) 7.5.0 RHEL9 Kernel: Depends on container host Compiler: gcc 11.5.0 20240719 (Red Hat 11.5.0-2) Ubuntu 22.04 Kernel: Depends on container host Compiler: gcc (Ubuntu 11.4.0-1ubuntu1~22.04) 11.4.0 Fedora 41 Kernel: Depends on container host Compiler: gcc 14.2.1 20240912 (Red Hat 14.2.1-3) CentOS Stream 9 Kernel: Depends on container host Compiler: gcc 11.5.0 20240719 (Red Hat 11.5.0-2) Ubuntu 24.04 Kernel: Depends on container host Compiler: gcc (Ubuntu 13.3.0-6ubuntu2~24.04) 13.3.0 To view detailed results, visit: https://lab.dpdk.org/results/dashboard/patchsets/33241/ UNH-IOL DPDK Community Lab To manage your email subscriptions, visit: https://lab.dpdk.org/results/dashboard/preferences/subscriptions/