From mboxrd@z Thu Jan 1 00:00:00 1970 Return-Path: Received: from mails.dpdk.org (mails.dpdk.org [217.70.189.124]) by inbox.dpdk.org (Postfix) with ESMTP id F1B47467CB for ; Fri, 23 May 2025 21:21:17 +0200 (CEST) Received: from mails.dpdk.org (localhost [127.0.0.1]) by mails.dpdk.org (Postfix) with ESMTP id CD2034064F; Fri, 23 May 2025 21:21:17 +0200 (CEST) Received: from mail-qv1-f100.google.com (mail-qv1-f100.google.com [209.85.219.100]) by mails.dpdk.org (Postfix) with ESMTP id 222924064F for ; Fri, 23 May 2025 21:21:16 +0200 (CEST) Received: by mail-qv1-f100.google.com with SMTP id 6a1803df08f44-6f8b9c72045so2077056d6.1 for ; Fri, 23 May 2025 12:21:16 -0700 (PDT) DKIM-Signature: v=1; a=rsa-sha256; c=relaxed/relaxed; d=iol.unh.edu; s=unh-iol; t=1748028075; x=1748632875; darn=dpdk.org; h=references:in-reply-to:cc:to:from:subject:message-id:date:from:to :cc:subject:date:message-id:reply-to; bh=bW1jWUGY/hgUBFE6BId7CHn1aDmUiO6DhYKNAIs/a0I=; b=MXbk1z+BFEJrushCs/IxpWk91xzTk7QMMnQebKOe98lNZMrXDgGU8qZ4x1q+hKTOzE ks+OgDPIx0TgBOPuncDJQKOxsSoavxI7pI4YO6SUEIUIUd0ylQhAGeEGiWbGCQPjtH2k 7pluM7/YAE1rt7tVb7i/0PSN0LyyMB3ttNF04= X-Google-DKIM-Signature: v=1; a=rsa-sha256; c=relaxed/relaxed; d=1e100.net; s=20230601; t=1748028075; x=1748632875; h=references:in-reply-to:cc:to:from:subject:message-id:date :x-gm-message-state:from:to:cc:subject:date:message-id:reply-to; bh=bW1jWUGY/hgUBFE6BId7CHn1aDmUiO6DhYKNAIs/a0I=; b=EJkmmbVLLw6/fJPnUsMIe7Hvmrm1cnaITDNjQq6tLcjiIsPrkqg8KyCO5q+vrD/akq lKTiUtf1gTkQo2xOdDnYkadl9R4+rhnLzm1NSQ0700weoum23Jz2S32YV0DZrZSKsxTo oxGCVZ4uyve1VSKDBCWhZljOfRt6xOxNAWejOHrg2CIM6JOObStdg4v0sR6fkLnMiRRh eaz5eHZ2wNjjLStOiDAn7qUsqu+XprvZ9y/+IyGeRqbSBBRCWhvHQG2oLcvsL7TlcNL0 l4AKt9Cn82IBslBmd8Uyz3TQi8a5GeLG0DXuBl7vSbvx+Re3J/d0iVDmneNW0lNUN81K bp6A== X-Gm-Message-State: AOJu0YziaEdx5jXGgqEVf24A6yzZ+7eoKhSrlAxoYItw3MkJ4QeAqzev v1tNFyc1E29hUBQrRnD2vQMBIAOZk4QcMKhXqTubcUq8AorMBSSp0yJMUeF+olNRSitqA7y8cA0 1fEtizET2mtZ2vV5bhFJ6gkmsGq5xzcIHdp+65xx3EFXjDwph5zeE/OXm7YP9 X-Gm-Gg: ASbGncsKRjPMQwoJi0+6d3vIRsOKY6Xshh8aJUEuR+NPezgdFlEcg0PGTt9YLvsf3Nh 4kdGuuBm32qygyfKaNHdT1tSxUxFDCekmFnKqEOi8O7l0LwbFxdtanujqWGO4ROjcUrfDfmijN6 hKuJw6eF0JB0flMn5jEH/PSerg4jAdbECeweqZvs37nai9WDx1vZQq/0iNjp2EciS4nFtvGFDo5 dsjPacxPONhVAe6RBukocD7m7r5QjAHgHraLAQfnFALbynX3z7zWQIEzARzcUcJyxbIYWu1pYsd 0n7C2Vh+X1SJFdfNig38Lq6k6TWOsB3OgXoc X-Google-Smtp-Source: AGHT+IGYz7536hb5jlHmgWRBV0In5bp6a5vRWXzr4R3tUwxclCDw7swZRJZkxL3/X1vNT9I589w+14m4V33j X-Received: by 2002:a05:6214:764:b0:6f0:e2d4:5936 with SMTP id 6a1803df08f44-6fa9d159f92mr13087286d6.22.1748028075403; Fri, 23 May 2025 12:21:15 -0700 (PDT) Received: from postal.iol.unh.edu (postal.iol.unh.edu. [2606:4100:3880:1234::84]) by smtp-relay.gmail.com with ESMTPS id 6a1803df08f44-6f8b08df3c1sm5652676d6.42.2025.05.23.12.21.15 (version=TLS1_2 cipher=ECDHE-ECDSA-AES128-GCM-SHA256 bits=128/128); Fri, 23 May 2025 12:21:15 -0700 (PDT) X-Relaying-Domain: iol.unh.edu Date: Fri, 23 May 2025 12:21:15 -0700 (PDT) Message-ID: <6830caab.050a0220.1df887.ff6cSMTPIN_ADDED_MISSING@mx.google.com> Received: from [172.17.0.2] (unknown [172.18.0.76]) by postal.iol.unh.edu (Postfix) with ESMTP id 173126052471; Fri, 23 May 2025 15:21:15 -0400 (EDT) Subject: |SUCCESS| pw153626-153662 [PATCH] [40/40] crypto/cnxk: copy 8B iv in From: dpdklab@iol.unh.edu To: Test Report Cc: dpdk-test-reports@iol.unh.edu In-Reply-To: <20250523135111.2178408-41-ktejasree@marvell.com> References: <20250523135111.2178408-41-ktejasree@marvell.com> Content-Type: text/plain X-BeenThere: test-report@dpdk.org X-Mailman-Version: 2.1.29 Precedence: list List-Id: automatic DPDK test reports List-Unsubscribe: , List-Archive: List-Post: List-Help: List-Subscribe: , Errors-To: test-report-bounces@dpdk.org Test-Label: iol-compile-arm64-testing Test-Status: SUCCESS http://dpdk.org/patch/153662 _Testing PASS_ Submitter: Tejasree Kondoj Date: Friday, May 23 2025 13:51:11 DPDK git baseline: Repo:dpdk Branch: master CommitID:fc627d7065ba5100faa928cf2edfa1622846f542 153626-153662 --> testing pass Upstream job id: Generic-DPDK-Compile-Meson#390796 Test environment and result as below: +----------------------------------------+--------------------+ | Environment | dpdk_meson_compile | +========================================+====================+ | RHEL9 (ARM) | PASS | +----------------------------------------+--------------------+ | Ubuntu 20.04 ARM GCC Cross Compile | PASS | +----------------------------------------+--------------------+ | Ubuntu 20.04 ARM SVE | PASS | +----------------------------------------+--------------------+ | Debian 12 with MUSDK | PASS | +----------------------------------------+--------------------+ | Fedora 40 (ARM) | PASS | +----------------------------------------+--------------------+ | Fedora 40 (ARM Clang) | PASS | +----------------------------------------+--------------------+ | Fedora 41 (ARM) | PASS | +----------------------------------------+--------------------+ | Fedora 41 (ARM Clang) | PASS | +----------------------------------------+--------------------+ | Ubuntu 20.04 (ARM) | PASS | +----------------------------------------+--------------------+ | Ubuntu 22.04 (ARM) | PASS | +----------------------------------------+--------------------+ | Ubuntu 24.04 (ARM) | PASS | +----------------------------------------+--------------------+ | CentOS Stream 9 (ARM) | PASS | +----------------------------------------+--------------------+ | CentOS Stream 10 (ARM) | PASS | +----------------------------------------+--------------------+ | Debian 12 (arm) | PASS | +----------------------------------------+--------------------+ | Ubuntu 20.04 ARM Clang Cross Compile | PASS | +----------------------------------------+--------------------+ | Ubuntu 20.04 aarch32 GCC Cross Compile | PASS | +----------------------------------------+--------------------+ RHEL9 (ARM) Kernel: Depends on container host Compiler: gcc 11.5.0 20240719 (Red Hat 11.5.0-2) Ubuntu 20.04 ARM GCC Cross Compile Kernel: Depends on container host Compiler: aarch64-linux-gnu-gcc (Ubuntu 9.4.0-1ubuntu1~20.04.2) 9.4.0 Ubuntu 20.04 ARM SVE Kernel: Depends on container host Compiler: gcc (Ubuntu 10.5.0-1ubuntu1~20.04) 10.5.0 Debian 12 with MUSDK Kernel: Depends on container host Compiler: gcc (Debian 12.2.0-14) 12.2.0 Fedora 40 (ARM) Kernel: Depends on container host Compiler: gcc 14.2.1 20240912 (Red Hat 14.2.1-3) Fedora 40 (ARM Clang) Kernel: Depends on container host Compiler: clang 18.1.8 (Fedora 18.1.8-1.fc40) Fedora 41 (ARM) Kernel: Depends on container host Compiler: gcc 14.2.1 20240912 (Red Hat 14.2.1-3) Fedora 41 (ARM Clang) Kernel: Depends on container host Compiler: clang 19.1.5 (Fedora 19.1.5-1.fc41) Ubuntu 20.04 (ARM) Kernel: Depends on container host Compiler: gcc (Ubuntu 9.4.0-1ubuntu1~20.04.2) 9.4.0 Ubuntu 22.04 (ARM) Kernel: Depends on container host Compiler: gcc (Ubuntu 11.4.0-1ubuntu1~22.04) 11.4.0 Ubuntu 24.04 (ARM) Kernel: Depends on container host Compiler: gcc (Ubuntu 13.3.0-6ubuntu2~24.04) 13.3.0 CentOS Stream 9 (ARM) Kernel: Depends on container host Compiler: gcc 11.5.0 20240719 (Red Hat 11.5.0-2) CentOS Stream 10 (ARM) Kernel: Depends on container host Compiler: gcc 14.2.1 20241104 (Red Hat 14.2.1-6) Debian 12 (arm) Kernel: Depends on container host Compiler: gcc (Debian 12.2.0-14) 12.2.0 Ubuntu 20.04 ARM Clang Cross Compile Kernel: Depends on container host Compiler: clang 10.0.0-4ubuntu1 Ubuntu 20.04 aarch32 GCC Cross Compile Kernel: Depends on container host Compiler: gcc 9.4.0 To view detailed results, visit: https://lab.dpdk.org/results/dashboard/patchsets/33240/ UNH-IOL DPDK Community Lab To manage your email subscriptions, visit: https://lab.dpdk.org/results/dashboard/preferences/subscriptions/