From mboxrd@z Thu Jan 1 00:00:00 1970 Return-Path: Received: from mails.dpdk.org (mails.dpdk.org [217.70.189.124]) by inbox.dpdk.org (Postfix) with ESMTP id ADDA3467CB for ; Fri, 23 May 2025 21:29:36 +0200 (CEST) Received: from mails.dpdk.org (localhost [127.0.0.1]) by mails.dpdk.org (Postfix) with ESMTP id 8516A402B6; Fri, 23 May 2025 21:29:36 +0200 (CEST) Received: from mail-yw1-f228.google.com (mail-yw1-f228.google.com [209.85.128.228]) by mails.dpdk.org (Postfix) with ESMTP id 381FB402B6 for ; Fri, 23 May 2025 21:29:35 +0200 (CEST) Received: by mail-yw1-f228.google.com with SMTP id 00721157ae682-70dec158cbcso2698217b3.2 for ; Fri, 23 May 2025 12:29:35 -0700 (PDT) DKIM-Signature: v=1; a=rsa-sha256; c=relaxed/relaxed; d=iol.unh.edu; s=unh-iol; t=1748028574; x=1748633374; darn=dpdk.org; h=references:in-reply-to:cc:to:from:subject:message-id:date:from:to :cc:subject:date:message-id:reply-to; bh=PGTP0iSeSYNrXgXNhCubulLCF4HoNShYqIXvoiSCzqs=; b=T3e4GzFo0IrNg7f2FupQQA7TPaPcIfiudwZ0L7v2KhVoQ3nzY7bywj+igUho1kJGtF wtWY4DtO+E6SZarSULNimY7rCUSmgLYLvkrblOUetCBmAQEJCC/NyRzSa5/ssmHvjRIa HNlEJxaA50uQ7sRM5GwW4EcfYhZl2BxryBusQ= X-Google-DKIM-Signature: v=1; a=rsa-sha256; c=relaxed/relaxed; d=1e100.net; s=20230601; t=1748028574; x=1748633374; h=references:in-reply-to:cc:to:from:subject:message-id:date :x-gm-message-state:from:to:cc:subject:date:message-id:reply-to; bh=PGTP0iSeSYNrXgXNhCubulLCF4HoNShYqIXvoiSCzqs=; b=K8xiDGDMnx/+4Rqyg3fGjbKUZyVEhx/CKUoHvpa3xvsI8d2wqvxtA/OmKwN7mkIu42 8TJl80pFn5wiohde6ASiDCWdFGRLSpNsDCPlfp933C59uX/Upg9RsNeRlhhNocq9fYaM iskOHRMb2Et4pu9A2pnsQIvt3b7fRRN48o3nplec7825/WmSGSpBmN9ArkNJ7Sgm66Ps pB7kKhe07oyun3F+XWvYEW3dkfzdC02rUCDQ0tXbAdnaqC3Blcj1xknuz+uUuiT28IC1 366NLkpmCdLFD19+sqT372gRupsO/rkvfY1xpwdKDtvRJZ4teHhB7EWYe6Mzny0TEyF+ 3TPQ== X-Gm-Message-State: AOJu0Yx15vRZGrwJtLUBDvDISxOy8rBfoKZhG7fiuXTHE7ryykwG6tfd n1fJ1Fog1MKCoTXTjp0jGS1R4GbLijNvWSKmyDo+n/oJalKGVsg30Z3uh374Lf/hh0QmjdbPk7U Y30aQfu1+sHAQL5mrA9l4kxZa6kLLiLLGb1kp5gMdo5PhAldFIqZedsmVwEIX X-Gm-Gg: ASbGncvZ7rGj7ok+H3PUgxtOFKrKaCTypHaeyJVgcp+ZtVGfBEFkenEhbhM5fba2v6w 0SfBlp4rf0ehLWHIA6GL+myzE+PAOX7kL4qWdz04pd6IfgN+xIlhH07PZIj+nTElyJCYpNazjqB Lu9EqPdEj16y0+fZiGTQdmgM59zdAFLXfBOSzXVVPyslmM7uZzNypIWx/oKyDyaQrq3wEK744Jp Pvtsc+2sILWEE/b1MO5eM1lPXSWi8l8bKJrfZTOPVRO1Qth8TunkcJOvmH6rXiCyZi25qb+HGOF tcGeZi3Zy+8ayQghkfF/4lo2b8heuZtFuBcC X-Google-Smtp-Source: AGHT+IGglh1Ujwu3aolk7kg4auM/yDQeHs4CKLFG+RYkgJoStBLIh5fJ/CgVe3TXIe5adBrcshFRKXvYNTHW X-Received: by 2002:a05:690c:2504:b0:70d:f892:2dca with SMTP id 00721157ae682-70e2db0280fmr3848567b3.32.1748028574459; Fri, 23 May 2025 12:29:34 -0700 (PDT) Received: from postal.iol.unh.edu (postal.iol.unh.edu. [2606:4100:3880:1234::84]) by smtp-relay.gmail.com with ESMTPS id 00721157ae682-70df3ab9becsm1854847b3.9.2025.05.23.12.29.34 (version=TLS1_2 cipher=ECDHE-ECDSA-AES128-GCM-SHA256 bits=128/128); Fri, 23 May 2025 12:29:34 -0700 (PDT) X-Relaying-Domain: iol.unh.edu Date: Fri, 23 May 2025 12:29:34 -0700 (PDT) Message-ID: <6830cc9e.050a0220.31d6ae.abd4SMTPIN_ADDED_MISSING@mx.google.com> Received: from [172.17.0.2] (unknown [172.18.0.76]) by postal.iol.unh.edu (Postfix) with ESMTP id 0227B6052471; Fri, 23 May 2025 15:29:34 -0400 (EDT) Subject: |WARNING| pw153663 [PATCH] crypto/virtio: add request check on reque From: dpdklab@iol.unh.edu To: Test Report Cc: dpdk-test-reports@iol.unh.edu In-Reply-To: <20250523140450.75543-1-radu.nicolau@intel.com> References: <20250523140450.75543-1-radu.nicolau@intel.com> Content-Type: text/plain X-BeenThere: test-report@dpdk.org X-Mailman-Version: 2.1.29 Precedence: list List-Id: automatic DPDK test reports List-Unsubscribe: , List-Archive: List-Post: List-Help: List-Subscribe: , Errors-To: test-report-bounces@dpdk.org Test-Label: iol-compile-amd64-testing Test-Status: WARNING http://dpdk.org/patch/153663 _Testing issues_ Submitter: Radu Nicolau Date: Friday, May 23 2025 14:04:50 DPDK git baseline: Repo:dpdk Branch: master CommitID:fc627d7065ba5100faa928cf2edfa1622846f542 153663 --> testing issues Upstream job id: Generic-DPDK-Compile-Meson#390841 Test environment and result as below: +-----------------------------------+--------------------+-------------------+------------------+-------------------+-------------------------+----------------------+ | Environment | dpdk_meson_compile | dpdk_compile_spdk | dpdk_compile_ovs | dpdk_msvc_compile | dpdk_llvm_clang_compile | dpdk_mingw64_compile | +===================================+====================+===================+==================+===================+=========================+======================+ | CentOS Stream 9 | PASS | PASS | SKIPPED | SKIPPED | SKIPPED | SKIPPED | +-----------------------------------+--------------------+-------------------+------------------+-------------------+-------------------------+----------------------+ | CentOS Stream 10 | PASS | SKIPPED | SKIPPED | SKIPPED | SKIPPED | SKIPPED | +-----------------------------------+--------------------+-------------------+------------------+-------------------+-------------------------+----------------------+ | Debian 12 | PASS | PASS | SKIPPED | SKIPPED | SKIPPED | SKIPPED | +-----------------------------------+--------------------+-------------------+------------------+-------------------+-------------------------+----------------------+ | Fedora 40 (Clang) | PASS | WARN | SKIPPED | SKIPPED | SKIPPED | SKIPPED | +-----------------------------------+--------------------+-------------------+------------------+-------------------+-------------------------+----------------------+ | Fedora 40 | PASS | PASS | SKIPPED | SKIPPED | SKIPPED | SKIPPED | +-----------------------------------+--------------------+-------------------+------------------+-------------------+-------------------------+----------------------+ | openSUSE Leap 15 | PASS | SKIPPED | SKIPPED | SKIPPED | SKIPPED | SKIPPED | +-----------------------------------+--------------------+-------------------+------------------+-------------------+-------------------------+----------------------+ | Fedora 41 (Clang) | PASS | WARN | PASS | SKIPPED | SKIPPED | SKIPPED | +-----------------------------------+--------------------+-------------------+------------------+-------------------+-------------------------+----------------------+ | RHEL8 | PASS | SKIPPED | SKIPPED | SKIPPED | SKIPPED | SKIPPED | +-----------------------------------+--------------------+-------------------+------------------+-------------------+-------------------------+----------------------+ | RHEL9 | PASS | SKIPPED | SKIPPED | SKIPPED | SKIPPED | SKIPPED | +-----------------------------------+--------------------+-------------------+------------------+-------------------+-------------------------+----------------------+ | Ubuntu 22.04 | PASS | PASS | SKIPPED | SKIPPED | SKIPPED | SKIPPED | +-----------------------------------+--------------------+-------------------+------------------+-------------------+-------------------------+----------------------+ | Ubuntu 24.04 | PASS | PASS | PASS | SKIPPED | SKIPPED | SKIPPED | +-----------------------------------+--------------------+-------------------+------------------+-------------------+-------------------------+----------------------+ | Alpine | PASS | SKIPPED | SKIPPED | SKIPPED | SKIPPED | SKIPPED | +-----------------------------------+--------------------+-------------------+------------------+-------------------+-------------------------+----------------------+ | Ubuntu 24.04 32 Bit Cross Compile | PASS | SKIPPED | SKIPPED | SKIPPED | SKIPPED | SKIPPED | +-----------------------------------+--------------------+-------------------+------------------+-------------------+-------------------------+----------------------+ | FreeBSD 14.2 | PASS | SKIPPED | SKIPPED | SKIPPED | SKIPPED | SKIPPED | +-----------------------------------+--------------------+-------------------+------------------+-------------------+-------------------------+----------------------+ | Fedora 41 | PASS | PASS | PASS | SKIPPED | SKIPPED | SKIPPED | +-----------------------------------+--------------------+-------------------+------------------+-------------------+-------------------------+----------------------+ | Ubuntu 20.04 | PASS | SKIPPED | SKIPPED | SKIPPED | SKIPPED | SKIPPED | +-----------------------------------+--------------------+-------------------+------------------+-------------------+-------------------------+----------------------+ | Windows Server 2022 | SKIPPED | SKIPPED | SKIPPED | PASS | PASS | PASS | +-----------------------------------+--------------------+-------------------+------------------+-------------------+-------------------------+----------------------+ ==== 20 line log output for Fedora 41 (Clang) (dpdk_compile_spdk): ==== --- Failed to get log output --- ==== End log output ==== CentOS Stream 9 Kernel: Depends on container host Compiler: gcc 11.5.0 20240719 (Red Hat 11.5.0-2) CentOS Stream 10 Kernel: Depends on container host Compiler: gcc 14.2.1 20241104 (Red Hat 14.2.1-6) Debian 12 Kernel: Depends on container host Compiler: gcc (Debian 12.2.0-14) 12.2.0 Fedora 40 (Clang) Kernel: Depends on container host Compiler: clang 18.1.8 (Fedora 18.1.8-1.fc40) Fedora 40 Kernel: Depends on container host Compiler: gcc 14.2.1 20240912 (Red Hat 14.2.1-3) openSUSE Leap 15 Kernel: Depends on container host Compiler: gcc (SUSE Linux) 7.5.0 Fedora 41 (Clang) Kernel: Depends on container host Compiler: clang 19.1.5 (Fedora 19.1.5-1.fc41) RHEL8 Kernel: Depends on container host Compiler: gcc 8.5.0 20210514 (Red Hat 8.5.0-22) RHEL9 Kernel: Depends on container host Compiler: gcc 11.5.0 20240719 (Red Hat 11.5.0-2) Ubuntu 22.04 Kernel: Depends on container host Compiler: gcc (Ubuntu 11.4.0-1ubuntu1~22.04) 11.4.0 Ubuntu 24.04 Kernel: Depends on container host Compiler: gcc (Ubuntu 13.3.0-6ubuntu2~24.04) 13.3.0 Alpine Kernel: Depends on container host Compiler: gcc (Alpine 14.2.0) 14.2.0 Ubuntu 24.04 32 Bit Cross Compile Kernel: Depends on container host Compiler: gcc (Ubuntu 13.3.0-6ubuntu2~24.04) 13.3.0 FreeBSD 14.2 Kernel: 14.2-RELEASE Compiler: clang 18.1.6 Fedora 41 Kernel: Depends on container host Compiler: gcc 14.2.1 20240912 (Red Hat 14.2.1-3) Ubuntu 20.04 Kernel: Depends on container host Compiler: gcc (Ubuntu 9.4.0-1ubuntu1~20.04.2) 9.4.0 Windows Server 2022 Kernel: 10.0.20348.2031 Compiler: clang 15.0.7, gcc 14.1.0 (MinGW), and MSVC VS 19.39.33521 To view detailed results, visit: https://lab.dpdk.org/results/dashboard/patchsets/33241/ UNH-IOL DPDK Community Lab To manage your email subscriptions, visit: https://lab.dpdk.org/results/dashboard/preferences/subscriptions/