From mboxrd@z Thu Jan 1 00:00:00 1970 Return-Path: Received: from mails.dpdk.org (mails.dpdk.org [217.70.189.124]) by inbox.dpdk.org (Postfix) with ESMTP id 371A1467CC for ; Sat, 24 May 2025 01:03:28 +0200 (CEST) Received: from mails.dpdk.org (localhost [127.0.0.1]) by mails.dpdk.org (Postfix) with ESMTP id 18653402BC; Sat, 24 May 2025 01:03:28 +0200 (CEST) Received: from mail-yw1-f228.google.com (mail-yw1-f228.google.com [209.85.128.228]) by mails.dpdk.org (Postfix) with ESMTP id D3D20402BC for ; Sat, 24 May 2025 01:03:26 +0200 (CEST) Received: by mail-yw1-f228.google.com with SMTP id 00721157ae682-708d90aa8f9so4184097b3.3 for ; Fri, 23 May 2025 16:03:26 -0700 (PDT) DKIM-Signature: v=1; a=rsa-sha256; c=relaxed/relaxed; d=iol.unh.edu; s=unh-iol; t=1748041406; x=1748646206; darn=dpdk.org; h=references:in-reply-to:cc:to:from:subject:message-id:date:from:to :cc:subject:date:message-id:reply-to; bh=eIg4ii21FHHRiFy2VFf78iHnVCui8Xm+ssysKQ6Spj4=; b=I4b+xj99LqNOpt/UZxJSV/t3C4R9TXwqhj0DxXmWS4e1K5viBvqtlKnDDr6z9ySmyi LDVitxV5JpmCD9gZjYGVjH/Q7ryJ3rxVHlIfIUlpaLDzvkiEEXI7rqgABkk6Dmtn+kSD s6GlT9A8N8M2h9v1qo/hf59SuyIOZgQ7Rpp4c= X-Google-DKIM-Signature: v=1; a=rsa-sha256; c=relaxed/relaxed; d=1e100.net; s=20230601; t=1748041406; x=1748646206; h=references:in-reply-to:cc:to:from:subject:message-id:date :x-gm-message-state:from:to:cc:subject:date:message-id:reply-to; bh=eIg4ii21FHHRiFy2VFf78iHnVCui8Xm+ssysKQ6Spj4=; b=cQYvhl/CQWmd6SRDmPgFsw9p+HojeIdKakmtMWtkzwkoqRVICj2wK3Wqo5zDtJu+qx Hk0/U1SjHqBzlFwFqU9O9mqTT58XXRsJ44PdHlwbdGiFRle2mZStL9U5t7Qfa8sgVRQs jyD4pbWgsAbRk41cYUC8F4EYyKhHBr//eRoK9Vj15cEpu9REX5JuyydHf3TIl8xLhq3H TNwq5XJ0S3H4NygNTXk3a+p1ql2ZzEqJhOLRpzkAdmKkEYu8EiHokUOO/7au+cXb/bjd jDuNH42sSKDluOuIcCf7AZ41J0gxnhiU2yvL7WN5sop+XQyfRqsjTPoAsTLvTFvyF9o+ u6Gg== X-Gm-Message-State: AOJu0YwWbGEDUVrwbzkTlhe9EpRKBfxrvAJK1SyHI8lTH5Sc1Gn+CMVu +e1qgk49aNXOte6lWeLRszRvIVFCT9lmbV4AUbBx3O2ArbcND7BUJNjeQ0Rp2WU/fg1KwGl94Nx V5/0FgR3u3peHLrcSvaBHD04O5q2Fei5OGBKB+RHnEg7L X-Gm-Gg: ASbGncu5aLaIY0R6iMx1DUGuFkjvIWjMO5NpnHqOW8+uVcfxTNo4et6ijJPenSkQ/YL fc5f75GoWyETN2jbZp1/E8+mIzdJmtAPvTEEDloTaCYMp154/PC8l+pyn893mghkpyj9O+2UIbG SHQF8O6g7h76v/wt4kcWbFUrvGhFfEaxZwq33Gko4+rjroGUqpl0sJh7T0fkTCyRflNoW6LMM9M 0eW/nacjT6H791IoD0RxPcUMSPMN9Xv3+qdEU0PfoFPoGZuZglKMu7ZCmRnMVFfko0hv3X8ujkV SKCwzuKdRAD8dpBij/sFQ4kNk1ovzV9JNAghsl+RadNuoa3IsLdEIC28q0c= X-Google-Smtp-Source: AGHT+IFLA4/uXqc54MyW1Twfe4/n1DHkGd+1ybCij7LEttTER9j6muWKYRIVYJqzL4YGsYvoKJQEEpQgFOW5 X-Received: by 2002:a05:690c:25ca:b0:703:ad10:a729 with SMTP id 00721157ae682-70e2da846afmr10444547b3.28.1748041406198; Fri, 23 May 2025 16:03:26 -0700 (PDT) Received: from postal.iol.unh.edu (postal.iol.unh.edu. [132.177.123.84]) by smtp-relay.gmail.com with ESMTPS id 00721157ae682-70ca82fec6dsm3886067b3.11.2025.05.23.16.03.26 (version=TLS1_2 cipher=ECDHE-ECDSA-AES128-GCM-SHA256 bits=128/128); Fri, 23 May 2025 16:03:26 -0700 (PDT) X-Relaying-Domain: iol.unh.edu Date: Fri, 23 May 2025 16:03:26 -0700 (PDT) Message-ID: <6830febe.050a0220.11002f.5a32SMTPIN_ADDED_MISSING@mx.google.com> Received: from [172.17.0.2] (unknown [172.18.0.76]) by postal.iol.unh.edu (Postfix) with ESMTP id B95156052471; Fri, 23 May 2025 19:03:25 -0400 (EDT) Subject: |SUCCESS| pw153663 [PATCH] crypto/virtio: add request check on reque From: dpdklab@iol.unh.edu To: Test Report Cc: dpdk-test-reports@iol.unh.edu In-Reply-To: <20250523140450.75543-1-radu.nicolau@intel.com> References: <20250523140450.75543-1-radu.nicolau@intel.com> Content-Type: text/plain X-BeenThere: test-report@dpdk.org X-Mailman-Version: 2.1.29 Precedence: list List-Id: automatic DPDK test reports List-Unsubscribe: , List-Archive: List-Post: List-Help: List-Subscribe: , Errors-To: test-report-bounces@dpdk.org Test-Label: iol-unit-arm64-testing Test-Status: SUCCESS http://dpdk.org/patch/153663 _Testing PASS_ Submitter: Radu Nicolau Date: Friday, May 23 2025 14:04:50 DPDK git baseline: Repo:dpdk Branch: master CommitID:fc627d7065ba5100faa928cf2edfa1622846f542 153663 --> testing pass Upstream job id: Generic-Unit-Test-DPDK#340261 Test environment and result as below: +-----------------------------+---------------------------+------------------------------+--------------+----------------+ | Environment | cryptodev_sw_zuc_autotest | cryptodev_sw_snow3g_autotest | lpm_autotest | dpdk_unit_test | +=============================+===========================+==============================+==============+================+ | Debian 12 (arm) | PASS | PASS | SKIPPED | PASS | +-----------------------------+---------------------------+------------------------------+--------------+----------------+ | Ubuntu 20.04 ARM SVE | SKIPPED | SKIPPED | PASS | SKIPPED | +-----------------------------+---------------------------+------------------------------+--------------+----------------+ | Ubuntu 24.04 (ARM) | SKIPPED | SKIPPED | SKIPPED | PASS | +-----------------------------+---------------------------+------------------------------+--------------+----------------+ | CentOS Stream 10 (ARM) | SKIPPED | SKIPPED | SKIPPED | PASS | +-----------------------------+---------------------------+------------------------------+--------------+----------------+ | Fedora 40 (ARM) | SKIPPED | SKIPPED | SKIPPED | PASS | +-----------------------------+---------------------------+------------------------------+--------------+----------------+ | CentOS Stream 9 (ARM) | SKIPPED | SKIPPED | SKIPPED | PASS | +-----------------------------+---------------------------+------------------------------+--------------+----------------+ | Fedora 40 (ARM Clang) | SKIPPED | SKIPPED | SKIPPED | PASS | +-----------------------------+---------------------------+------------------------------+--------------+----------------+ | Ubuntu 20.04 (ARM) | SKIPPED | SKIPPED | SKIPPED | PASS | +-----------------------------+---------------------------+------------------------------+--------------+----------------+ | Ubuntu 22.04 (ARM) | SKIPPED | SKIPPED | SKIPPED | PASS | +-----------------------------+---------------------------+------------------------------+--------------+----------------+ | Fedora 41 (ARM) | SKIPPED | SKIPPED | SKIPPED | PASS | +-----------------------------+---------------------------+------------------------------+--------------+----------------+ | Fedora 41 (ARM Clang) | SKIPPED | SKIPPED | SKIPPED | PASS | +-----------------------------+---------------------------+------------------------------+--------------+----------------+ | RHEL9 (ARM) | SKIPPED | SKIPPED | SKIPPED | PASS | +-----------------------------+---------------------------+------------------------------+--------------+----------------+ | 32-bit Ubuntu 22.04.4 (ARM) | SKIPPED | SKIPPED | SKIPPED | PASS | +-----------------------------+---------------------------+------------------------------+--------------+----------------+ Debian 12 (arm) Kernel: Depends on container host Compiler: gcc (Debian 12.2.0-14) 12.2.0 Ubuntu 20.04 ARM SVE Kernel: Depends on container host Compiler: gcc (Ubuntu 10.5.0-1ubuntu1~20.04) 10.5.0 Ubuntu 24.04 (ARM) Kernel: Depends on container host Compiler: gcc (Ubuntu 13.3.0-6ubuntu2~24.04) 13.3.0 CentOS Stream 10 (ARM) Kernel: Depends on container host Compiler: gcc 14.2.1 20241104 (Red Hat 14.2.1-6) Fedora 40 (ARM) Kernel: Depends on container host Compiler: gcc 14.2.1 20240912 (Red Hat 14.2.1-3) CentOS Stream 9 (ARM) Kernel: Depends on container host Compiler: gcc 11.5.0 20240719 (Red Hat 11.5.0-2) Fedora 40 (ARM Clang) Kernel: Depends on container host Compiler: clang 18.1.8 (Fedora 18.1.8-1.fc40) Ubuntu 20.04 (ARM) Kernel: Depends on container host Compiler: gcc (Ubuntu 9.4.0-1ubuntu1~20.04.2) 9.4.0 Ubuntu 22.04 (ARM) Kernel: Depends on container host Compiler: gcc (Ubuntu 11.4.0-1ubuntu1~22.04) 11.4.0 Fedora 41 (ARM) Kernel: Depends on container host Compiler: gcc 14.2.1 20240912 (Red Hat 14.2.1-3) Fedora 41 (ARM Clang) Kernel: Depends on container host Compiler: clang 19.1.5 (Fedora 19.1.5-1.fc41) RHEL9 (ARM) Kernel: Depends on container host Compiler: gcc 11.5.0 20240719 (Red Hat 11.5.0-2) 32-bit Ubuntu 22.04.4 (ARM) Kernel: 5.15.83+ aarch64 Compiler: gcc (Ubuntu 11.4.0-1ubuntu1~22.04) 11.4.0 To view detailed results, visit: https://lab.dpdk.org/results/dashboard/patchsets/33241/ UNH-IOL DPDK Community Lab To manage your email subscriptions, visit: https://lab.dpdk.org/results/dashboard/preferences/subscriptions/