From mboxrd@z Thu Jan  1 00:00:00 1970
Return-Path: <test-report-bounces@dpdk.org>
Received: from mails.dpdk.org (mails.dpdk.org [217.70.189.124])
	by inbox.dpdk.org (Postfix) with ESMTP id 61131467CC
	for <public@inbox.dpdk.org>; Sat, 24 May 2025 01:53:20 +0200 (CEST)
Received: from mails.dpdk.org (localhost [127.0.0.1])
	by mails.dpdk.org (Postfix) with ESMTP id 3FF50402E3;
	Sat, 24 May 2025 01:53:20 +0200 (CEST)
Received: from mail-pf1-f226.google.com (mail-pf1-f226.google.com
 [209.85.210.226])
 by mails.dpdk.org (Postfix) with ESMTP id 23879402C6
 for <test-report@dpdk.org>; Sat, 24 May 2025 01:53:19 +0200 (CEST)
Received: by mail-pf1-f226.google.com with SMTP id
 d2e1a72fcca58-742c7a52e97so458835b3a.3
 for <test-report@dpdk.org>; Fri, 23 May 2025 16:53:19 -0700 (PDT)
DKIM-Signature: v=1; a=rsa-sha256; c=relaxed/relaxed;
 d=iol.unh.edu; s=unh-iol; t=1748044398; x=1748649198; darn=dpdk.org;
 h=references:in-reply-to:cc:to:from:subject:message-id:date:from:to
 :cc:subject:date:message-id:reply-to;
 bh=CywhTPhm9dCl71E1odFgIY+g8poFU5VTIUPG5rWjtTk=;
 b=cIDfgrxo9HhCke8zw98l5sMgmhP9OChqIi5W1oKh7JSvAszjrKK8yXqq2LnG/MZVo1
 cA0uuYOl5rrk6jsqshAqtqpCqpT9ilI5BYkzac0HPGaXpjAbQsm53/O2d0ILbpqx7tnE
 CZVntvSitNi9UdLu7ohyXXvVM6QktaqpLTxNk=
X-Google-DKIM-Signature: v=1; a=rsa-sha256; c=relaxed/relaxed;
 d=1e100.net; s=20230601; t=1748044398; x=1748649198;
 h=references:in-reply-to:cc:to:from:subject:message-id:date
 :x-gm-message-state:from:to:cc:subject:date:message-id:reply-to;
 bh=CywhTPhm9dCl71E1odFgIY+g8poFU5VTIUPG5rWjtTk=;
 b=WtTZMlqmiXElifVLzFqkQBk2aGwKLJJLiCSyzF5dysRPUEwBkbgi1xxPy1TKos/dQ0
 BVm9KNEjN8CLzANmxPdw1bHRekUQskp1z3i61qWH1V6kje+BkBVJgPVASh+fZkgyrJ4P
 gT+o9Uu6GX4z8+CJAAUnE0Oha4rA/ap6rGwfufZECnMAc2GAt1Ef/z53id3OIsRGObGu
 pio5ftmeWPHTjGTfJDgobvRpRx4NZ1h9Sw3zapIuSpohNSMZ0zX3DxFJE7PyQiFjk0mf
 zA4BsJDs/mbazFxLKJ8KZgWti8FIAWpC9B4/g9iFT8VZg/9MPRUcGiDwB2DwfYHyu0Ue
 ZbcQ==
X-Gm-Message-State: AOJu0YxSfyA6ir79cyyx3zrBNr50GtPyA6BwC3Abvux8QBxxIgrH3vDz
 PMb9Ao4LrjvgWVvZhVJJpXPYQYFqG+iChY1yJQv1jWhVBvGAvUjsF9xqGKD5tKp/hsXwArzcDtV
 2CF7wOMQFQdm+62Xr7UbPxIb4AMTJ68LibSAguSMAcScx
X-Gm-Gg: ASbGncsGAIxHjbq7BnhJ6qfh1YMhDCWkrBihMk55reUPMH2HSQeg6OlLvVdkmbDiRlo
 BdnIZrnHNkitM6tpZ2SEL2ym/FWuJMgKNntWwQJYfC3CMemgWZOr2gxETuOa1F+Djm6O4y12C2x
 T4D/YHe/VIlaujM9dULpUAKzTIr5d89glbAV7JNq8pz4pYK/Bpp4Md/d/tptVEGf1BGlSuVTWGJ
 5dmWUWwoVm9vztoKxFfliOcVcUv0H0N+nrh52b/BnKsiYMCEpdcibXco+39CEX1LXKIxsAsCZm9
 b/mbSZQSjZ5Gxd5Fnu301yCfgHjfBmsAH1nS9w91vLl2V/4TNcJCDE1q6Nc=
X-Google-Smtp-Source: AGHT+IG/s2hHpzwkf54y437WencQyE+LPfYJqHV9tzkpaZE1K5p1gPqNxQcEDDGfK3/b6QxSXAjPuct0pkGV
X-Received: by 2002:a05:6a20:cfa1:b0:1f1:432:f4a3 with SMTP id
 adf61e73a8af0-2188c291d43mr1762632637.23.1748044397977; 
 Fri, 23 May 2025 16:53:17 -0700 (PDT)
Received: from postal.iol.unh.edu (postal.iol.unh.edu. [132.177.123.84])
 by smtp-relay.gmail.com with ESMTPS id
 41be03b00d2f7-b2b08af229dsm175314a12.2.2025.05.23.16.53.17
 (version=TLS1_2 cipher=ECDHE-ECDSA-AES128-GCM-SHA256 bits=128/128);
 Fri, 23 May 2025 16:53:17 -0700 (PDT)
X-Relaying-Domain: iol.unh.edu
Date: Fri, 23 May 2025 16:53:17 -0700 (PDT)
Message-ID: <68310a6d.050a0220.71373.992dSMTPIN_ADDED_MISSING@mx.google.com>
Received: from [172.17.0.2] (unknown [172.18.0.76])
 by postal.iol.unh.edu (Postfix) with ESMTP id 1D4A66052471;
 Fri, 23 May 2025 19:53:17 -0400 (EDT)
Subject: |SUCCESS| pw153664-153669 [PATCH] [v2,6/6] net/cnxk: fix bufsize in 
From: dpdklab@iol.unh.edu
To: Test Report <test-report@dpdk.org>
Cc: dpdk-test-reports@iol.unh.edu
In-Reply-To: <20250523155347.1156891-6-rbhansali@marvell.com>
References: <20250523155347.1156891-6-rbhansali@marvell.com>
Content-Type: text/plain
X-BeenThere: test-report@dpdk.org
X-Mailman-Version: 2.1.29
Precedence: list
List-Id: automatic DPDK test reports <test-report.dpdk.org>
List-Unsubscribe: <https://mails.dpdk.org/options/test-report>,
 <mailto:test-report-request@dpdk.org?subject=unsubscribe>
List-Archive: <http://mails.dpdk.org/archives/test-report/>
List-Post: <mailto:test-report@dpdk.org>
List-Help: <mailto:test-report-request@dpdk.org?subject=help>
List-Subscribe: <https://mails.dpdk.org/listinfo/test-report>,
 <mailto:test-report-request@dpdk.org?subject=subscribe>
Errors-To: test-report-bounces@dpdk.org

Test-Label: iol-compile-arm64-testing
Test-Status: SUCCESS
http://dpdk.org/patch/153669

_Testing PASS_

Submitter: Rahul Bhansali <rbhansali@marvell.com>
Date: Friday, May 23 2025 15:53:47 
DPDK git baseline: Repo:dpdk
  Branch: master
  CommitID:ec01f2cea6bdfa2e67976e9656ca03ba96dd01eb

153664-153669 --> testing pass

Upstream job id: Generic-DPDK-Compile-Meson#390830

Test environment and result as below:

+----------------------------------------+--------------------+
|              Environment               | dpdk_meson_compile |
+========================================+====================+
| RHEL9 (ARM)                            | PASS               |
+----------------------------------------+--------------------+
| Ubuntu 20.04 ARM GCC Cross Compile     | PASS               |
+----------------------------------------+--------------------+
| Ubuntu 20.04 ARM SVE                   | PASS               |
+----------------------------------------+--------------------+
| Debian 12 with MUSDK                   | PASS               |
+----------------------------------------+--------------------+
| Fedora 40 (ARM Clang)                  | PASS               |
+----------------------------------------+--------------------+
| Fedora 40 (ARM)                        | PASS               |
+----------------------------------------+--------------------+
| Fedora 41 (ARM)                        | PASS               |
+----------------------------------------+--------------------+
| Fedora 41 (ARM Clang)                  | PASS               |
+----------------------------------------+--------------------+
| Ubuntu 20.04 (ARM)                     | PASS               |
+----------------------------------------+--------------------+
| Ubuntu 22.04 (ARM)                     | PASS               |
+----------------------------------------+--------------------+
| Ubuntu 24.04 (ARM)                     | PASS               |
+----------------------------------------+--------------------+
| CentOS Stream 10 (ARM)                 | PASS               |
+----------------------------------------+--------------------+
| CentOS Stream 9 (ARM)                  | PASS               |
+----------------------------------------+--------------------+
| Debian 12 (arm)                        | PASS               |
+----------------------------------------+--------------------+
| Ubuntu 20.04 aarch32 GCC Cross Compile | PASS               |
+----------------------------------------+--------------------+
| Ubuntu 20.04 ARM Clang Cross Compile   | PASS               |
+----------------------------------------+--------------------+


RHEL9 (ARM)
	Kernel: Depends on container host
	Compiler: gcc 11.5.0 20240719 (Red Hat 11.5.0-2)

Ubuntu 20.04 ARM GCC Cross Compile
	Kernel: Depends on container host
	Compiler: aarch64-linux-gnu-gcc (Ubuntu 9.4.0-1ubuntu1~20.04.2) 9.4.0

Ubuntu 20.04 ARM SVE
	Kernel: Depends on container host
	Compiler: gcc (Ubuntu 10.5.0-1ubuntu1~20.04) 10.5.0

Debian 12 with MUSDK
	Kernel: Depends on container host
	Compiler: gcc (Debian 12.2.0-14) 12.2.0

Fedora 40 (ARM Clang)
	Kernel: Depends on container host
	Compiler: clang 18.1.8 (Fedora 18.1.8-1.fc40)

Fedora 40 (ARM)
	Kernel: Depends on container host
	Compiler: gcc 14.2.1 20240912 (Red Hat 14.2.1-3)

Fedora 41 (ARM)
	Kernel: Depends on container host
	Compiler: gcc 14.2.1 20240912 (Red Hat 14.2.1-3)

Fedora 41 (ARM Clang)
	Kernel: Depends on container host
	Compiler: clang 19.1.5 (Fedora 19.1.5-1.fc41)

Ubuntu 20.04 (ARM)
	Kernel: Depends on container host
	Compiler: gcc (Ubuntu 9.4.0-1ubuntu1~20.04.2) 9.4.0

Ubuntu 22.04 (ARM)
	Kernel: Depends on container host
	Compiler: gcc (Ubuntu 11.4.0-1ubuntu1~22.04) 11.4.0

Ubuntu 24.04 (ARM)
	Kernel: Depends on container host
	Compiler: gcc (Ubuntu 13.3.0-6ubuntu2~24.04) 13.3.0

CentOS Stream 10 (ARM)
	Kernel: Depends on container host
	Compiler: gcc 14.2.1 20241104 (Red Hat 14.2.1-6)

CentOS Stream 9 (ARM)
	Kernel: Depends on container host
	Compiler: gcc 11.5.0 20240719 (Red Hat 11.5.0-2)

Debian 12 (arm)
	Kernel: Depends on container host
	Compiler: gcc (Debian 12.2.0-14) 12.2.0

Ubuntu 20.04 aarch32 GCC Cross Compile
	Kernel: Depends on container host
	Compiler: gcc 9.4.0

Ubuntu 20.04 ARM Clang Cross Compile
	Kernel: Depends on container host
	Compiler: clang 10.0.0-4ubuntu1

To view detailed results, visit:
https://lab.dpdk.org/results/dashboard/patchsets/33242/

UNH-IOL DPDK Community Lab

To manage your email subscriptions, visit: 
https://lab.dpdk.org/results/dashboard/preferences/subscriptions/