From mboxrd@z Thu Jan 1 00:00:00 1970 Return-Path: Received: from mails.dpdk.org (mails.dpdk.org [217.70.189.124]) by inbox.dpdk.org (Postfix) with ESMTP id 06CE0467CD for ; Sat, 24 May 2025 02:52:50 +0200 (CEST) Received: from mails.dpdk.org (localhost [127.0.0.1]) by mails.dpdk.org (Postfix) with ESMTP id D94E6402CC; Sat, 24 May 2025 02:52:50 +0200 (CEST) Received: from mail-pj1-f97.google.com (mail-pj1-f97.google.com [209.85.216.97]) by mails.dpdk.org (Postfix) with ESMTP id 88224402CC for ; Sat, 24 May 2025 02:52:49 +0200 (CEST) Received: by mail-pj1-f97.google.com with SMTP id 98e67ed59e1d1-310cf8f7301so355324a91.1 for ; Fri, 23 May 2025 17:52:49 -0700 (PDT) DKIM-Signature: v=1; a=rsa-sha256; c=relaxed/relaxed; d=iol.unh.edu; s=unh-iol; t=1748047969; x=1748652769; darn=dpdk.org; h=references:in-reply-to:cc:to:from:subject:message-id:date:from:to :cc:subject:date:message-id:reply-to; bh=PO6RcDQTktK6OtFMArYXtXkNeH0eL58oNKc3ZDOIhUo=; b=gQLOlmeZKov1C2iQh9Wa1tf2Bh1Cn+ynGniBYDCkCDN8kKikYDt4P4jN3MDeNNqXyK nDIFasIubFp5cq27KAL92v8v1L4ThsaO9Ye5HCI4Qs24m+pji3ztHuxuwpAYe6asgAEg TgX555TtVWnpdbzdmG1NUmekGMfOoZIEPwMwE= X-Google-DKIM-Signature: v=1; a=rsa-sha256; c=relaxed/relaxed; d=1e100.net; s=20230601; t=1748047969; x=1748652769; h=references:in-reply-to:cc:to:from:subject:message-id:date :x-gm-message-state:from:to:cc:subject:date:message-id:reply-to; bh=PO6RcDQTktK6OtFMArYXtXkNeH0eL58oNKc3ZDOIhUo=; b=YEX12NMO01QAZTgoS/prwZzoI58R+St14JQutq5ZcSVParU3yBaPMVTQQ8ykfWtwMh Gv72zd3PO9UpcY5jqORU322QcK8ilaeDEiD2tQDeaICTgfe0cy+mO+67aYa2NpIte1cT Dl9geY2krYOj3mYZVKi5e0LVJNeQCLHWyKpAdDn3Ae/I0aCv5rxnpHLuRSszR4KgM2cx 9zp8JAT4Ee19shaV7i954zVGcYVhIVcNsvQ8g+iNxGaEDoGjDHZ5Br7ZHSxscs/eUK1B F3bIkHNWahZH2ROxBcmIXp3VxjOMy9ShruRzCmdP3/z5H0VAbiQXBVTKd6/fdg3Jyll+ lYKA== X-Gm-Message-State: AOJu0YzZfS2CdtZFhvOlASHBPb839GJoBfKg1bV8HGZz4jt5ABE3Ia/L ChRS/U1HeDgYrGMweO5SZHDPtO6j1YH1uMw61AEKalzaXocdXWxAAwf7tOMp9tkrpy3o77zygU2 jUmsopwt0GPQlBUNYrdJuZC7Q1al5psg6lAqFANoje3xr X-Gm-Gg: ASbGncs5L6qh8RYMHmsc3i/lSmuM6ehy/dlOigl83650Ohp7vo8HCQTRRLO2W+6OJU+ q+/jB8muMRlehAhqOTsHY6mhcvH2qGy5s6USWd9u5kDOEd9gvR2NawIY0PHVeCqYDKIItKE/o1G epA8OA3MR+mkI+/lA/fX/66hfrvXySQyiDY3v9+FsEwKrvilw9iwsT+CEZJ5ltCjWnTuCI1KmX5 vUDyWqw+vGlzsQkjziQpozl3vzCiXFBrTrhf3ecMK9use4tdQmq9Z8HEk42FYdalNpk/RH3VPOT pLNH9/R0IeDxZi+xenPJOFTQcJu3n/NZHspXrbtG2n0L4G6GWS3LuiU6X74= X-Google-Smtp-Source: AGHT+IHxgHL/wUNRcmhKrzlV6XMz546n8BRWaOHwUzPIKa9iog3ECjAm5kRqB7vzfKfL7xByaOf5Zx1iegz9 X-Received: by 2002:a17:90b:3e8c:b0:310:8d51:1b91 with SMTP id 98e67ed59e1d1-3110b7a2e5amr2287505a91.13.1748047968637; Fri, 23 May 2025 17:52:48 -0700 (PDT) Received: from postal.iol.unh.edu (postal.iol.unh.edu. [132.177.123.84]) by smtp-relay.gmail.com with ESMTPS id 41be03b00d2f7-b26eb0843desm491860a12.24.2025.05.23.17.52.48 (version=TLS1_2 cipher=ECDHE-ECDSA-AES128-GCM-SHA256 bits=128/128); Fri, 23 May 2025 17:52:48 -0700 (PDT) X-Relaying-Domain: iol.unh.edu Date: Fri, 23 May 2025 17:52:48 -0700 (PDT) Message-ID: <68311860.050a0220.2de076.ae5aSMTPIN_ADDED_MISSING@mx.google.com> Received: from [172.21.0.5] (unknown [172.18.0.240]) by postal.iol.unh.edu (Postfix) with ESMTP id 04C4E6052471; Fri, 23 May 2025 20:52:47 -0400 (EDT) Subject: |SUCCESS| pw153663 [PATCH] crypto/virtio: add request check on reque From: dpdklab@iol.unh.edu To: Test Report Cc: dpdk-test-reports@iol.unh.edu In-Reply-To: <20250523140450.75543-1-radu.nicolau@intel.com> References: <20250523140450.75543-1-radu.nicolau@intel.com> Content-Type: text/plain X-BeenThere: test-report@dpdk.org X-Mailman-Version: 2.1.29 Precedence: list List-Id: automatic DPDK test reports List-Unsubscribe: , List-Archive: List-Post: List-Help: List-Subscribe: , Errors-To: test-report-bounces@dpdk.org Test-Label: iol-compile-arm64-testing Test-Status: SUCCESS http://dpdk.org/patch/153663 _Testing PASS_ Submitter: Radu Nicolau Date: Friday, May 23 2025 14:04:50 DPDK git baseline: Repo:dpdk Branch: master CommitID:fc627d7065ba5100faa928cf2edfa1622846f542 153663 --> testing pass Upstream job id: Generic-DPDK-Compile-Meson#390858 Test environment and result as below: +----------------------------------------+--------------------+ | Environment | dpdk_meson_compile | +========================================+====================+ | RHEL9 (ARM) | PASS | +----------------------------------------+--------------------+ | Ubuntu 20.04 ARM GCC Cross Compile | PASS | +----------------------------------------+--------------------+ | Fedora 40 (ARM) | PASS | +----------------------------------------+--------------------+ | Ubuntu 20.04 ARM SVE | PASS | +----------------------------------------+--------------------+ | Debian 12 with MUSDK | PASS | +----------------------------------------+--------------------+ | Fedora 40 (ARM Clang) | PASS | +----------------------------------------+--------------------+ | Fedora 41 (ARM Clang) | PASS | +----------------------------------------+--------------------+ | Ubuntu 20.04 aarch32 GCC Cross Compile | PASS | +----------------------------------------+--------------------+ | Fedora 41 (ARM) | PASS | +----------------------------------------+--------------------+ | Ubuntu 22.04 (ARM) | PASS | +----------------------------------------+--------------------+ | Ubuntu 20.04 (ARM) | PASS | +----------------------------------------+--------------------+ | Ubuntu 24.04 (ARM) | PASS | +----------------------------------------+--------------------+ | CentOS Stream 9 (ARM) | PASS | +----------------------------------------+--------------------+ | Ubuntu 20.04 ARM Clang Cross Compile | PASS | +----------------------------------------+--------------------+ | CentOS Stream 10 (ARM) | PASS | +----------------------------------------+--------------------+ | Debian 12 (arm) | PASS | +----------------------------------------+--------------------+ RHEL9 (ARM) Kernel: Depends on container host Compiler: gcc 11.5.0 20240719 (Red Hat 11.5.0-2) Ubuntu 20.04 ARM GCC Cross Compile Kernel: Depends on container host Compiler: aarch64-linux-gnu-gcc (Ubuntu 9.4.0-1ubuntu1~20.04.2) 9.4.0 Fedora 40 (ARM) Kernel: Depends on container host Compiler: gcc 14.2.1 20240912 (Red Hat 14.2.1-3) Ubuntu 20.04 ARM SVE Kernel: Depends on container host Compiler: gcc (Ubuntu 10.5.0-1ubuntu1~20.04) 10.5.0 Debian 12 with MUSDK Kernel: Depends on container host Compiler: gcc (Debian 12.2.0-14) 12.2.0 Fedora 40 (ARM Clang) Kernel: Depends on container host Compiler: clang 18.1.8 (Fedora 18.1.8-1.fc40) Fedora 41 (ARM Clang) Kernel: Depends on container host Compiler: clang 19.1.5 (Fedora 19.1.5-1.fc41) Ubuntu 20.04 aarch32 GCC Cross Compile Kernel: Depends on container host Compiler: gcc 9.4.0 Fedora 41 (ARM) Kernel: Depends on container host Compiler: gcc 14.2.1 20240912 (Red Hat 14.2.1-3) Ubuntu 22.04 (ARM) Kernel: Depends on container host Compiler: gcc (Ubuntu 11.4.0-1ubuntu1~22.04) 11.4.0 Ubuntu 20.04 (ARM) Kernel: Depends on container host Compiler: gcc (Ubuntu 9.4.0-1ubuntu1~20.04.2) 9.4.0 Ubuntu 24.04 (ARM) Kernel: Depends on container host Compiler: gcc (Ubuntu 13.3.0-6ubuntu2~24.04) 13.3.0 CentOS Stream 9 (ARM) Kernel: Depends on container host Compiler: gcc 11.5.0 20240719 (Red Hat 11.5.0-2) Ubuntu 20.04 ARM Clang Cross Compile Kernel: Depends on container host Compiler: clang 10.0.0-4ubuntu1 CentOS Stream 10 (ARM) Kernel: Depends on container host Compiler: gcc 14.2.1 20241104 (Red Hat 14.2.1-6) Debian 12 (arm) Kernel: Depends on container host Compiler: gcc (Debian 12.2.0-14) 12.2.0 To view detailed results, visit: https://lab.dpdk.org/results/dashboard/patchsets/33241/ UNH-IOL DPDK Community Lab To manage your email subscriptions, visit: https://lab.dpdk.org/results/dashboard/preferences/subscriptions/