From mboxrd@z Thu Jan 1 00:00:00 1970 Return-Path: Received: from mails.dpdk.org (mails.dpdk.org [217.70.189.124]) by inbox.dpdk.org (Postfix) with ESMTP id 79FE4467CD for ; Sat, 24 May 2025 03:19:47 +0200 (CEST) Received: from mails.dpdk.org (localhost [127.0.0.1]) by mails.dpdk.org (Postfix) with ESMTP id 5443D402D3; Sat, 24 May 2025 03:19:47 +0200 (CEST) Received: from mail-qt1-f227.google.com (mail-qt1-f227.google.com [209.85.160.227]) by mails.dpdk.org (Postfix) with ESMTP id ED6DD402D3 for ; Sat, 24 May 2025 03:19:45 +0200 (CEST) Received: by mail-qt1-f227.google.com with SMTP id d75a77b69052e-4811fca8658so4990421cf.3 for ; Fri, 23 May 2025 18:19:45 -0700 (PDT) DKIM-Signature: v=1; a=rsa-sha256; c=relaxed/relaxed; d=iol.unh.edu; s=unh-iol; t=1748049585; x=1748654385; darn=dpdk.org; h=cc:to:from:subject:message-id:date:from:to:cc:subject:date :message-id:reply-to; bh=AAjfUgRjuzhjvse0sp+/3T8SZnIJY3Cr38Ey7H+04jM=; b=FovXI8Og2H8hSpw88bq8yp1kIlYOYx6W0gzoqZiTmN1tQs6rIvLy926wJiH+Am0EjG uGyd3koqQ84YG0fR63Zu6KRbUVIdsQPGJ5BdomaEldxUy/c2UrxoBfpiyJHHtOZgVUE+ Ud0ftxEEdCoK5PNDJij4uV1eqXQd+qZW2xIus= X-Google-DKIM-Signature: v=1; a=rsa-sha256; c=relaxed/relaxed; d=1e100.net; s=20230601; t=1748049585; x=1748654385; h=cc:to:from:subject:message-id:date:x-gm-message-state:from:to:cc :subject:date:message-id:reply-to; bh=AAjfUgRjuzhjvse0sp+/3T8SZnIJY3Cr38Ey7H+04jM=; b=AmqxBkADpf9yKEitDiASf3RVKSjFWJYKJvKPsvqtBu7f/e7VxQNjw4V2yok9GeKYb1 Y3WhsOuSFfKsk5geqkUJPz2Y+gEkkDUkoeeGzyOSm+CmzC5vn6Mw9py7jEPi5R75H+1r bpMb3mltGI4+2gSTjUnPbY0ZPVuMn29RKUMu9lSIcNlgpJZo71fsheJeJd5g/Mo7ECIN 7nlODbUhu8Yxdv6WP+XVU3reg655tZd5v5YUZ8V3zNU3OEjEx/PcuYZZeZBi0mbyNXqO tK5/+i+6G11MbF+bKiwdEImA2svUHTHN78pkj0jX1ck/o12cB3AOtEQ57DQiCqs3qzsn yU4Q== X-Gm-Message-State: AOJu0YwYEGDuYK2Bv6CLyuzoXdhV5NwQYer896VpR5ixYFw3DkbDUSNU fQHsQdGMhShc9OY6W4+2+fPNEoEm1KUhZ78FlEhaBqlA5Ea0xUQeSKPCgXCwCa42X2y2RGTEklH is5cdx7oH6MSA0fokKofqdxhBQ18QQyOkKwB4Y4+DaEKn X-Gm-Gg: ASbGnctFHs0PaFF9ewceNcVxjOhy1nlvgnkSjJmwUV/tb9pGkEfIBvISo9+EPd1U3YC HDybWW3og4cDEhArNLipngAvRdEbh4QjNIU5tNnVIurEjOtkwx1BA4QUdMSJtAyQnfP6ZM7orSg knNI/tQQnrw9ixu5KmYJp2o1N996QQZCvgOCcejl/Pmcmtz3Tq2DTE68wnD2OQG2BY4RLh4bWnc aCQfdcu8uLb67jEI8xAt9RANlTEt+AOqy7NrGnTjuw+e7gC2OS6HOQMg1OfhpmeOpjj7fyInG35 aQlFjHVe47BftZz8VzkbIEY1ZXMJDOpwE9VXi0020YyyCCgibYcgoqwzPsY= X-Google-Smtp-Source: AGHT+IEDzHQRT2qRfQQ+gkZmNJV/YO6YP7r25GHLqnbq+U9qf8B/FmzeMBG6gZjlCxLml9MIquO6/TwRbNpq X-Received: by 2002:a05:622a:1e89:b0:476:80ce:a61f with SMTP id d75a77b69052e-49f485acc0cmr21568851cf.39.1748049585288; Fri, 23 May 2025 18:19:45 -0700 (PDT) Received: from postal.iol.unh.edu (postal.iol.unh.edu. [132.177.123.84]) by smtp-relay.gmail.com with ESMTPS id d75a77b69052e-494ae3ff50csm6841201cf.9.2025.05.23.18.19.45 (version=TLS1_2 cipher=ECDHE-ECDSA-AES128-GCM-SHA256 bits=128/128); Fri, 23 May 2025 18:19:45 -0700 (PDT) X-Relaying-Domain: iol.unh.edu Date: Fri, 23 May 2025 18:19:45 -0700 (PDT) Message-ID: <68311eb1.c80a0220.726ce.32fbSMTPIN_ADDED_MISSING@mx.google.com> Received: from [172.17.0.4] (unknown [172.18.0.74]) by postal.iol.unh.edu (Postfix) with ESMTP id ACBBB6052471; Fri, 23 May 2025 21:19:44 -0400 (EDT) Subject: |WARNING| [GIT MASTER] 117e86c4b96ed761e9a7ab766261208fe81bf5ca From: dpdklab@iol.unh.edu To: Test Report Cc: dpdk-test-reports@iol.unh.edu Content-Type: text/plain X-BeenThere: test-report@dpdk.org X-Mailman-Version: 2.1.29 Precedence: list List-Id: automatic DPDK test reports List-Unsubscribe: , List-Archive: List-Post: List-Help: List-Subscribe: , Errors-To: test-report-bounces@dpdk.org _Testing issues_ Branch: dpdk 117e86c4b96ed761e9a7ab766261208fe81bf5ca --> testing issues Upstream job id: Generic-DPDK-Compile-Meson#390877 Test environment and result as below: +-----------------------------------+--------------------+-------------------+------------------+-------------------------+-------------------+----------------------+ | Environment | dpdk_meson_compile | dpdk_compile_spdk | dpdk_compile_ovs | dpdk_llvm_clang_compile | dpdk_msvc_compile | dpdk_mingw64_compile | +===================================+====================+===================+==================+=========================+===================+======================+ | CentOS Stream 10 | PASS | SKIPPED | SKIPPED | SKIPPED | SKIPPED | SKIPPED | +-----------------------------------+--------------------+-------------------+------------------+-------------------------+-------------------+----------------------+ | CentOS Stream 9 | PASS | PASS | SKIPPED | SKIPPED | SKIPPED | SKIPPED | +-----------------------------------+--------------------+-------------------+------------------+-------------------------+-------------------+----------------------+ | Debian 12 | PASS | PASS | SKIPPED | SKIPPED | SKIPPED | SKIPPED | +-----------------------------------+--------------------+-------------------+------------------+-------------------------+-------------------+----------------------+ | Fedora 40 (Clang) | PASS | WARN | SKIPPED | SKIPPED | SKIPPED | SKIPPED | +-----------------------------------+--------------------+-------------------+------------------+-------------------------+-------------------+----------------------+ | Fedora 40 | PASS | PASS | SKIPPED | SKIPPED | SKIPPED | SKIPPED | +-----------------------------------+--------------------+-------------------+------------------+-------------------------+-------------------+----------------------+ | Fedora 41 (Clang) | PEND | PEND | PEND | SKIPPED | SKIPPED | SKIPPED | +-----------------------------------+--------------------+-------------------+------------------+-------------------------+-------------------+----------------------+ | Fedora 41 | PEND | PEND | PEND | SKIPPED | SKIPPED | SKIPPED | +-----------------------------------+--------------------+-------------------+------------------+-------------------------+-------------------+----------------------+ | RHEL8 | PASS | SKIPPED | SKIPPED | SKIPPED | SKIPPED | SKIPPED | +-----------------------------------+--------------------+-------------------+------------------+-------------------------+-------------------+----------------------+ | Ubuntu 20.04 | PASS | SKIPPED | SKIPPED | SKIPPED | SKIPPED | SKIPPED | +-----------------------------------+--------------------+-------------------+------------------+-------------------------+-------------------+----------------------+ | RHEL9 | PASS | SKIPPED | SKIPPED | SKIPPED | SKIPPED | SKIPPED | +-----------------------------------+--------------------+-------------------+------------------+-------------------------+-------------------+----------------------+ | openSUSE Leap 15 | PEND | SKIPPED | SKIPPED | SKIPPED | SKIPPED | SKIPPED | +-----------------------------------+--------------------+-------------------+------------------+-------------------------+-------------------+----------------------+ | Ubuntu 22.04 | PASS | PASS | SKIPPED | SKIPPED | SKIPPED | SKIPPED | +-----------------------------------+--------------------+-------------------+------------------+-------------------------+-------------------+----------------------+ | Ubuntu 24.04 | PEND | PEND | PEND | SKIPPED | SKIPPED | SKIPPED | +-----------------------------------+--------------------+-------------------+------------------+-------------------------+-------------------+----------------------+ | Ubuntu 24.04 32 Bit Cross Compile | PEND | SKIPPED | SKIPPED | SKIPPED | SKIPPED | SKIPPED | +-----------------------------------+--------------------+-------------------+------------------+-------------------------+-------------------+----------------------+ | Arch Linux | PEND | SKIPPED | SKIPPED | SKIPPED | SKIPPED | SKIPPED | +-----------------------------------+--------------------+-------------------+------------------+-------------------------+-------------------+----------------------+ | Alpine | PEND | SKIPPED | SKIPPED | SKIPPED | SKIPPED | SKIPPED | +-----------------------------------+--------------------+-------------------+------------------+-------------------------+-------------------+----------------------+ | FreeBSD 14.2 | PASS | SKIPPED | SKIPPED | SKIPPED | SKIPPED | SKIPPED | +-----------------------------------+--------------------+-------------------+------------------+-------------------------+-------------------+----------------------+ | Windows Server 2022 | SKIPPED | SKIPPED | SKIPPED | PASS | PASS | PASS | +-----------------------------------+--------------------+-------------------+------------------+-------------------------+-------------------+----------------------+ ==== 20 line log output for Fedora 40 (Clang) (dpdk_compile_spdk): ==== --- Failed to get log output --- ==== End log output ==== CentOS Stream 10 Kernel: Depends on container host Compiler: gcc 14.2.1 20241104 (Red Hat 14.2.1-6) CentOS Stream 9 Kernel: Depends on container host Compiler: gcc 11.5.0 20240719 (Red Hat 11.5.0-2) Debian 12 Kernel: Depends on container host Compiler: gcc (Debian 12.2.0-14) 12.2.0 Fedora 40 (Clang) Kernel: Depends on container host Compiler: clang 18.1.8 (Fedora 18.1.8-1.fc40) Fedora 40 Kernel: Depends on container host Compiler: gcc 14.2.1 20240912 (Red Hat 14.2.1-3) Fedora 41 (Clang) Kernel: Depends on container host Compiler: clang 19.1.5 (Fedora 19.1.5-1.fc41) Fedora 41 Kernel: Depends on container host Compiler: gcc 14.2.1 20240912 (Red Hat 14.2.1-3) RHEL8 Kernel: Depends on container host Compiler: gcc 8.5.0 20210514 (Red Hat 8.5.0-22) Ubuntu 20.04 Kernel: Depends on container host Compiler: gcc (Ubuntu 9.4.0-1ubuntu1~20.04.2) 9.4.0 RHEL9 Kernel: Depends on container host Compiler: gcc 11.5.0 20240719 (Red Hat 11.5.0-2) openSUSE Leap 15 Kernel: Depends on container host Compiler: gcc (SUSE Linux) 7.5.0 Ubuntu 22.04 Kernel: Depends on container host Compiler: gcc (Ubuntu 11.4.0-1ubuntu1~22.04) 11.4.0 Ubuntu 24.04 Kernel: Depends on container host Compiler: gcc (Ubuntu 13.3.0-6ubuntu2~24.04) 13.3.0 Ubuntu 24.04 32 Bit Cross Compile Kernel: Depends on container host Compiler: gcc (Ubuntu 13.3.0-6ubuntu2~24.04) 13.3.0 Arch Linux Kernel: Depends on container host Compiler: gcc 14.2.1 20240910 Alpine Kernel: Depends on container host Compiler: gcc (Alpine 14.2.0) 14.2.0 FreeBSD 14.2 Kernel: 14.2-RELEASE Compiler: clang 18.1.6 Windows Server 2022 Kernel: 10.0.20348.2031 Compiler: clang 15.0.7, gcc 14.1.0 (MinGW), and MSVC VS 19.39.33521 To view detailed results, visit: https://lab.dpdk.org/results/dashboard/tarballs/33630/ UNH-IOL DPDK Community Lab To manage your email subscriptions, visit: https://lab.dpdk.org/results/dashboard/preferences/subscriptions/