From mboxrd@z Thu Jan 1 00:00:00 1970 Return-Path: Received: from mails.dpdk.org (mails.dpdk.org [217.70.189.124]) by inbox.dpdk.org (Postfix) with ESMTP id 140A1467CD for ; Sat, 24 May 2025 03:27:27 +0200 (CEST) Received: from mails.dpdk.org (localhost [127.0.0.1]) by mails.dpdk.org (Postfix) with ESMTP id 0DF8C402D3; Sat, 24 May 2025 03:27:27 +0200 (CEST) Received: from mail-pj1-f100.google.com (mail-pj1-f100.google.com [209.85.216.100]) by mails.dpdk.org (Postfix) with ESMTP id C86CF402D3 for ; Sat, 24 May 2025 03:27:20 +0200 (CEST) Received: by mail-pj1-f100.google.com with SMTP id 98e67ed59e1d1-31118250f20so52060a91.1 for ; Fri, 23 May 2025 18:27:20 -0700 (PDT) DKIM-Signature: v=1; a=rsa-sha256; c=relaxed/relaxed; d=iol.unh.edu; s=unh-iol; t=1748050040; x=1748654840; darn=dpdk.org; h=cc:to:from:subject:message-id:date:from:to:cc:subject:date :message-id:reply-to; bh=2JBiEfzRDlYCGYscK7MBr1rv9kEcUcvysFgGnY7xg+0=; b=KQC657GDQsi/pPlw0ufe2dFnv2aeF2LVyjspjhrb/uUOo8tPuS7vAnHuoyYNgKoDQb +wcEGU5XuDQaFBmYyJ1XQzG4wpQynPUTQ5pKaobYm0/7G47SAGN1duRcpgGDA0P2tQjc 6ogsiN/XIgeoft5cWq58iTs88smW6sW+O3OQI= X-Google-DKIM-Signature: v=1; a=rsa-sha256; c=relaxed/relaxed; d=1e100.net; s=20230601; t=1748050040; x=1748654840; h=cc:to:from:subject:message-id:date:x-gm-message-state:from:to:cc :subject:date:message-id:reply-to; bh=2JBiEfzRDlYCGYscK7MBr1rv9kEcUcvysFgGnY7xg+0=; b=G5ZpSIblfbmU0lwDxM7bJRrEhpMbp2modXUMRrxyUSlv2gPqU3z64AcZ2Up75Tzudu beXvC/F2T5yUtTKWns7TWx5ctxYNUxvdhfRXZG44LXDHQuYfwPNZKj8r2FdsGoxWzz5i HlyC0J5a4rX+tFxFuQpGJl604NYN55WrCNpprWGZgJAT+ttCukNT0/A9avOkfoizJyNF ymnG1eLsLgbafwvluqaE3NChOWwJy75lheXE2zxh9cDyMFdrnwY2VezXTEM2b0u+z+PS RXbjgGfmrsyWMxan6swxGDxtd8+Bjm3hjG1rJoXFn0v9JEIyjEMV+TUnRSdpI+uTqOs2 n3Xg== X-Gm-Message-State: AOJu0Yx6wRxgTzcxnX4587qvE6KNXqSVnDaOqz18IjWwC83tRdCDcZx4 VDlXVsWS/r6W/XFI1n67uDwypryy+7HSguimqAsfx8TeidCzLIMfjdhfLHWaPPD9TBb3UPJ7su7 CkMhG9p5Aq+R7TBIFdx1/2723a4KbDG6NhUXfGA/Ntfnz X-Gm-Gg: ASbGncszj7PhnXusBwdUFTO02OhUr6uzJxjPNqSsmZKLtEcybVaVNTeIqlO7U7CmcG1 kR3xsnybfs8RAAK7x3IEplPu0grfZ2QrQNiimGNHn01btx86AWCC9yI7Yzl1YLbAJEp0lFoTZ+R cG+zU5p25FX6Mlvx766z5HH4fpwTOCNlnVCS6Y1sfF0o+9sYqYNC3FfhFmVH8rydnREKAqvrfri c3a+VoIrgJbIk3EkMOMoqPT/RBpfpOKd4Q6vV7SIIj40TSsD/82ZrL+wlFv+6l7r/6yoaslniuf Nqtk57A0H/iA/SY32YEyldlX+Fkvgm1Wtlkr4ZaLIFc14QGKd5lNdEtVLcw= X-Google-Smtp-Source: AGHT+IGuu5Vs72TNh85/3MOJsPS8Pi5Awyuu56i7MlOW6/1E7SUna+q+Vr7m0M2le2Jfv7CU8RNzajwbpWRU X-Received: by 2002:a17:90b:1d81:b0:30e:823f:ef34 with SMTP id 98e67ed59e1d1-311102ca39fmr1391434a91.23.1748050039793; Fri, 23 May 2025 18:27:19 -0700 (PDT) Received: from postal.iol.unh.edu (postal.iol.unh.edu. [132.177.123.84]) by smtp-relay.gmail.com with ESMTPS id 98e67ed59e1d1-3108d7151e3sm452396a91.2.2025.05.23.18.27.19 (version=TLS1_2 cipher=ECDHE-ECDSA-AES128-GCM-SHA256 bits=128/128); Fri, 23 May 2025 18:27:19 -0700 (PDT) X-Relaying-Domain: iol.unh.edu Date: Fri, 23 May 2025 18:27:19 -0700 (PDT) Message-ID: <68312077.170a0220.1e5301.7360SMTPIN_ADDED_MISSING@mx.google.com> Received: from [172.21.0.5] (unknown [172.18.0.240]) by postal.iol.unh.edu (Postfix) with ESMTP id 05F9A6052472; Fri, 23 May 2025 21:27:19 -0400 (EDT) Subject: |SUCCESS| [GIT MASTER] 117e86c4b96ed761e9a7ab766261208fe81bf5ca From: dpdklab@iol.unh.edu To: Test Report Cc: dpdk-test-reports@iol.unh.edu Content-Type: text/plain X-BeenThere: test-report@dpdk.org X-Mailman-Version: 2.1.29 Precedence: list List-Id: automatic DPDK test reports List-Unsubscribe: , List-Archive: List-Post: List-Help: List-Subscribe: , Errors-To: test-report-bounces@dpdk.org _Testing PASS_ Branch: dpdk 117e86c4b96ed761e9a7ab766261208fe81bf5ca --> testing pass Upstream job id: Generic-DPDK-Compile-ABI#127489 Test environment and result as below: +-------------------+----------+ | Environment | abi_test | +===================+==========+ | Fedora 40 | PASS | +-------------------+----------+ | CentOS Stream 9 | PASS | +-------------------+----------+ | Fedora 40 (Clang) | PASS | +-------------------+----------+ | CentOS Stream 10 | PASS | +-------------------+----------+ | Fedora 41 | PASS | +-------------------+----------+ | Fedora 41 (Clang) | PASS | +-------------------+----------+ | Debian 12 | PASS | +-------------------+----------+ | Ubuntu 22.04 | PASS | +-------------------+----------+ | RHEL9 | PASS | +-------------------+----------+ | openSUSE Leap 15 | PASS | +-------------------+----------+ | RHEL8 | PASS | +-------------------+----------+ | Ubuntu 24.04 | PASS | +-------------------+----------+ | Arch Linux | PASS | +-------------------+----------+ Fedora 40 Kernel: Depends on container host Compiler: gcc 14.2.1 20240912 (Red Hat 14.2.1-3) CentOS Stream 9 Kernel: Depends on container host Compiler: gcc 11.5.0 20240719 (Red Hat 11.5.0-2) Fedora 40 (Clang) Kernel: Depends on container host Compiler: clang 18.1.8 (Fedora 18.1.8-1.fc40) CentOS Stream 10 Kernel: Depends on container host Compiler: gcc 14.2.1 20241104 (Red Hat 14.2.1-6) Fedora 41 Kernel: Depends on container host Compiler: gcc 14.2.1 20240912 (Red Hat 14.2.1-3) Fedora 41 (Clang) Kernel: Depends on container host Compiler: clang 19.1.5 (Fedora 19.1.5-1.fc41) Debian 12 Kernel: Depends on container host Compiler: gcc (Debian 12.2.0-14) 12.2.0 Ubuntu 22.04 Kernel: Depends on container host Compiler: gcc (Ubuntu 11.4.0-1ubuntu1~22.04) 11.4.0 RHEL9 Kernel: Depends on container host Compiler: gcc 11.5.0 20240719 (Red Hat 11.5.0-2) openSUSE Leap 15 Kernel: Depends on container host Compiler: gcc (SUSE Linux) 7.5.0 RHEL8 Kernel: Depends on container host Compiler: gcc 8.5.0 20210514 (Red Hat 8.5.0-22) Ubuntu 24.04 Kernel: Depends on container host Compiler: gcc (Ubuntu 13.3.0-6ubuntu2~24.04) 13.3.0 Arch Linux Kernel: Depends on container host Compiler: gcc 14.2.1 20240910 To view detailed results, visit: https://lab.dpdk.org/results/dashboard/tarballs/33630/ UNH-IOL DPDK Community Lab To manage your email subscriptions, visit: https://lab.dpdk.org/results/dashboard/preferences/subscriptions/