From mboxrd@z Thu Jan 1 00:00:00 1970 Return-Path: Received: from mails.dpdk.org (mails.dpdk.org [217.70.189.124]) by inbox.dpdk.org (Postfix) with ESMTP id 1EE99467CD for ; Sat, 24 May 2025 03:27:21 +0200 (CEST) Received: from mails.dpdk.org (localhost [127.0.0.1]) by mails.dpdk.org (Postfix) with ESMTP id F12EF402DB; Sat, 24 May 2025 03:27:20 +0200 (CEST) Received: from mail-pf1-f226.google.com (mail-pf1-f226.google.com [209.85.210.226]) by mails.dpdk.org (Postfix) with ESMTP id 5A88A402D3 for ; Sat, 24 May 2025 03:27:20 +0200 (CEST) Received: by mail-pf1-f226.google.com with SMTP id d2e1a72fcca58-72d3b48d2ffso442002b3a.2 for ; Fri, 23 May 2025 18:27:20 -0700 (PDT) DKIM-Signature: v=1; a=rsa-sha256; c=relaxed/relaxed; d=iol.unh.edu; s=unh-iol; t=1748050039; x=1748654839; darn=dpdk.org; h=cc:to:from:subject:message-id:date:from:to:cc:subject:date :message-id:reply-to; bh=d14bROj9xzuh/x1aVf/xtJgjB8ZzcUiSZQsykVCOy84=; b=Pg216hdq3AMPEfMhKoGB0gqjgi7CgtBnXHMHdB3DzEbRLfxl7MvtolfmeUkas1ZA+L 9SqHWGpiazeeCva1RlqhCi38OC/Tro35tCdImdoTt2g444z4DKstJZxM+P+/FygVg55Z f6KvYqaIEvJeq5SdkiBhzE87igiEhkaVgMZ64= X-Google-DKIM-Signature: v=1; a=rsa-sha256; c=relaxed/relaxed; d=1e100.net; s=20230601; t=1748050039; x=1748654839; h=cc:to:from:subject:message-id:date:x-gm-message-state:from:to:cc :subject:date:message-id:reply-to; bh=d14bROj9xzuh/x1aVf/xtJgjB8ZzcUiSZQsykVCOy84=; b=VadmY014RaTxfd+/xcxuDLTm4+D4NIwZlqt28BGpDE25vM0+qPQg/Zm3Ri9wwE4b6z G6tE/1jJW2P8xKj6giUoylh/DFE+FStrk3KQZaAKFYHceMkI7k18yEEQi6w6M14MjxZh cp20jnN+UzU6mAQUV+H/HX73u1ldjQNULZYYV1VeLOFsUaDHXLdRjjRk61tzVVb2OZ7q Nmf9jOpgXONS37M3+TZ0kfEkM1JpymR5XvOqhY22bxuAx0yPyfVycbXlJHTSQDBO3AI/ lmwXg4gKQxprlp1soT3XD2UzC2DDg2HIhJpBY/rZYx4ufXGIWqpyI0l/SVkYDbuA7rXD orWg== X-Gm-Message-State: AOJu0YxfJGyjdoOItNUiPUT59dd/A2nAgT3HqNGea+romKy5b79Zq1PV /aXRlQZ8h5kq+gVYa8ktexum7LWLp65F1TgOwuqPCFQSewasXpmMBHMZmRk7D8h4emed8oN6YfS GYULpJGuelu+JIrjh5fhSpJNEAiuVSgTIA25ewOmmUfzW X-Gm-Gg: ASbGnct87Iv5sKc7Re9cL72im5Wx/Bcsig1ITX/lYzaUo5sK/NbBCu1ncWFgD6MU8au E7eeBFIkfqbKR5GOQsu7wJEo6+6QJb13uoqQn3OTe+Pk5IajQp8aE05Np7uaZhgyLlYAqNv2SzO +EgJ1ZEIiwxZlOQdohSo+qfnARzElx20g0q2S7w5iJ7Gds+InQEO5iD+K8s2mqbEG8Q0k71o46I RSDRMaYo7oym4RfCk1xdvGLCKytoGRM46g5GW0elW20AwoJC0hQARy0p5ZnGCPfG78TlsoV8p0s DLnfKMOqs8tqQ4b97hruJaneDvtzsNLL38yc9Hc/Rf9gVv5KQJR7WGN60bQ= X-Google-Smtp-Source: AGHT+IEaF2pcn8X90FUpowhznlFGHooXC5KxIRKV2Hg4uoRzRTvjuSz0W3irX/EPh3a/amPaF1L1cfZxcJZF X-Received: by 2002:a17:903:1946:b0:234:c59:33a8 with SMTP id d9443c01a7336-23414f6825dmr27095465ad.25.1748050039185; Fri, 23 May 2025 18:27:19 -0700 (PDT) Received: from postal.iol.unh.edu (postal.iol.unh.edu. [132.177.123.84]) by smtp-relay.gmail.com with ESMTPS id d9443c01a7336-231d4aa746csm9382435ad.15.2025.05.23.18.27.19 (version=TLS1_2 cipher=ECDHE-ECDSA-AES128-GCM-SHA256 bits=128/128); Fri, 23 May 2025 18:27:19 -0700 (PDT) X-Relaying-Domain: iol.unh.edu Date: Fri, 23 May 2025 18:27:19 -0700 (PDT) Message-ID: <68312077.170a0220.4390c.178dSMTPIN_ADDED_MISSING@mx.google.com> Received: from [172.17.0.5] (unknown [172.18.0.74]) by postal.iol.unh.edu (Postfix) with ESMTP id A00496052471; Fri, 23 May 2025 21:27:18 -0400 (EDT) Subject: |SUCCESS| [GIT MASTER] 117e86c4b96ed761e9a7ab766261208fe81bf5ca From: dpdklab@iol.unh.edu To: Test Report Cc: dpdk-test-reports@iol.unh.edu Content-Type: text/plain X-BeenThere: test-report@dpdk.org X-Mailman-Version: 2.1.29 Precedence: list List-Id: automatic DPDK test reports List-Unsubscribe: , List-Archive: List-Post: List-Help: List-Subscribe: , Errors-To: test-report-bounces@dpdk.org _Testing PASS_ Branch: dpdk 117e86c4b96ed761e9a7ab766261208fe81bf5ca --> testing pass Upstream job id: Generic-DPDK-Compile-ABI#127488 Test environment and result as below: +-------------------+----------+ | Environment | abi_test | +===================+==========+ | Fedora 40 | PASS | +-------------------+----------+ | CentOS Stream 9 | PASS | +-------------------+----------+ | Fedora 40 (Clang) | PASS | +-------------------+----------+ | CentOS Stream 10 | PASS | +-------------------+----------+ | Fedora 41 | PASS | +-------------------+----------+ | Fedora 41 (Clang) | PASS | +-------------------+----------+ | Debian 12 | PASS | +-------------------+----------+ | Ubuntu 22.04 | PASS | +-------------------+----------+ | RHEL9 | PASS | +-------------------+----------+ | openSUSE Leap 15 | PASS | +-------------------+----------+ | RHEL8 | PASS | +-------------------+----------+ | Ubuntu 24.04 | PASS | +-------------------+----------+ | Arch Linux | PASS | +-------------------+----------+ Fedora 40 Kernel: Depends on container host Compiler: gcc 14.2.1 20240912 (Red Hat 14.2.1-3) CentOS Stream 9 Kernel: Depends on container host Compiler: gcc 11.5.0 20240719 (Red Hat 11.5.0-2) Fedora 40 (Clang) Kernel: Depends on container host Compiler: clang 18.1.8 (Fedora 18.1.8-1.fc40) CentOS Stream 10 Kernel: Depends on container host Compiler: gcc 14.2.1 20241104 (Red Hat 14.2.1-6) Fedora 41 Kernel: Depends on container host Compiler: gcc 14.2.1 20240912 (Red Hat 14.2.1-3) Fedora 41 (Clang) Kernel: Depends on container host Compiler: clang 19.1.5 (Fedora 19.1.5-1.fc41) Debian 12 Kernel: Depends on container host Compiler: gcc (Debian 12.2.0-14) 12.2.0 Ubuntu 22.04 Kernel: Depends on container host Compiler: gcc (Ubuntu 11.4.0-1ubuntu1~22.04) 11.4.0 RHEL9 Kernel: Depends on container host Compiler: gcc 11.5.0 20240719 (Red Hat 11.5.0-2) openSUSE Leap 15 Kernel: Depends on container host Compiler: gcc (SUSE Linux) 7.5.0 RHEL8 Kernel: Depends on container host Compiler: gcc 8.5.0 20210514 (Red Hat 8.5.0-22) Ubuntu 24.04 Kernel: Depends on container host Compiler: gcc (Ubuntu 13.3.0-6ubuntu2~24.04) 13.3.0 Arch Linux Kernel: Depends on container host Compiler: gcc 14.2.1 20240910 To view detailed results, visit: https://lab.dpdk.org/results/dashboard/tarballs/33630/ UNH-IOL DPDK Community Lab To manage your email subscriptions, visit: https://lab.dpdk.org/results/dashboard/preferences/subscriptions/