From mboxrd@z Thu Jan 1 00:00:00 1970 Return-Path: Received: from mails.dpdk.org (mails.dpdk.org [217.70.189.124]) by inbox.dpdk.org (Postfix) with ESMTP id E96DD467CD for ; Sat, 24 May 2025 03:36:34 +0200 (CEST) Received: from mails.dpdk.org (localhost [127.0.0.1]) by mails.dpdk.org (Postfix) with ESMTP id C21B5402D3; Sat, 24 May 2025 03:36:34 +0200 (CEST) Received: from mail-ot1-f100.google.com (mail-ot1-f100.google.com [209.85.210.100]) by mails.dpdk.org (Postfix) with ESMTP id E9380402D3 for ; Sat, 24 May 2025 03:36:32 +0200 (CEST) Received: by mail-ot1-f100.google.com with SMTP id 46e09a7af769-72a4793d4e2so236221a34.2 for ; Fri, 23 May 2025 18:36:32 -0700 (PDT) DKIM-Signature: v=1; a=rsa-sha256; c=relaxed/relaxed; d=iol.unh.edu; s=unh-iol; t=1748050592; x=1748655392; darn=dpdk.org; h=cc:to:from:subject:message-id:date:from:to:cc:subject:date :message-id:reply-to; bh=KfzwYMop/ZwUgtCBD6hx9+9ZrvQbA8LLClw6zQSzp4o=; b=XxRfn84mLR1JsOuh1IsS7lGvi5Suo7U5ZJvIBRDw50iWATckZDj2KHoK7vTPfVSJV8 whBqBZkM8U2XWc/7M71ozxH54xaZFnwZFvPQdFS8WI0eHX8zfuIobE6tftj5B4yPjJsT kK6vl/MNTeoNSsuUrdipYldcjQJBhng0SoJcI= X-Google-DKIM-Signature: v=1; a=rsa-sha256; c=relaxed/relaxed; d=1e100.net; s=20230601; t=1748050592; x=1748655392; h=cc:to:from:subject:message-id:date:x-gm-message-state:from:to:cc :subject:date:message-id:reply-to; bh=KfzwYMop/ZwUgtCBD6hx9+9ZrvQbA8LLClw6zQSzp4o=; b=H5cw9B5NnFV3W7zkDY/Tmtu1EujvpF2WrcubWNPacBHs1UocFMisaJy+OxTvgo/9tF 1xcErO439MY7Fo3J9nfL5n1eykMdquLaxoEIFZoPJstosK24Ewh16zZt4dn3nuZVa31w Hv2LMpECrfOPQDJv3JfQCGNIJ0gqdxQzmTGU55lhG6Lwtbl6xoGq83juUwZ3iP6g92zl o7yrhYrSYR/i91VMH8NuglwO02I1UuqznJOD/W56vIx2uyhBfvVM6bAPLqrGPPnw9vuZ kOEXYQdWhusM81t6ijAy7zxNEBlyIrdIxYwR6wCgXo46MDgxINZzl5xx4PjDks9cMMaD fafw== X-Gm-Message-State: AOJu0YzaUr1YEShJA28jVkNMJpUDd8f8MtizzinlBwXYtC1PiUHVrwlw tuHcerYzsHR6U0Z3NNMrtRdMtoACHahdkbKYRuHqLbwVHue2r4K5eq/1yWMWQyj+Vyhjx3uoBMR cWxEhrJFCP1f/KlxTZQ7P+bcdLjN5+/0hbYYoV9Mo+lL0 X-Gm-Gg: ASbGncty8Wc68YVLUz4UsJJ2b6nPs5T9XXr8TzIMx2AXszQNllM6J8cdqqGPFMOU5qA 6yQvo/Kxm/bjmjsyaf0qkZmco8KhD3Yr82btDo847RMziRskhp6kaIPJQIVEBeY88jGaCUFUg09 UpyW5R0GWAhcyVkuH2ttGlj3/6omY53rvh6nZxfAbkpuWB5auXLwhZ0FSWu6iLMiLqhmZI7KV04 blgDPdd3CHPfpdNRKtbXdoT7ma/aqCJpa9JIEoj2yWmizR1TuZXwhhOoWL08/AhWir1nkt20KL4 60S+w17jJddws0AWW8hp5zgtGBL5cIsZu8OYPDvDMJkHM/vbapyR8m3uNFA= X-Google-Smtp-Source: AGHT+IEYcBphBb6pWQcOYEM3MVEALr4y2plOLTjyN3upwS0JLoolx5loh1AO6dEcoUDe/Oz5Jerxqx4zJeTH X-Received: by 2002:a05:6830:7302:b0:72a:1a9f:7dc7 with SMTP id 46e09a7af769-7355cf33336mr1020099a34.7.1748050591923; Fri, 23 May 2025 18:36:31 -0700 (PDT) Received: from postal.iol.unh.edu (postal.iol.unh.edu. [132.177.123.84]) by smtp-relay.gmail.com with ESMTPS id 586e51a60fabf-2e3c0bbcb24sm876327fac.27.2025.05.23.18.36.31 (version=TLS1_2 cipher=ECDHE-ECDSA-AES128-GCM-SHA256 bits=128/128); Fri, 23 May 2025 18:36:31 -0700 (PDT) X-Relaying-Domain: iol.unh.edu Date: Fri, 23 May 2025 18:36:31 -0700 (PDT) Message-ID: <6831229f.050a0220.391311.e200SMTPIN_ADDED_MISSING@mx.google.com> Received: from [172.17.0.2] (unknown [172.18.0.76]) by postal.iol.unh.edu (Postfix) with ESMTP id 5387F6052471; Fri, 23 May 2025 21:36:31 -0400 (EDT) Subject: |SUCCESS| [GIT MASTER] 117e86c4b96ed761e9a7ab766261208fe81bf5ca From: dpdklab@iol.unh.edu To: Test Report Cc: dpdk-test-reports@iol.unh.edu Content-Type: text/plain X-BeenThere: test-report@dpdk.org X-Mailman-Version: 2.1.29 Precedence: list List-Id: automatic DPDK test reports List-Unsubscribe: , List-Archive: List-Post: List-Help: List-Subscribe: , Errors-To: test-report-bounces@dpdk.org _Testing PASS_ Branch: dpdk 117e86c4b96ed761e9a7ab766261208fe81bf5ca --> testing pass Upstream job id: Generic-Unit-Test-DPDK#340288 Test environment and result as below: +-----------------------------+---------------------------+--------------+------------------------------+----------------+ | Environment | cryptodev_sw_zuc_autotest | lpm_autotest | cryptodev_sw_snow3g_autotest | dpdk_unit_test | +=============================+===========================+==============+==============================+================+ | Debian 12 (arm) | PASS | SKIPPED | PASS | PASS | +-----------------------------+---------------------------+--------------+------------------------------+----------------+ | Ubuntu 20.04 ARM SVE | SKIPPED | PASS | SKIPPED | SKIPPED | +-----------------------------+---------------------------+--------------+------------------------------+----------------+ | Fedora 40 (ARM) | SKIPPED | SKIPPED | SKIPPED | PASS | +-----------------------------+---------------------------+--------------+------------------------------+----------------+ | CentOS Stream 10 (ARM) | SKIPPED | SKIPPED | SKIPPED | PASS | +-----------------------------+---------------------------+--------------+------------------------------+----------------+ | CentOS Stream 9 (ARM) | SKIPPED | SKIPPED | SKIPPED | PASS | +-----------------------------+---------------------------+--------------+------------------------------+----------------+ | Fedora 40 (ARM Clang) | SKIPPED | SKIPPED | SKIPPED | PASS | +-----------------------------+---------------------------+--------------+------------------------------+----------------+ | RHEL9 (ARM) | SKIPPED | SKIPPED | SKIPPED | PASS | +-----------------------------+---------------------------+--------------+------------------------------+----------------+ | Fedora 41 (ARM Clang) | SKIPPED | SKIPPED | SKIPPED | PASS | +-----------------------------+---------------------------+--------------+------------------------------+----------------+ | Ubuntu 20.04 (ARM) | SKIPPED | SKIPPED | SKIPPED | PASS | +-----------------------------+---------------------------+--------------+------------------------------+----------------+ | Fedora 41 (ARM) | SKIPPED | SKIPPED | SKIPPED | PASS | +-----------------------------+---------------------------+--------------+------------------------------+----------------+ | Ubuntu 24.04 (ARM) | SKIPPED | SKIPPED | SKIPPED | PASS | +-----------------------------+---------------------------+--------------+------------------------------+----------------+ | Ubuntu 22.04 (ARM) | SKIPPED | SKIPPED | SKIPPED | PASS | +-----------------------------+---------------------------+--------------+------------------------------+----------------+ | 32-bit Ubuntu 22.04.4 (ARM) | SKIPPED | SKIPPED | SKIPPED | PASS | +-----------------------------+---------------------------+--------------+------------------------------+----------------+ Debian 12 (arm) Kernel: Depends on container host Compiler: gcc (Debian 12.2.0-14) 12.2.0 Ubuntu 20.04 ARM SVE Kernel: Depends on container host Compiler: gcc (Ubuntu 10.5.0-1ubuntu1~20.04) 10.5.0 Fedora 40 (ARM) Kernel: Depends on container host Compiler: gcc 14.2.1 20240912 (Red Hat 14.2.1-3) CentOS Stream 10 (ARM) Kernel: Depends on container host Compiler: gcc 14.2.1 20241104 (Red Hat 14.2.1-6) CentOS Stream 9 (ARM) Kernel: Depends on container host Compiler: gcc 11.5.0 20240719 (Red Hat 11.5.0-2) Fedora 40 (ARM Clang) Kernel: Depends on container host Compiler: clang 18.1.8 (Fedora 18.1.8-1.fc40) RHEL9 (ARM) Kernel: Depends on container host Compiler: gcc 11.5.0 20240719 (Red Hat 11.5.0-2) Fedora 41 (ARM Clang) Kernel: Depends on container host Compiler: clang 19.1.5 (Fedora 19.1.5-1.fc41) Ubuntu 20.04 (ARM) Kernel: Depends on container host Compiler: gcc (Ubuntu 9.4.0-1ubuntu1~20.04.2) 9.4.0 Fedora 41 (ARM) Kernel: Depends on container host Compiler: gcc 14.2.1 20240912 (Red Hat 14.2.1-3) Ubuntu 24.04 (ARM) Kernel: Depends on container host Compiler: gcc (Ubuntu 13.3.0-6ubuntu2~24.04) 13.3.0 Ubuntu 22.04 (ARM) Kernel: Depends on container host Compiler: gcc (Ubuntu 11.4.0-1ubuntu1~22.04) 11.4.0 32-bit Ubuntu 22.04.4 (ARM) Kernel: 5.15.83+ aarch64 Compiler: gcc (Ubuntu 11.4.0-1ubuntu1~22.04) 11.4.0 To view detailed results, visit: https://lab.dpdk.org/results/dashboard/tarballs/33630/ UNH-IOL DPDK Community Lab To manage your email subscriptions, visit: https://lab.dpdk.org/results/dashboard/preferences/subscriptions/