From mboxrd@z Thu Jan 1 00:00:00 1970 Return-Path: Received: from mails.dpdk.org (mails.dpdk.org [217.70.189.124]) by inbox.dpdk.org (Postfix) with ESMTP id 9B7AB467CD for ; Sat, 24 May 2025 03:44:48 +0200 (CEST) Received: from mails.dpdk.org (localhost [127.0.0.1]) by mails.dpdk.org (Postfix) with ESMTP id 76C31402D3; Sat, 24 May 2025 03:44:48 +0200 (CEST) Received: from mail-pl1-f226.google.com (mail-pl1-f226.google.com [209.85.214.226]) by mails.dpdk.org (Postfix) with ESMTP id 07571402D3 for ; Sat, 24 May 2025 03:44:46 +0200 (CEST) Received: by mail-pl1-f226.google.com with SMTP id d9443c01a7336-2320d06b728so3376475ad.1 for ; Fri, 23 May 2025 18:44:46 -0700 (PDT) DKIM-Signature: v=1; a=rsa-sha256; c=relaxed/relaxed; d=iol.unh.edu; s=unh-iol; t=1748051086; x=1748655886; darn=dpdk.org; h=cc:to:from:subject:message-id:date:from:to:cc:subject:date :message-id:reply-to; bh=CHl6EEy2r3Yf1q8J64AvXfyyx9v++ejAO7IqSC04Uhw=; b=c2EODJPCtGAb2M9RIuuPam2Eq8djEV3HA0wUUDB6uAyIuixjnj+0aIo4ZBk4W7rAOK DF8J9HlprOJmTEHBBt7P8joipdZpt+hSLazOqDRbgoZJZn9hPYb1NHuqJA4y5fO8U4a8 tUP11DJ8ShqCMtq8t6QiVOwRNB0pghXCT7vrU= X-Google-DKIM-Signature: v=1; a=rsa-sha256; c=relaxed/relaxed; d=1e100.net; s=20230601; t=1748051086; x=1748655886; h=cc:to:from:subject:message-id:date:x-gm-message-state:from:to:cc :subject:date:message-id:reply-to; bh=CHl6EEy2r3Yf1q8J64AvXfyyx9v++ejAO7IqSC04Uhw=; b=XY6fGDWLaK2P8zYnSz6Xyfgx64/pTcGfm1rLArTBoRIjcaKUnrzbColVV2uvUN4+jO +5z7OGA6/8SATa4QS0+cXau8rWRg2Xx8VA1ceVp+72OJTs425NV25NezzMSMQ+Ia/nJ9 0Vso2k08evBtrSGd0y/hrfvIjfojV5M1Cl6qXBRUAOW3PJFdUApZg0BIKsDWeMDczZZM SqJGfNn+w9g0DOtCfFBEKUpe8/DRumsgWzdJYxEDEOfDMXXwiEElMdX/WJXMzYltWxJI SE89K4QH35AMJNV9PVBJcqhXlSuxMmLNQTH0Ca8Jlhcanz7T3yG2m4ZKvXrWNYfrL+iH UZLw== X-Gm-Message-State: AOJu0YykAsz+3xvd5yuTXKxTrJ1VdoD0ChGZ58o5HuImxWMvADL1OvJJ ozar/E/50UwBi5WECzHOLcCCj/Qooy5Q4fb4tg0TqZnykNHIfRhHY2WRDZu0A+GH0OkSjBYjE/n ZKZE7l0QU1A8MHgDc6hGjG+Wk31Xfgd4BIvhJxhqdOOUl X-Gm-Gg: ASbGncuQZzxQPX7pjduGkjIosHs3IhYMNbIwDc+cxuP9SqePAtZ6oyLJceieBpskEqX HLyYMp+Nh23aWppaMpK/MkpCx6bVTSog+NcqiyFPE9vn3cxAe2QzT+Iop8TNyNxvuGF1o6i/Nny plm18QkJZro31GG2kNALGXSLVPycWLmFniaAe5lcg+QmtsSjNLaljxDopFbL1eMqkz1KQGNu5XT Auv28ZEpPllswnymsQE/b107iBKYByQO5ofKF1xHjda8N6KQ9iKAOYFaUBd3O+88mmmLDapem9a zs+0mgghsHqmUSkfMAqrUzIuPt/jiNDQYBa3Uj8jTpHoXEaxyzjcNA+5I+o= X-Google-Smtp-Source: AGHT+IEJq+MnjDYuruuF/fRpQP4SU8zCzqFU2GBkNI78mBMs40Vxwx2oW8nXcpgg2yCmARcs4q+l5q9yR7fO X-Received: by 2002:a17:902:f611:b0:224:26fd:82e5 with SMTP id d9443c01a7336-23414fd7048mr26633735ad.48.1748051085841; Fri, 23 May 2025 18:44:45 -0700 (PDT) Received: from postal.iol.unh.edu (postal.iol.unh.edu. [132.177.123.84]) by smtp-relay.gmail.com with ESMTPS id d9443c01a7336-2340926b939sm815015ad.14.2025.05.23.18.44.45 (version=TLS1_2 cipher=ECDHE-ECDSA-AES128-GCM-SHA256 bits=128/128); Fri, 23 May 2025 18:44:45 -0700 (PDT) X-Relaying-Domain: iol.unh.edu Date: Fri, 23 May 2025 18:44:45 -0700 (PDT) Message-ID: <6831248d.170a0220.302eff.4663SMTPIN_ADDED_MISSING@mx.google.com> Received: from [172.17.0.3] (unknown [172.18.0.76]) by postal.iol.unh.edu (Postfix) with ESMTP id F08056052471; Fri, 23 May 2025 21:44:44 -0400 (EDT) Subject: |WARNING| [GIT MASTER] 117e86c4b96ed761e9a7ab766261208fe81bf5ca From: dpdklab@iol.unh.edu To: Test Report Cc: dpdk-test-reports@iol.unh.edu Content-Type: text/plain X-BeenThere: test-report@dpdk.org X-Mailman-Version: 2.1.29 Precedence: list List-Id: automatic DPDK test reports List-Unsubscribe: , List-Archive: List-Post: List-Help: List-Subscribe: , Errors-To: test-report-bounces@dpdk.org _Testing issues_ Branch: dpdk 117e86c4b96ed761e9a7ab766261208fe81bf5ca --> testing issues Upstream job id: Generic-DPDK-Compile-Meson#390871 Test environment and result as below: +-----------------------------------+--------------------+-------------------+------------------+-------------------------+-------------------+----------------------+ | Environment | dpdk_meson_compile | dpdk_compile_spdk | dpdk_compile_ovs | dpdk_llvm_clang_compile | dpdk_msvc_compile | dpdk_mingw64_compile | +===================================+====================+===================+==================+=========================+===================+======================+ | CentOS Stream 10 | PASS | SKIPPED | SKIPPED | SKIPPED | SKIPPED | SKIPPED | +-----------------------------------+--------------------+-------------------+------------------+-------------------------+-------------------+----------------------+ | CentOS Stream 9 | PASS | PASS | SKIPPED | SKIPPED | SKIPPED | SKIPPED | +-----------------------------------+--------------------+-------------------+------------------+-------------------------+-------------------+----------------------+ | Debian 12 | PASS | PASS | SKIPPED | SKIPPED | SKIPPED | SKIPPED | +-----------------------------------+--------------------+-------------------+------------------+-------------------------+-------------------+----------------------+ | Fedora 40 (Clang) | PASS | WARN | SKIPPED | SKIPPED | SKIPPED | SKIPPED | +-----------------------------------+--------------------+-------------------+------------------+-------------------------+-------------------+----------------------+ | Fedora 40 | PASS | PASS | SKIPPED | SKIPPED | SKIPPED | SKIPPED | +-----------------------------------+--------------------+-------------------+------------------+-------------------------+-------------------+----------------------+ | Fedora 41 (Clang) | PASS | WARN | PASS | SKIPPED | SKIPPED | SKIPPED | +-----------------------------------+--------------------+-------------------+------------------+-------------------------+-------------------+----------------------+ | Fedora 41 | PASS | PASS | PASS | SKIPPED | SKIPPED | SKIPPED | +-----------------------------------+--------------------+-------------------+------------------+-------------------------+-------------------+----------------------+ | RHEL8 | PASS | SKIPPED | SKIPPED | SKIPPED | SKIPPED | SKIPPED | +-----------------------------------+--------------------+-------------------+------------------+-------------------------+-------------------+----------------------+ | Ubuntu 20.04 | PASS | SKIPPED | SKIPPED | SKIPPED | SKIPPED | SKIPPED | +-----------------------------------+--------------------+-------------------+------------------+-------------------------+-------------------+----------------------+ | RHEL9 | PASS | SKIPPED | SKIPPED | SKIPPED | SKIPPED | SKIPPED | +-----------------------------------+--------------------+-------------------+------------------+-------------------------+-------------------+----------------------+ | openSUSE Leap 15 | PASS | SKIPPED | SKIPPED | SKIPPED | SKIPPED | SKIPPED | +-----------------------------------+--------------------+-------------------+------------------+-------------------------+-------------------+----------------------+ | Ubuntu 22.04 | PASS | PASS | SKIPPED | SKIPPED | SKIPPED | SKIPPED | +-----------------------------------+--------------------+-------------------+------------------+-------------------------+-------------------+----------------------+ | Ubuntu 24.04 | PASS | PASS | PASS | SKIPPED | SKIPPED | SKIPPED | +-----------------------------------+--------------------+-------------------+------------------+-------------------------+-------------------+----------------------+ | Ubuntu 24.04 32 Bit Cross Compile | PASS | SKIPPED | SKIPPED | SKIPPED | SKIPPED | SKIPPED | +-----------------------------------+--------------------+-------------------+------------------+-------------------------+-------------------+----------------------+ | Arch Linux | PASS | SKIPPED | SKIPPED | SKIPPED | SKIPPED | SKIPPED | +-----------------------------------+--------------------+-------------------+------------------+-------------------------+-------------------+----------------------+ | Alpine | PASS | SKIPPED | SKIPPED | SKIPPED | SKIPPED | SKIPPED | +-----------------------------------+--------------------+-------------------+------------------+-------------------------+-------------------+----------------------+ | FreeBSD 14.2 | PASS | SKIPPED | SKIPPED | SKIPPED | SKIPPED | SKIPPED | +-----------------------------------+--------------------+-------------------+------------------+-------------------------+-------------------+----------------------+ | Windows Server 2022 | SKIPPED | SKIPPED | SKIPPED | PASS | PASS | PASS | +-----------------------------------+--------------------+-------------------+------------------+-------------------------+-------------------+----------------------+ ==== 20 line log output for Fedora 41 (Clang) (dpdk_compile_spdk): ==== --- Failed to get log output --- ==== End log output ==== CentOS Stream 10 Kernel: Depends on container host Compiler: gcc 14.2.1 20241104 (Red Hat 14.2.1-6) CentOS Stream 9 Kernel: Depends on container host Compiler: gcc 11.5.0 20240719 (Red Hat 11.5.0-2) Debian 12 Kernel: Depends on container host Compiler: gcc (Debian 12.2.0-14) 12.2.0 Fedora 40 (Clang) Kernel: Depends on container host Compiler: clang 18.1.8 (Fedora 18.1.8-1.fc40) Fedora 40 Kernel: Depends on container host Compiler: gcc 14.2.1 20240912 (Red Hat 14.2.1-3) Fedora 41 (Clang) Kernel: Depends on container host Compiler: clang 19.1.5 (Fedora 19.1.5-1.fc41) Fedora 41 Kernel: Depends on container host Compiler: gcc 14.2.1 20240912 (Red Hat 14.2.1-3) RHEL8 Kernel: Depends on container host Compiler: gcc 8.5.0 20210514 (Red Hat 8.5.0-22) Ubuntu 20.04 Kernel: Depends on container host Compiler: gcc (Ubuntu 9.4.0-1ubuntu1~20.04.2) 9.4.0 RHEL9 Kernel: Depends on container host Compiler: gcc 11.5.0 20240719 (Red Hat 11.5.0-2) openSUSE Leap 15 Kernel: Depends on container host Compiler: gcc (SUSE Linux) 7.5.0 Ubuntu 22.04 Kernel: Depends on container host Compiler: gcc (Ubuntu 11.4.0-1ubuntu1~22.04) 11.4.0 Ubuntu 24.04 Kernel: Depends on container host Compiler: gcc (Ubuntu 13.3.0-6ubuntu2~24.04) 13.3.0 Ubuntu 24.04 32 Bit Cross Compile Kernel: Depends on container host Compiler: gcc (Ubuntu 13.3.0-6ubuntu2~24.04) 13.3.0 Arch Linux Kernel: Depends on container host Compiler: gcc 14.2.1 20240910 Alpine Kernel: Depends on container host Compiler: gcc (Alpine 14.2.0) 14.2.0 FreeBSD 14.2 Kernel: 14.2-RELEASE Compiler: clang 18.1.6 Windows Server 2022 Kernel: 10.0.20348.2031 Compiler: clang 15.0.7, gcc 14.1.0 (MinGW), and MSVC VS 19.39.33521 To view detailed results, visit: https://lab.dpdk.org/results/dashboard/tarballs/33630/ UNH-IOL DPDK Community Lab To manage your email subscriptions, visit: https://lab.dpdk.org/results/dashboard/preferences/subscriptions/