From mboxrd@z Thu Jan 1 00:00:00 1970 Return-Path: Received: from mails.dpdk.org (mails.dpdk.org [217.70.189.124]) by inbox.dpdk.org (Postfix) with ESMTP id 93E8A467CD for ; Sat, 24 May 2025 03:45:15 +0200 (CEST) Received: from mails.dpdk.org (localhost [127.0.0.1]) by mails.dpdk.org (Postfix) with ESMTP id 8D7BD402D3; Sat, 24 May 2025 03:45:15 +0200 (CEST) Received: from mail-qv1-f100.google.com (mail-qv1-f100.google.com [209.85.219.100]) by mails.dpdk.org (Postfix) with ESMTP id E43E0402D3 for ; Sat, 24 May 2025 03:45:13 +0200 (CEST) Received: by mail-qv1-f100.google.com with SMTP id 6a1803df08f44-6fa980d05a8so3576916d6.2 for ; Fri, 23 May 2025 18:45:13 -0700 (PDT) DKIM-Signature: v=1; a=rsa-sha256; c=relaxed/relaxed; d=iol.unh.edu; s=unh-iol; t=1748051113; x=1748655913; darn=dpdk.org; h=cc:to:from:subject:message-id:date:from:to:cc:subject:date :message-id:reply-to; bh=E9QdsnGppAtQvYTBNUEDJ9FiLUVh6TOn4AGKlsvK+u0=; b=U6Shgww3DWfqoR5v5VuYtiVsQ0Lg5tvZp4unfUY0T4zhDLNL6PkAenfx9/jugR11FE ahB+3F6Grv739nhVvKxV8FetJ41Gs2cgEpI4kwXdYiIfC0eg+TBbiKZTe0K4Gll9v6Yi 2ywECS9+274laCjfl1SQrZCvMRTnxpkiWa+4A= X-Google-DKIM-Signature: v=1; a=rsa-sha256; c=relaxed/relaxed; d=1e100.net; s=20230601; t=1748051113; x=1748655913; h=cc:to:from:subject:message-id:date:x-gm-message-state:from:to:cc :subject:date:message-id:reply-to; bh=E9QdsnGppAtQvYTBNUEDJ9FiLUVh6TOn4AGKlsvK+u0=; b=W1054ptre4lJh5iUJEne28umB5qdJ297m/SyUcJskhBrNZ7wRHKSPNJzu/1SPGzehS ynnjmFEHtak9U8v0B2ZBMHNyWYIkn14a4F8yW2ZDSBt1xepNdCbE7zJOzKHC9jb1qyRG 9eRIzXH/+zXdyaFaGglX/uAvhZGAILr6TzX7qLkXz/98SpvglQoqKtu5A317/akQweFH TVCXgImwJn9ftjqpWOHkIF8ckNLstdS5MNWW+QPLyspVcRpkCJ8pwzRBJYgQWDAKtR1F lxhzko4+ruR2MzyCUzMmG+ToNtgBSTfEy8ZGEL8YD75A1r7ijCXxWqONYMK2DUVAfq8u qcuA== X-Gm-Message-State: AOJu0Yx32zx/7iDMucvEu7rhvu4vaEtm/Rkv5cYd6F9wEshAhHYxPdUj JWiVEwvtkkEkRED+ZUhlE6XzPpw8JNBWqkn7hsY62198nvgxXA669qze+GsnGdTE2DD13iS1pt8 EteXn3k+QdyQM+mPRuIfw/VZvlD6jj2YvjH3tnmatKFxN X-Gm-Gg: ASbGncv5UOQRyQ0/5rb5lf1EqESx2nTM8dLdO6blGdZfPi5EnCehI5h0OAxeficJY9y 69CO5hld+nxUPA87LSl6XWo0/5M3gpZ8I33+yjsVRICbB9NTGBJZaTxs3qr4h8SjtV8MMWiEcn7 WWQlIbXvppRBW3VwmVPIDFU4gfNYXW1DmUueIrgOMRz0HVpRpMlFcBFmM6cdelP/GwKyb6oFWnb GAmP26HM/O2RTQYnqwOyiOIQNT+HkQKNXKPPXrYR8MBwhnbmX7MV+nNWnWOC/Nw0VpMf9roFKoy rTOODSMFhDlDBNU5M+t2nZuELnhSTA//JxLUIc1iMQLoc7MU4aQqblYwL2Y= X-Google-Smtp-Source: AGHT+IGqJYaZm49oE3/PMu7RooLE5kGZ2AnKatyWWhiAHrZF8wYU5suMRDZpqRpDaKP0Lfimhj5LjvubT3yU X-Received: by 2002:a05:6214:154c:b0:6fa:9d7b:d763 with SMTP id 6a1803df08f44-6fa9d7bd7c6mr18149456d6.29.1748051113287; Fri, 23 May 2025 18:45:13 -0700 (PDT) Received: from postal.iol.unh.edu (postal.iol.unh.edu. [132.177.123.84]) by smtp-relay.gmail.com with ESMTPS id 6a1803df08f44-6f8b08b32c9sm5597286d6.21.2025.05.23.18.45.13 (version=TLS1_2 cipher=ECDHE-ECDSA-AES128-GCM-SHA256 bits=128/128); Fri, 23 May 2025 18:45:13 -0700 (PDT) X-Relaying-Domain: iol.unh.edu Date: Fri, 23 May 2025 18:45:13 -0700 (PDT) Message-ID: <683124a9.d40a0220.26cd60.dc0cSMTPIN_ADDED_MISSING@mx.google.com> Received: from [172.17.0.2] (unknown [172.18.0.76]) by postal.iol.unh.edu (Postfix) with ESMTP id F3E456052471; Fri, 23 May 2025 21:45:12 -0400 (EDT) Subject: |WARNING| [GIT MASTER] 117e86c4b96ed761e9a7ab766261208fe81bf5ca From: dpdklab@iol.unh.edu To: Test Report Cc: dpdk-test-reports@iol.unh.edu Content-Type: text/plain X-BeenThere: test-report@dpdk.org X-Mailman-Version: 2.1.29 Precedence: list List-Id: automatic DPDK test reports List-Unsubscribe: , List-Archive: List-Post: List-Help: List-Subscribe: , Errors-To: test-report-bounces@dpdk.org _Testing issues_ Branch: dpdk 117e86c4b96ed761e9a7ab766261208fe81bf5ca --> testing issues Upstream job id: Generic-DPDK-Compile-Meson#390879 Test environment and result as below: +-----------------------------------+--------------------+-------------------+------------------+-------------------------+-------------------+----------------------+ | Environment | dpdk_meson_compile | dpdk_compile_spdk | dpdk_compile_ovs | dpdk_llvm_clang_compile | dpdk_msvc_compile | dpdk_mingw64_compile | +===================================+====================+===================+==================+=========================+===================+======================+ | CentOS Stream 10 | PASS | SKIPPED | SKIPPED | SKIPPED | SKIPPED | SKIPPED | +-----------------------------------+--------------------+-------------------+------------------+-------------------------+-------------------+----------------------+ | CentOS Stream 9 | PASS | PASS | SKIPPED | SKIPPED | SKIPPED | SKIPPED | +-----------------------------------+--------------------+-------------------+------------------+-------------------------+-------------------+----------------------+ | Debian 12 | PASS | PASS | SKIPPED | SKIPPED | SKIPPED | SKIPPED | +-----------------------------------+--------------------+-------------------+------------------+-------------------------+-------------------+----------------------+ | Fedora 40 (Clang) | PASS | WARN | SKIPPED | SKIPPED | SKIPPED | SKIPPED | +-----------------------------------+--------------------+-------------------+------------------+-------------------------+-------------------+----------------------+ | Fedora 40 | PASS | PASS | SKIPPED | SKIPPED | SKIPPED | SKIPPED | +-----------------------------------+--------------------+-------------------+------------------+-------------------------+-------------------+----------------------+ | Fedora 41 (Clang) | PASS | WARN | PASS | SKIPPED | SKIPPED | SKIPPED | +-----------------------------------+--------------------+-------------------+------------------+-------------------------+-------------------+----------------------+ | Fedora 41 | PASS | PASS | PASS | SKIPPED | SKIPPED | SKIPPED | +-----------------------------------+--------------------+-------------------+------------------+-------------------------+-------------------+----------------------+ | RHEL8 | PASS | SKIPPED | SKIPPED | SKIPPED | SKIPPED | SKIPPED | +-----------------------------------+--------------------+-------------------+------------------+-------------------------+-------------------+----------------------+ | Ubuntu 20.04 | PASS | SKIPPED | SKIPPED | SKIPPED | SKIPPED | SKIPPED | +-----------------------------------+--------------------+-------------------+------------------+-------------------------+-------------------+----------------------+ | RHEL9 | PASS | SKIPPED | SKIPPED | SKIPPED | SKIPPED | SKIPPED | +-----------------------------------+--------------------+-------------------+------------------+-------------------------+-------------------+----------------------+ | openSUSE Leap 15 | PASS | SKIPPED | SKIPPED | SKIPPED | SKIPPED | SKIPPED | +-----------------------------------+--------------------+-------------------+------------------+-------------------------+-------------------+----------------------+ | Ubuntu 22.04 | PASS | PASS | SKIPPED | SKIPPED | SKIPPED | SKIPPED | +-----------------------------------+--------------------+-------------------+------------------+-------------------------+-------------------+----------------------+ | Ubuntu 24.04 | PASS | PASS | PASS | SKIPPED | SKIPPED | SKIPPED | +-----------------------------------+--------------------+-------------------+------------------+-------------------------+-------------------+----------------------+ | Ubuntu 24.04 32 Bit Cross Compile | PASS | SKIPPED | SKIPPED | SKIPPED | SKIPPED | SKIPPED | +-----------------------------------+--------------------+-------------------+------------------+-------------------------+-------------------+----------------------+ | Arch Linux | PASS | SKIPPED | SKIPPED | SKIPPED | SKIPPED | SKIPPED | +-----------------------------------+--------------------+-------------------+------------------+-------------------------+-------------------+----------------------+ | Alpine | PASS | SKIPPED | SKIPPED | SKIPPED | SKIPPED | SKIPPED | +-----------------------------------+--------------------+-------------------+------------------+-------------------------+-------------------+----------------------+ | FreeBSD 14.2 | PASS | SKIPPED | SKIPPED | SKIPPED | SKIPPED | SKIPPED | +-----------------------------------+--------------------+-------------------+------------------+-------------------------+-------------------+----------------------+ | Windows Server 2022 | SKIPPED | SKIPPED | SKIPPED | PASS | PASS | PASS | +-----------------------------------+--------------------+-------------------+------------------+-------------------------+-------------------+----------------------+ ==== 20 line log output for Fedora 41 (Clang) (dpdk_compile_spdk): ==== --- Failed to get log output --- ==== End log output ==== CentOS Stream 10 Kernel: Depends on container host Compiler: gcc 14.2.1 20241104 (Red Hat 14.2.1-6) CentOS Stream 9 Kernel: Depends on container host Compiler: gcc 11.5.0 20240719 (Red Hat 11.5.0-2) Debian 12 Kernel: Depends on container host Compiler: gcc (Debian 12.2.0-14) 12.2.0 Fedora 40 (Clang) Kernel: Depends on container host Compiler: clang 18.1.8 (Fedora 18.1.8-1.fc40) Fedora 40 Kernel: Depends on container host Compiler: gcc 14.2.1 20240912 (Red Hat 14.2.1-3) Fedora 41 (Clang) Kernel: Depends on container host Compiler: clang 19.1.5 (Fedora 19.1.5-1.fc41) Fedora 41 Kernel: Depends on container host Compiler: gcc 14.2.1 20240912 (Red Hat 14.2.1-3) RHEL8 Kernel: Depends on container host Compiler: gcc 8.5.0 20210514 (Red Hat 8.5.0-22) Ubuntu 20.04 Kernel: Depends on container host Compiler: gcc (Ubuntu 9.4.0-1ubuntu1~20.04.2) 9.4.0 RHEL9 Kernel: Depends on container host Compiler: gcc 11.5.0 20240719 (Red Hat 11.5.0-2) openSUSE Leap 15 Kernel: Depends on container host Compiler: gcc (SUSE Linux) 7.5.0 Ubuntu 22.04 Kernel: Depends on container host Compiler: gcc (Ubuntu 11.4.0-1ubuntu1~22.04) 11.4.0 Ubuntu 24.04 Kernel: Depends on container host Compiler: gcc (Ubuntu 13.3.0-6ubuntu2~24.04) 13.3.0 Ubuntu 24.04 32 Bit Cross Compile Kernel: Depends on container host Compiler: gcc (Ubuntu 13.3.0-6ubuntu2~24.04) 13.3.0 Arch Linux Kernel: Depends on container host Compiler: gcc 14.2.1 20240910 Alpine Kernel: Depends on container host Compiler: gcc (Alpine 14.2.0) 14.2.0 FreeBSD 14.2 Kernel: 14.2-RELEASE Compiler: clang 18.1.6 Windows Server 2022 Kernel: 10.0.20348.2031 Compiler: clang 15.0.7, gcc 14.1.0 (MinGW), and MSVC VS 19.39.33521 To view detailed results, visit: https://lab.dpdk.org/results/dashboard/tarballs/33630/ UNH-IOL DPDK Community Lab To manage your email subscriptions, visit: https://lab.dpdk.org/results/dashboard/preferences/subscriptions/