From mboxrd@z Thu Jan 1 00:00:00 1970 Return-Path: Received: from mails.dpdk.org (mails.dpdk.org [217.70.189.124]) by inbox.dpdk.org (Postfix) with ESMTP id 09A02467CE for ; Sat, 24 May 2025 05:32:40 +0200 (CEST) Received: from mails.dpdk.org (localhost [127.0.0.1]) by mails.dpdk.org (Postfix) with ESMTP id DBD72402D3; Sat, 24 May 2025 05:32:39 +0200 (CEST) Received: from mail-io1-f98.google.com (mail-io1-f98.google.com [209.85.166.98]) by mails.dpdk.org (Postfix) with ESMTP id 0F1A6402D3 for ; Sat, 24 May 2025 05:32:38 +0200 (CEST) Received: by mail-io1-f98.google.com with SMTP id ca18e2360f4ac-85e751cffbeso38995939f.0 for ; Fri, 23 May 2025 20:32:37 -0700 (PDT) DKIM-Signature: v=1; a=rsa-sha256; c=relaxed/relaxed; d=iol.unh.edu; s=unh-iol; t=1748057557; x=1748662357; darn=dpdk.org; h=cc:to:from:subject:message-id:date:from:to:cc:subject:date :message-id:reply-to; bh=6kMuiAS+rZM00/uHx4u7uTINDvSluSmQx9Fbj0SeOSU=; b=FYtHL/a5i+vu+7bef998MZQ9RAVRcwHyKhKL+IxU8ykhJXTh8XmUFmy9oYe3d/+26p GZV+Hw5kyu6Q53VpVuXer+x198Hi/y5v+gVF3HyRIgoLFSM7P8MDDeUJaWgHStM+m39b 9VlyqfOGCmypuA+VOVe3Nddw6x/k6EmoZTjfE= X-Google-DKIM-Signature: v=1; a=rsa-sha256; c=relaxed/relaxed; d=1e100.net; s=20230601; t=1748057557; x=1748662357; h=cc:to:from:subject:message-id:date:x-gm-message-state:from:to:cc :subject:date:message-id:reply-to; bh=6kMuiAS+rZM00/uHx4u7uTINDvSluSmQx9Fbj0SeOSU=; b=lb8xjcYhMeFxdKEzZ2AqnwXmxsXeiz1Q6j1FJIUqLiPS8A6dLj1YKm63hC7K5DqQHG yW33nw1QNXXqCiFe8nyroEmMxU7OTMcQ9k2DJmJpTF+uGlAksQm4lDa6sm1sBs5/F+EN 3u/3BndLN6aSqia5Enh2pvGBhlvluUI4DFKE/alVwFjclEl4hlg341W4d1LsHVbLobmi AEGR2WzbEB3Z5Az1tRlRotrikNsDCxi8X3/xtg2dmKnsx6pUbiiurIF7oXJ/Lhjw6SSy rzhQyKo4GluqMSNpa4lMYn2oavQLTnJ6sITPL7Y5tYoZOW5SmzdB8xWDfSSXw/P6FpZj P43w== X-Gm-Message-State: AOJu0YzSKiLULpZESsXFry0IMmuOvNChJFA65nQYwA0mZjoXVM/vOVq8 l1onw4/O1dodClj8M0b6Cbt1ptiHqq6pyqiQoLEWlSvhM4mp6v39RiXQB0fHYYu/+8H3iINiCx+ IKZybuDxisbZovjRNuFyLM02S6/C/zYSREIj1ZvunUjXBtRU54WqS1YY4LJhm X-Gm-Gg: ASbGncsVk30VgePUC4JVu8jzQex155nQUpcxDN+lBG20wiT3iaQ+/ulATOxB2IWtMOj GUnmCoN0PPWdk8So3jXvOBRt130ZQY/5R+tkcSZyPtgvApdoiUx/0Jb8xm5Djqe0KljSCEsWZSk zmXE2K43UzHecyZIgVbgLSY9TPCdmzh9Hi/e+ZRNMXodyAgbVLi7aHfaDyidBXjc8L4Qa0UrvjB 1iEOvuRwzd9MEZqrQNLQKJAEKR+g91ekic/3TDYvGcw+8QeQdhWkl6GrsQJdbEnHgLonmsnTvm0 4Pql4+nK0g3hC64YvdZMWHlQp7/w3vnmFjRp X-Google-Smtp-Source: AGHT+IFC6FJ45X6NjEUxsqy3cEZqy/JL1PA1ozWPuVpgYZx2ZXnRMdKzd5Txopa3rGqLlUMQmLIa1fUrIMTl X-Received: by 2002:a05:6e02:12e8:b0:3db:72f7:d7b3 with SMTP id e9e14a558f8ab-3dc9b695249mr12740255ab.4.1748057557313; Fri, 23 May 2025 20:32:37 -0700 (PDT) Received: from postal.iol.unh.edu (postal.iol.unh.edu. [2606:4100:3880:1234::84]) by smtp-relay.gmail.com with ESMTPS id e9e14a558f8ab-3dc845bdc9fsm3914305ab.2.2025.05.23.20.32.37 (version=TLS1_2 cipher=ECDHE-ECDSA-AES128-GCM-SHA256 bits=128/128); Fri, 23 May 2025 20:32:37 -0700 (PDT) X-Relaying-Domain: iol.unh.edu Date: Fri, 23 May 2025 20:32:37 -0700 (PDT) Message-ID: <68313dd5.050a0220.1fe8c3.5a08SMTPIN_ADDED_MISSING@mx.google.com> Received: from [172.17.0.2] (unknown [172.18.0.74]) by postal.iol.unh.edu (Postfix) with ESMTP id C32C06052471; Fri, 23 May 2025 23:32:36 -0400 (EDT) Subject: |SUCCESS| [GIT MASTER] 117e86c4b96ed761e9a7ab766261208fe81bf5ca From: dpdklab@iol.unh.edu To: Test Report Cc: dpdk-test-reports@iol.unh.edu Content-Type: text/plain X-BeenThere: test-report@dpdk.org X-Mailman-Version: 2.1.29 Precedence: list List-Id: automatic DPDK test reports List-Unsubscribe: , List-Archive: List-Post: List-Help: List-Subscribe: , Errors-To: test-report-bounces@dpdk.org _Testing PASS_ Branch: dpdk 117e86c4b96ed761e9a7ab766261208fe81bf5ca --> testing pass Upstream job id: Generic-DPDK-Compile-Meson#390887 Test environment and result as below: +----------------------------------------+--------------------+ | Environment | dpdk_meson_compile | +========================================+====================+ | RHEL9 (ARM) | PASS | +----------------------------------------+--------------------+ | Ubuntu 20.04 ARM SVE | PASS | +----------------------------------------+--------------------+ | Debian 12 with MUSDK | PASS | +----------------------------------------+--------------------+ | Fedora 40 (ARM) | PASS | +----------------------------------------+--------------------+ | Ubuntu 20.04 ARM GCC Cross Compile | PASS | +----------------------------------------+--------------------+ | Fedora 40 (ARM Clang) | PASS | +----------------------------------------+--------------------+ | Fedora 41 (ARM) | PASS | +----------------------------------------+--------------------+ | Fedora 41 (ARM Clang) | PASS | +----------------------------------------+--------------------+ | Ubuntu 20.04 (ARM) | PASS | +----------------------------------------+--------------------+ | Ubuntu 22.04 (ARM) | PASS | +----------------------------------------+--------------------+ | Ubuntu 24.04 (ARM) | PASS | +----------------------------------------+--------------------+ | CentOS Stream 9 (ARM) | PASS | +----------------------------------------+--------------------+ | CentOS Stream 10 (ARM) | PASS | +----------------------------------------+--------------------+ | Debian 12 (arm) | PASS | +----------------------------------------+--------------------+ | Ubuntu 20.04 aarch32 GCC Cross Compile | PASS | +----------------------------------------+--------------------+ | Ubuntu 20.04 ARM Clang Cross Compile | PASS | +----------------------------------------+--------------------+ RHEL9 (ARM) Kernel: Depends on container host Compiler: gcc 11.5.0 20240719 (Red Hat 11.5.0-2) Ubuntu 20.04 ARM SVE Kernel: Depends on container host Compiler: gcc (Ubuntu 10.5.0-1ubuntu1~20.04) 10.5.0 Debian 12 with MUSDK Kernel: Depends on container host Compiler: gcc (Debian 12.2.0-14) 12.2.0 Fedora 40 (ARM) Kernel: Depends on container host Compiler: gcc 14.2.1 20240912 (Red Hat 14.2.1-3) Ubuntu 20.04 ARM GCC Cross Compile Kernel: Depends on container host Compiler: aarch64-linux-gnu-gcc (Ubuntu 9.4.0-1ubuntu1~20.04.2) 9.4.0 Fedora 40 (ARM Clang) Kernel: Depends on container host Compiler: clang 18.1.8 (Fedora 18.1.8-1.fc40) Fedora 41 (ARM) Kernel: Depends on container host Compiler: gcc 14.2.1 20240912 (Red Hat 14.2.1-3) Fedora 41 (ARM Clang) Kernel: Depends on container host Compiler: clang 19.1.5 (Fedora 19.1.5-1.fc41) Ubuntu 20.04 (ARM) Kernel: Depends on container host Compiler: gcc (Ubuntu 9.4.0-1ubuntu1~20.04.2) 9.4.0 Ubuntu 22.04 (ARM) Kernel: Depends on container host Compiler: gcc (Ubuntu 11.4.0-1ubuntu1~22.04) 11.4.0 Ubuntu 24.04 (ARM) Kernel: Depends on container host Compiler: gcc (Ubuntu 13.3.0-6ubuntu2~24.04) 13.3.0 CentOS Stream 9 (ARM) Kernel: Depends on container host Compiler: gcc 11.5.0 20240719 (Red Hat 11.5.0-2) CentOS Stream 10 (ARM) Kernel: Depends on container host Compiler: gcc 14.2.1 20241104 (Red Hat 14.2.1-6) Debian 12 (arm) Kernel: Depends on container host Compiler: gcc (Debian 12.2.0-14) 12.2.0 Ubuntu 20.04 aarch32 GCC Cross Compile Kernel: Depends on container host Compiler: gcc 9.4.0 Ubuntu 20.04 ARM Clang Cross Compile Kernel: Depends on container host Compiler: clang 10.0.0-4ubuntu1 To view detailed results, visit: https://lab.dpdk.org/results/dashboard/tarballs/33630/ UNH-IOL DPDK Community Lab To manage your email subscriptions, visit: https://lab.dpdk.org/results/dashboard/preferences/subscriptions/