From mboxrd@z Thu Jan 1 00:00:00 1970 Return-Path: Received: from mails.dpdk.org (mails.dpdk.org [217.70.189.124]) by inbox.dpdk.org (Postfix) with ESMTP id 20761467D7 for ; Sat, 24 May 2025 13:10:49 +0200 (CEST) Received: from mails.dpdk.org (localhost [127.0.0.1]) by mails.dpdk.org (Postfix) with ESMTP id F048540263; Sat, 24 May 2025 13:10:48 +0200 (CEST) Received: from mail-il1-f227.google.com (mail-il1-f227.google.com [209.85.166.227]) by mails.dpdk.org (Postfix) with ESMTP id BED5540263 for ; Sat, 24 May 2025 13:10:47 +0200 (CEST) Received: by mail-il1-f227.google.com with SMTP id e9e14a558f8ab-3dca299003cso961365ab.3 for ; Sat, 24 May 2025 04:10:47 -0700 (PDT) DKIM-Signature: v=1; a=rsa-sha256; c=relaxed/relaxed; d=iol.unh.edu; s=unh-iol; t=1748085047; x=1748689847; darn=dpdk.org; h=references:in-reply-to:cc:to:from:subject:message-id:date:from:to :cc:subject:date:message-id:reply-to; bh=215qCvvUH4/DJYopo9ptFsnPdRFGwspagjlxr2n6Nzs=; b=FI4ejpa/e7EQEyzoViPdpDVUjtpAcYU7PC2klN2VbpoSuaSRbo1cMOsZzMYJFcAzb2 dOnq3T3Jx4cYJVbRmI5obvPAKfqvyz7/FgDrzwJizh36j+PnyjvGoApkWyHN8jRy/kAz hAQdUqAyNcfvFbG6YbAG0c5xvq/tdfGvDo3C4= X-Google-DKIM-Signature: v=1; a=rsa-sha256; c=relaxed/relaxed; d=1e100.net; s=20230601; t=1748085047; x=1748689847; h=references:in-reply-to:cc:to:from:subject:message-id:date :x-gm-message-state:from:to:cc:subject:date:message-id:reply-to; bh=215qCvvUH4/DJYopo9ptFsnPdRFGwspagjlxr2n6Nzs=; b=dnnvrgGuypJKhMKuiuqWcaMIyuIqb0X/5/9mWBHxE1UCDr+R2daeyuSrqI0oRwvTdu VqAW0oFnDMxiTuYofRu6pZTmNiCr8Xos3HjB7NMv9GYXEjXYacARQEc5p9aUvfTIufDk HcA3nMB5PZjGKoGOV8lAe/WeGmDmPvfdsSNkmdqVBR4BI6PySfFSkNJaxc936HgKvq+s /bE8486tmEpq6hGn7bfILu9nKOQ+ANzxFzBoC//E6iBAjxtNrCQ1Kr0cD67uBeEtI0n9 5tJ4G162CxjNbwGRIozFeK1fY5j/F5oH3qKVHfcJvle6RpH4L3XnpmieYqeJySnMRB2o 54sg== X-Gm-Message-State: AOJu0YxOaWfJg59sDjs3Gy9jkFHc1saeoaN/FhR51hh/yQFJNUT75EnT TTV6d+ykdcKejHAMaYN5Xj2Za7j+LDSMUDWH3v2OkX8ChGu/COHvN85gcbZORn+MTcqTtm2UcUW 0jGnNd6JVH1xCXIoJYx4ilRl8lbJ3XGxYabYDVJW0nHnuF0/N+nrsu8UsTVNE X-Gm-Gg: ASbGncsgVFypSX5zuXx1hfCkk2dhE26gwkAOnLkQBV0cmnN1Awxs6YgGMFFd/AmMURt Yw/8AUp0TUxGo4PkE3MPIuoo/fUtxtjsxG2m3ZbvB5w/vik5Dbhp3TwR8fqpVmexZNqR2YNY53F X3X+eLR56BhvoibxQeWuP8wKYEFNjMmBbTqOeOkBb/lpu0+enfmynGUYb4chpXN5fRJs62d66A2 stTOKebt+ip2tw3AW1w99fnUE5oTx0UkpTwZmI5QylmjzF/UwgJMNndcLzG+2BE0Aak2D0EzN09 QphgxwgPn8SY7yICHUq73WlKrPwAUhQhBO1X X-Google-Smtp-Source: AGHT+IH0/Y4xcLbkC9OZLHYUxi9UKX2wV2hS+Q+PbuqqqJ5Wo9Uxlz6PNCCTiLEYGSflXPqU4UheuJrXlRYX X-Received: by 2002:a05:6e02:1988:b0:3dc:8c77:4d28 with SMTP id e9e14a558f8ab-3dc9b6aa09bmr19672465ab.1.1748085045201; Sat, 24 May 2025 04:10:45 -0700 (PDT) Received: from postal.iol.unh.edu (postal.iol.unh.edu. [2606:4100:3880:1234::84]) by smtp-relay.gmail.com with ESMTPS id 8926c6da1cb9f-4fbcc4a0608sm836198173.72.2025.05.24.04.10.33 (version=TLS1_2 cipher=ECDHE-ECDSA-AES128-GCM-SHA256 bits=128/128); Sat, 24 May 2025 04:10:33 -0700 (PDT) X-Relaying-Domain: iol.unh.edu Date: Sat, 24 May 2025 04:10:33 -0700 (PDT) Message-ID: <6831a929.050a0220.2e9804.bb17SMTPIN_ADDED_MISSING@mx.google.com> Received: from [172.17.0.2] (unknown [172.18.0.76]) by postal.iol.unh.edu (Postfix) with ESMTP id 249566052471; Sat, 24 May 2025 07:10:33 -0400 (EDT) Subject: |SUCCESS| pw153671-153675 [PATCH] [25.11,v3,5/5] eventdev: refactor From: dpdklab@iol.unh.edu To: Test Report Cc: dpdk-test-reports@iol.unh.edu In-Reply-To: <20250524091316.10056-6-pbhagavatula@marvell.com> References: <20250524091316.10056-6-pbhagavatula@marvell.com> Content-Type: text/plain X-BeenThere: test-report@dpdk.org X-Mailman-Version: 2.1.29 Precedence: list List-Id: automatic DPDK test reports List-Unsubscribe: , List-Archive: List-Post: List-Help: List-Subscribe: , Errors-To: test-report-bounces@dpdk.org Test-Label: iol-unit-amd64-testing Test-Status: SUCCESS http://dpdk.org/patch/153675 _Testing PASS_ Submitter: Pavan Nikhilesh Bhagavatula Date: Saturday, May 24 2025 09:13:15 DPDK git baseline: Repo:dpdk Branch: master CommitID:117e86c4b96ed761e9a7ab766261208fe81bf5ca 153671-153675 --> testing pass Upstream job id: Generic-VM-Unit-Test-DPDK#28730 Test environment and result as below: +---------------------+----------------+ | Environment | dpdk_unit_test | +=====================+================+ | Debian 12 | PASS | +---------------------+----------------+ | Fedora 40 | PASS | +---------------------+----------------+ | CentOS Stream 9 | PASS | +---------------------+----------------+ | CentOS Stream 10 | PASS | +---------------------+----------------+ | Fedora 41 | PASS | +---------------------+----------------+ | Fedora 41 (Clang) | PASS | +---------------------+----------------+ | Fedora 40 (Clang) | PASS | +---------------------+----------------+ | RHEL8 | PASS | +---------------------+----------------+ | Ubuntu 20.04 | PASS | +---------------------+----------------+ | Ubuntu 22.04 | PASS | +---------------------+----------------+ | RHEL9 | PASS | +---------------------+----------------+ | Ubuntu 24.04 | PASS | +---------------------+----------------+ | Windows Server 2022 | PASS | +---------------------+----------------+ Debian 12 Kernel: Depends on container host Compiler: gcc (Debian 12.2.0-14) 12.2.0 Fedora 40 Kernel: Depends on container host Compiler: gcc 14.2.1 20240912 (Red Hat 14.2.1-3) CentOS Stream 9 Kernel: Depends on container host Compiler: gcc 11.5.0 20240719 (Red Hat 11.5.0-2) CentOS Stream 10 Kernel: Depends on container host Compiler: gcc 14.2.1 20241104 (Red Hat 14.2.1-6) Fedora 41 Kernel: Depends on container host Compiler: gcc 14.2.1 20240912 (Red Hat 14.2.1-3) Fedora 41 (Clang) Kernel: Depends on container host Compiler: clang 19.1.5 (Fedora 19.1.5-1.fc41) Fedora 40 (Clang) Kernel: Depends on container host Compiler: clang 18.1.8 (Fedora 18.1.8-1.fc40) RHEL8 Kernel: Depends on container host Compiler: gcc 8.5.0 20210514 (Red Hat 8.5.0-22) Ubuntu 20.04 Kernel: Depends on container host Compiler: gcc (Ubuntu 9.4.0-1ubuntu1~20.04.2) 9.4.0 Ubuntu 22.04 Kernel: Depends on container host Compiler: gcc (Ubuntu 11.4.0-1ubuntu1~22.04) 11.4.0 RHEL9 Kernel: Depends on container host Compiler: gcc 11.5.0 20240719 (Red Hat 11.5.0-2) Ubuntu 24.04 Kernel: Depends on container host Compiler: gcc (Ubuntu 13.3.0-6ubuntu2~24.04) 13.3.0 Windows Server 2022 Kernel: 10.0.20348.2031 Compiler: clang 15.0.7, gcc 14.1.0 (MinGW), and MSVC VS 19.39.33521 To view detailed results, visit: https://lab.dpdk.org/results/dashboard/patchsets/33243/ UNH-IOL DPDK Community Lab To manage your email subscriptions, visit: https://lab.dpdk.org/results/dashboard/preferences/subscriptions/