From mboxrd@z Thu Jan 1 00:00:00 1970 Return-Path: Received: from mails.dpdk.org (mails.dpdk.org [217.70.189.124]) by inbox.dpdk.org (Postfix) with ESMTP id B40C94678D for ; Sat, 24 May 2025 13:30:34 +0200 (CEST) Received: from mails.dpdk.org (localhost [127.0.0.1]) by mails.dpdk.org (Postfix) with ESMTP id 9573D40263; Sat, 24 May 2025 13:30:34 +0200 (CEST) Received: from mail-io1-f98.google.com (mail-io1-f98.google.com [209.85.166.98]) by mails.dpdk.org (Postfix) with ESMTP id 1CEC340263 for ; Sat, 24 May 2025 13:30:33 +0200 (CEST) Received: by mail-io1-f98.google.com with SMTP id ca18e2360f4ac-861525e9b0aso62997939f.3 for ; Sat, 24 May 2025 04:30:33 -0700 (PDT) DKIM-Signature: v=1; a=rsa-sha256; c=relaxed/relaxed; d=iol.unh.edu; s=unh-iol; t=1748086232; x=1748691032; darn=dpdk.org; h=references:in-reply-to:cc:to:from:subject:message-id:date:from:to :cc:subject:date:message-id:reply-to; bh=DLCxfa4DIW4LwCxoYU4u1nCQZ8X6Jf0BS0fuoWjNlVM=; b=QOAZHhEeKfKXw1E08zirKGvjswLpyY8vm2MjBrXpx5WLdEkPv96YseJVnSi3Eg4wy7 vu+Dd808MdrJIax8z14c57m5YPQ1o9OwmBDHyjUXSlJ2HCPeRcVNoxHbtlBW9gANlG6X nTdS8eb2hNuBhPKLmSOjppkzYfI+U45Rjep8A= X-Google-DKIM-Signature: v=1; a=rsa-sha256; c=relaxed/relaxed; d=1e100.net; s=20230601; t=1748086232; x=1748691032; h=references:in-reply-to:cc:to:from:subject:message-id:date :x-gm-message-state:from:to:cc:subject:date:message-id:reply-to; bh=DLCxfa4DIW4LwCxoYU4u1nCQZ8X6Jf0BS0fuoWjNlVM=; b=DxivWb3Ehq/Ol7a+M6A9Ze/chaU02+GgY8wgpFTeGAOdg3J8+U4/KEdamzIETyWWSS bd0URzwreeGD67UIcEOxrdHCxFB7ED3gNIASPoLjTha6P/Q8PsVWFwDAq2NmNTxDys57 AM/7nxKrmiFbzr/xvswsYSuk1ppMzzcORYa6hAeR9TyVckdiu5TY2VbTZiGDtN5H2+wX F8Xl2eDGWK9R9YbMbvPVMgppeMNOgEunjMH7qRrBw6/ueezU/BUOgVfVarJjGAseV526 WIK7PrvgBxqobMuNoZnXYFx8r9d0fkKMasZa9rG0UMTqAXoghUewOgsfaZTeEjCL7gi0 uXNA== X-Gm-Message-State: AOJu0YyW6B5NBmLPGqBEi6SI7Z84h6/dQT1wzAj4y5f6H9fyiRZQaP2P Jf+8UHYWpyFVsAvijkcKBAC6XyvHxpyvbBBvOJsjUiVlPuHQZytMLSvlWU8voKlxqE3dU8cvU8F eznaf6vuZVK4jqQEl3mETIvgUuOHD1AX0kbohCCi55Agr X-Gm-Gg: ASbGnctY4DU9U6JK3gQEHF8oIvfn4tamH+Yq2LUxDrGUk5fr94YqJL4B7ZzZ9lhyNzz qrP34IDTV/jG9tFo9c9qZwmzPoZr/SLTRiuQfvt3VwamRsnFy2m7NsYtwvqglXzZjyNiYQRDWSJ Kbcad7kgZ/3AAnzHRQgyJBcjP7zKfu06Q9qqUAModY7NvwQjZ87qWBb280vBiQ7I7094jqIi0QO r5PvnAURrqEH0GBgxZbjwvQOLDYETZIkE9KoaSXowVnSLYhTgZypnM6TbiEhF7EVEMgjOXYxj9L ubojozBCITjSEk+h8of3GJJXWNLbPqs72EhNzZKr3I7gqpnHteMEPRzw8W4= X-Google-Smtp-Source: AGHT+IGG3x6ozv6YCubMkZbbLWfRGL8rosrBgdBTor9w+ZN9GZsclRGpEMUs3D/OAkXb0dAyQtBIDSY5Pt2h X-Received: by 2002:a92:ca0d:0:b0:3ce:8ed9:ca94 with SMTP id e9e14a558f8ab-3dc9b710d63mr17766315ab.14.1748086232364; Sat, 24 May 2025 04:30:32 -0700 (PDT) Received: from postal.iol.unh.edu (postal.iol.unh.edu. [132.177.123.84]) by smtp-relay.gmail.com with ESMTPS id e9e14a558f8ab-3dca2e6cb24sm129525ab.0.2025.05.24.04.30.32 (version=TLS1_2 cipher=ECDHE-ECDSA-AES128-GCM-SHA256 bits=128/128); Sat, 24 May 2025 04:30:32 -0700 (PDT) X-Relaying-Domain: iol.unh.edu Date: Sat, 24 May 2025 04:30:32 -0700 (PDT) Message-ID: <6831add8.050a0220.2a205a.0945SMTPIN_ADDED_MISSING@mx.google.com> Received: from [172.17.0.2] (unknown [172.18.0.74]) by postal.iol.unh.edu (Postfix) with ESMTP id CD1606052471; Sat, 24 May 2025 07:30:31 -0400 (EDT) Subject: |WARNING| pw153671-153675 [PATCH] [25.11,v3,5/5] eventdev: refactor From: dpdklab@iol.unh.edu To: Test Report Cc: dpdk-test-reports@iol.unh.edu In-Reply-To: <20250524091316.10056-6-pbhagavatula@marvell.com> References: <20250524091316.10056-6-pbhagavatula@marvell.com> Content-Type: text/plain X-BeenThere: test-report@dpdk.org X-Mailman-Version: 2.1.29 Precedence: list List-Id: automatic DPDK test reports List-Unsubscribe: , List-Archive: List-Post: List-Help: List-Subscribe: , Errors-To: test-report-bounces@dpdk.org Test-Label: iol-compile-amd64-testing Test-Status: WARNING http://dpdk.org/patch/153675 _Testing issues_ Submitter: Pavan Nikhilesh Bhagavatula Date: Saturday, May 24 2025 09:13:15 DPDK git baseline: Repo:dpdk Branch: master CommitID:117e86c4b96ed761e9a7ab766261208fe81bf5ca 153671-153675 --> testing issues Upstream job id: Generic-DPDK-Compile-Meson#391025 Test environment and result as below: +-----------------------------------+--------------------+-------------------+------------------+-------------------+----------------------+ | Environment | dpdk_meson_compile | dpdk_compile_spdk | dpdk_compile_ovs | dpdk_msvc_compile | dpdk_mingw64_compile | +===================================+====================+===================+==================+===================+======================+ | CentOS Stream 9 | PASS | PASS | SKIPPED | SKIPPED | SKIPPED | +-----------------------------------+--------------------+-------------------+------------------+-------------------+----------------------+ | Fedora 40 (Clang) | PASS | WARN | SKIPPED | SKIPPED | SKIPPED | +-----------------------------------+--------------------+-------------------+------------------+-------------------+----------------------+ | CentOS Stream 10 | PASS | SKIPPED | SKIPPED | SKIPPED | SKIPPED | +-----------------------------------+--------------------+-------------------+------------------+-------------------+----------------------+ | Debian 12 | PASS | PASS | SKIPPED | SKIPPED | SKIPPED | +-----------------------------------+--------------------+-------------------+------------------+-------------------+----------------------+ | Fedora 40 | PASS | PASS | SKIPPED | SKIPPED | SKIPPED | +-----------------------------------+--------------------+-------------------+------------------+-------------------+----------------------+ | openSUSE Leap 15 | PASS | SKIPPED | SKIPPED | SKIPPED | SKIPPED | +-----------------------------------+--------------------+-------------------+------------------+-------------------+----------------------+ | Fedora 41 (Clang) | PASS | WARN | PASS | SKIPPED | SKIPPED | +-----------------------------------+--------------------+-------------------+------------------+-------------------+----------------------+ | Fedora 41 | PASS | PASS | PASS | SKIPPED | SKIPPED | +-----------------------------------+--------------------+-------------------+------------------+-------------------+----------------------+ | RHEL8 | PASS | SKIPPED | SKIPPED | SKIPPED | SKIPPED | +-----------------------------------+--------------------+-------------------+------------------+-------------------+----------------------+ | RHEL9 | PASS | SKIPPED | SKIPPED | SKIPPED | SKIPPED | +-----------------------------------+--------------------+-------------------+------------------+-------------------+----------------------+ | Ubuntu 22.04 | PASS | PASS | SKIPPED | SKIPPED | SKIPPED | +-----------------------------------+--------------------+-------------------+------------------+-------------------+----------------------+ | Ubuntu 20.04 | PASS | SKIPPED | SKIPPED | SKIPPED | SKIPPED | +-----------------------------------+--------------------+-------------------+------------------+-------------------+----------------------+ | Ubuntu 24.04 | PASS | PASS | PASS | SKIPPED | SKIPPED | +-----------------------------------+--------------------+-------------------+------------------+-------------------+----------------------+ | Alpine | PASS | SKIPPED | SKIPPED | SKIPPED | SKIPPED | +-----------------------------------+--------------------+-------------------+------------------+-------------------+----------------------+ | Ubuntu 24.04 32 Bit Cross Compile | PASS | SKIPPED | SKIPPED | SKIPPED | SKIPPED | +-----------------------------------+--------------------+-------------------+------------------+-------------------+----------------------+ | FreeBSD 14.2 | PASS | SKIPPED | SKIPPED | SKIPPED | SKIPPED | +-----------------------------------+--------------------+-------------------+------------------+-------------------+----------------------+ | Windows Server 2022 | SKIPPED | SKIPPED | SKIPPED | PASS | PASS | +-----------------------------------+--------------------+-------------------+------------------+-------------------+----------------------+ ==== 20 line log output for Fedora 41 (Clang) (dpdk_compile_spdk): ==== --- Failed to get log output --- ==== End log output ==== CentOS Stream 9 Kernel: Depends on container host Compiler: gcc 11.5.0 20240719 (Red Hat 11.5.0-2) Fedora 40 (Clang) Kernel: Depends on container host Compiler: clang 18.1.8 (Fedora 18.1.8-1.fc40) CentOS Stream 10 Kernel: Depends on container host Compiler: gcc 14.2.1 20241104 (Red Hat 14.2.1-6) Debian 12 Kernel: Depends on container host Compiler: gcc (Debian 12.2.0-14) 12.2.0 Fedora 40 Kernel: Depends on container host Compiler: gcc 14.2.1 20240912 (Red Hat 14.2.1-3) openSUSE Leap 15 Kernel: Depends on container host Compiler: gcc (SUSE Linux) 7.5.0 Fedora 41 (Clang) Kernel: Depends on container host Compiler: clang 19.1.5 (Fedora 19.1.5-1.fc41) Fedora 41 Kernel: Depends on container host Compiler: gcc 14.2.1 20240912 (Red Hat 14.2.1-3) RHEL8 Kernel: Depends on container host Compiler: gcc 8.5.0 20210514 (Red Hat 8.5.0-22) RHEL9 Kernel: Depends on container host Compiler: gcc 11.5.0 20240719 (Red Hat 11.5.0-2) Ubuntu 22.04 Kernel: Depends on container host Compiler: gcc (Ubuntu 11.4.0-1ubuntu1~22.04) 11.4.0 Ubuntu 20.04 Kernel: Depends on container host Compiler: gcc (Ubuntu 9.4.0-1ubuntu1~20.04.2) 9.4.0 Ubuntu 24.04 Kernel: Depends on container host Compiler: gcc (Ubuntu 13.3.0-6ubuntu2~24.04) 13.3.0 Alpine Kernel: Depends on container host Compiler: gcc (Alpine 14.2.0) 14.2.0 Ubuntu 24.04 32 Bit Cross Compile Kernel: Depends on container host Compiler: gcc (Ubuntu 13.3.0-6ubuntu2~24.04) 13.3.0 FreeBSD 14.2 Kernel: 14.2-RELEASE Compiler: clang 18.1.6 Windows Server 2022 Kernel: 10.0.20348.2031 Compiler: clang 15.0.7, gcc 14.1.0 (MinGW), and MSVC VS 19.39.33521 To view detailed results, visit: https://lab.dpdk.org/results/dashboard/patchsets/33243/ UNH-IOL DPDK Community Lab To manage your email subscriptions, visit: https://lab.dpdk.org/results/dashboard/preferences/subscriptions/