From mboxrd@z Thu Jan 1 00:00:00 1970 Return-Path: Received: from mails.dpdk.org (mails.dpdk.org [217.70.189.124]) by inbox.dpdk.org (Postfix) with ESMTP id 4ED5F467C6 for ; Sat, 24 May 2025 14:54:45 +0200 (CEST) Received: from mails.dpdk.org (localhost [127.0.0.1]) by mails.dpdk.org (Postfix) with ESMTP id 2814B40263; Sat, 24 May 2025 14:54:45 +0200 (CEST) Received: from mail-yw1-f228.google.com (mail-yw1-f228.google.com [209.85.128.228]) by mails.dpdk.org (Postfix) with ESMTP id CC49640263 for ; Sat, 24 May 2025 14:54:43 +0200 (CEST) Received: by mail-yw1-f228.google.com with SMTP id 00721157ae682-70b4e497d96so6770937b3.2 for ; Sat, 24 May 2025 05:54:43 -0700 (PDT) DKIM-Signature: v=1; a=rsa-sha256; c=relaxed/relaxed; d=iol.unh.edu; s=unh-iol; t=1748091283; x=1748696083; darn=dpdk.org; h=references:in-reply-to:cc:to:from:subject:message-id:date:from:to :cc:subject:date:message-id:reply-to; bh=RgXIthX1arpT9fnGDogMiErDxYnSOdgAOmVi6mp2LaE=; b=LfX8PbVGydvDLG2jW81NmfrN6JhEcnudkbj9VELQcqbDR4WVS2IKN+myeIbKeU1BSb omLADidN0ScBItBmmiBrM4f+hvFvTY1N7XPYczliQzk6sAAV5JfIoAusDDnNTYoDYnYA vcBoNgG9PaJkRlip4bgumpi4zD2akqO/9ocjA= X-Google-DKIM-Signature: v=1; a=rsa-sha256; c=relaxed/relaxed; d=1e100.net; s=20230601; t=1748091283; x=1748696083; h=references:in-reply-to:cc:to:from:subject:message-id:date :x-gm-message-state:from:to:cc:subject:date:message-id:reply-to; bh=RgXIthX1arpT9fnGDogMiErDxYnSOdgAOmVi6mp2LaE=; b=ia4RB3hEsDk/wujFXjXC6rX5yNNeXd/Kt+XXhK+ZHgPP/48nxwO70ZEdp/uyJ/ViFF 6/RSEpJbWLl1TKG2jl5djY5w3FrTNueVbiEQvQ1dlF53AWV1FOoRHcdzIzHb53l19kxW DPYSo0bhL8SKugesjHEYruPBBb76glDlbZtzkluLG6+nQtxe0AQu5noUa8UiaMc2EmI0 Ue9fAeBp/6ovwXfZkXQLAGav2EdGwZXAoZOmkf3usSdqmwj2RX5c0+Z3E7jvsVOXnh+E 2oXyU714u913rWLOS0Sooyi77l3r+iqRkv6QHmzk16vHTqrsWHf/M/B6xt2OXOWlqL7j RFdA== X-Gm-Message-State: AOJu0YyHGJ7vPDMCHI5KOg8OqcZfCsijq0nBsSImq4MuX17AKbgSdF93 7KVqnRr7lK/2NMdjMUShZHg66RIJQqbAgQ8GU/uBPEWWYLeT3HXqSi4DQNn1urHEJCy6JIHOhw6 JeRB6gQMSaqqjuGAzZOgD9xOsVMhvz3lexxo+28iPBpy1nkotDpeaIncSzgWZ X-Gm-Gg: ASbGncsNCachHUpx9UpJijDwcr7Ycoeu7H17DLifY6cidrw0l8oLi6tmfJjrQAscnxX oL95kyxpn80OqFfr36LDPyrGIqQU11E35n6oEz8uHAaRaXewLWq7pJiyMJZ2haXGbs69Jmks5h1 u2Xd6Wk5YXyoWZKIEo95y+TH4S0yR3hGriLIJkB9Nu8KP2tmBs8m8au5W/l3nyASOv8RHs+EXf2 Va7o3L46AWZQRprHZJ3942FWSPZW24cSF9yGGlYDuZT4lzO/WHMfY4uqkX5XDRPGEObCf3RjroA cuffyDCLzj7hMkuqJz6LG3olxO7oTEO5M43d X-Google-Smtp-Source: AGHT+IGjD5nMYyk9M64ZV4rGtXOUcKFsg9O0FRQzfjWkpUmTRZ0BYd3Orj832MiopRLi51gsEh1PwfR6NNVQ X-Received: by 2002:a05:690c:7405:b0:70d:f29e:9527 with SMTP id 00721157ae682-70e2d98021emr24795057b3.6.1748091283067; Sat, 24 May 2025 05:54:43 -0700 (PDT) Received: from postal.iol.unh.edu (postal.iol.unh.edu. [2606:4100:3880:1234::84]) by smtp-relay.gmail.com with ESMTPS id 3f1490d57ef6-e7d67045fd5sm220198276.11.2025.05.24.05.54.42 (version=TLS1_2 cipher=ECDHE-ECDSA-AES128-GCM-SHA256 bits=128/128); Sat, 24 May 2025 05:54:43 -0700 (PDT) X-Relaying-Domain: iol.unh.edu Date: Sat, 24 May 2025 05:54:43 -0700 (PDT) Message-ID: <6831c193.050a0220.3d6198.b417SMTPIN_ADDED_MISSING@mx.google.com> Received: from [172.17.0.2] (unknown [172.18.0.74]) by postal.iol.unh.edu (Postfix) with ESMTP id 6D8976052471; Sat, 24 May 2025 08:54:42 -0400 (EDT) Subject: |SUCCESS| pw153671-153675 [PATCH] [25.11,v3,5/5] eventdev: refactor From: dpdklab@iol.unh.edu To: Test Report Cc: dpdk-test-reports@iol.unh.edu In-Reply-To: <20250524091316.10056-6-pbhagavatula@marvell.com> References: <20250524091316.10056-6-pbhagavatula@marvell.com> Content-Type: text/plain X-BeenThere: test-report@dpdk.org X-Mailman-Version: 2.1.29 Precedence: list List-Id: automatic DPDK test reports List-Unsubscribe: , List-Archive: List-Post: List-Help: List-Subscribe: , Errors-To: test-report-bounces@dpdk.org Test-Label: iol-unit-arm64-testing Test-Status: SUCCESS http://dpdk.org/patch/153675 _Testing PASS_ Submitter: Pavan Nikhilesh Bhagavatula Date: Saturday, May 24 2025 09:13:15 DPDK git baseline: Repo:dpdk Branch: master CommitID:117e86c4b96ed761e9a7ab766261208fe81bf5ca 153671-153675 --> testing pass Upstream job id: Generic-Unit-Test-DPDK#340404 Test environment and result as below: +-----------------------------+----------------+--------------+------------------------------+---------------------------+ | Environment | dpdk_unit_test | lpm_autotest | cryptodev_sw_snow3g_autotest | cryptodev_sw_zuc_autotest | +=============================+================+==============+==============================+===========================+ | CentOS Stream 9 (ARM) | PASS | SKIPPED | SKIPPED | SKIPPED | +-----------------------------+----------------+--------------+------------------------------+---------------------------+ | Debian 12 (arm) | PASS | SKIPPED | PASS | PASS | +-----------------------------+----------------+--------------+------------------------------+---------------------------+ | CentOS Stream 10 (ARM) | PASS | SKIPPED | SKIPPED | SKIPPED | +-----------------------------+----------------+--------------+------------------------------+---------------------------+ | Fedora 40 (ARM Clang) | PASS | SKIPPED | SKIPPED | SKIPPED | +-----------------------------+----------------+--------------+------------------------------+---------------------------+ | Fedora 41 (ARM) | PASS | SKIPPED | SKIPPED | SKIPPED | +-----------------------------+----------------+--------------+------------------------------+---------------------------+ | Fedora 40 (ARM) | PASS | SKIPPED | SKIPPED | SKIPPED | +-----------------------------+----------------+--------------+------------------------------+---------------------------+ | Fedora 41 (ARM Clang) | PASS | SKIPPED | SKIPPED | SKIPPED | +-----------------------------+----------------+--------------+------------------------------+---------------------------+ | Ubuntu 20.04 (ARM) | PASS | SKIPPED | SKIPPED | SKIPPED | +-----------------------------+----------------+--------------+------------------------------+---------------------------+ | Ubuntu 22.04 (ARM) | PASS | SKIPPED | SKIPPED | SKIPPED | +-----------------------------+----------------+--------------+------------------------------+---------------------------+ | RHEL9 (ARM) | PASS | SKIPPED | SKIPPED | SKIPPED | +-----------------------------+----------------+--------------+------------------------------+---------------------------+ | Ubuntu 24.04 (ARM) | PASS | SKIPPED | SKIPPED | SKIPPED | +-----------------------------+----------------+--------------+------------------------------+---------------------------+ | 32-bit Ubuntu 22.04.4 (ARM) | PASS | SKIPPED | SKIPPED | SKIPPED | +-----------------------------+----------------+--------------+------------------------------+---------------------------+ | Ubuntu 20.04 ARM SVE | SKIPPED | PASS | SKIPPED | SKIPPED | +-----------------------------+----------------+--------------+------------------------------+---------------------------+ CentOS Stream 9 (ARM) Kernel: Depends on container host Compiler: gcc 11.5.0 20240719 (Red Hat 11.5.0-2) Debian 12 (arm) Kernel: Depends on container host Compiler: gcc (Debian 12.2.0-14) 12.2.0 CentOS Stream 10 (ARM) Kernel: Depends on container host Compiler: gcc 14.2.1 20241104 (Red Hat 14.2.1-6) Fedora 40 (ARM Clang) Kernel: Depends on container host Compiler: clang 18.1.8 (Fedora 18.1.8-1.fc40) Fedora 41 (ARM) Kernel: Depends on container host Compiler: gcc 14.2.1 20240912 (Red Hat 14.2.1-3) Fedora 40 (ARM) Kernel: Depends on container host Compiler: gcc 14.2.1 20240912 (Red Hat 14.2.1-3) Fedora 41 (ARM Clang) Kernel: Depends on container host Compiler: clang 19.1.5 (Fedora 19.1.5-1.fc41) Ubuntu 20.04 (ARM) Kernel: Depends on container host Compiler: gcc (Ubuntu 9.4.0-1ubuntu1~20.04.2) 9.4.0 Ubuntu 22.04 (ARM) Kernel: Depends on container host Compiler: gcc (Ubuntu 11.4.0-1ubuntu1~22.04) 11.4.0 RHEL9 (ARM) Kernel: Depends on container host Compiler: gcc 11.5.0 20240719 (Red Hat 11.5.0-2) Ubuntu 24.04 (ARM) Kernel: Depends on container host Compiler: gcc (Ubuntu 13.3.0-6ubuntu2~24.04) 13.3.0 32-bit Ubuntu 22.04.4 (ARM) Kernel: 5.15.83+ aarch64 Compiler: gcc (Ubuntu 11.4.0-1ubuntu1~22.04) 11.4.0 Ubuntu 20.04 ARM SVE Kernel: Depends on container host Compiler: gcc (Ubuntu 10.5.0-1ubuntu1~20.04) 10.5.0 To view detailed results, visit: https://lab.dpdk.org/results/dashboard/patchsets/33243/ UNH-IOL DPDK Community Lab To manage your email subscriptions, visit: https://lab.dpdk.org/results/dashboard/preferences/subscriptions/