From mboxrd@z Thu Jan 1 00:00:00 1970 Return-Path: Received: from mails.dpdk.org (mails.dpdk.org [217.70.189.124]) by inbox.dpdk.org (Postfix) with ESMTP id 11857467D3 for ; Sat, 24 May 2025 16:23:13 +0200 (CEST) Received: from mails.dpdk.org (localhost [127.0.0.1]) by mails.dpdk.org (Postfix) with ESMTP id E403E40263; Sat, 24 May 2025 16:23:12 +0200 (CEST) Received: from mail-ua1-f99.google.com (mail-ua1-f99.google.com [209.85.222.99]) by mails.dpdk.org (Postfix) with ESMTP id B407A40263 for ; Sat, 24 May 2025 16:23:11 +0200 (CEST) Received: by mail-ua1-f99.google.com with SMTP id a1e0cc1a2514c-87de3223127so214868241.1 for ; Sat, 24 May 2025 07:23:11 -0700 (PDT) DKIM-Signature: v=1; a=rsa-sha256; c=relaxed/relaxed; d=iol.unh.edu; s=unh-iol; t=1748096591; x=1748701391; darn=dpdk.org; h=references:in-reply-to:cc:to:from:subject:message-id:date:from:to :cc:subject:date:message-id:reply-to; bh=V+H4FDo1g0pkNbT4+6eXwhHQG+yNY3/Y0ocSe5liMZs=; b=da28zpXRUfmTcU8/opHbw62vrDXFAFRuDaB6pVQQbDaIXSXyK9QnguYGWJMJQWceMR vXHqAcmwVv74jSvvuLbqhbMi2k4DbJ/hq8L0H10BnofgyZzXjeWcaQHnCsZjABtXwVqd Y7QOItIrYh2OLokfVxZ9fpQ50iKsJSb4VQLV8= X-Google-DKIM-Signature: v=1; a=rsa-sha256; c=relaxed/relaxed; d=1e100.net; s=20230601; t=1748096591; x=1748701391; h=references:in-reply-to:cc:to:from:subject:message-id:date :x-gm-message-state:from:to:cc:subject:date:message-id:reply-to; bh=V+H4FDo1g0pkNbT4+6eXwhHQG+yNY3/Y0ocSe5liMZs=; b=d+r7IAkwBzr5bwqhncXDNueONXMPstHQ4oYnFk5mC7Nc2BGn0mEihR35z7DFkNTKAt UoaOo6nzU7edxbCNBUsVeuDfIHq84grY1USbiIIqM7TSTM4eRFTuY6h/h8sMB9ZNKHHf Z38t7sZJ0qczXsb0yyySCUHYLQ7ZKw6AthvnB8/bNTCOUtoMoeBVdV0Bc7RZhNp3M5OX iTeLIpzwMyqkGI59ZHASRtjppkeNBPrIo9vFQZIP/Nvj502Vr1BXklUzNH5Y3wUa/LAv 8+yu6xyFiiAuIZQeVToF+ySm1sI+ENOLQxLwvyV53mKguu75UQfTSSY/sea+EHHEEMeO KdvQ== X-Gm-Message-State: AOJu0YxMME7vyH0Ah4fIWu7AlB6NHEsDsXWfBMdJ/1AWxiYgvZp7NJtH ECJ0owSjhFZOz4z3eTFHeVTRKOxmRR4m4k+uWCcHga/nRYtlNcXOTA9LQk8i0lxXN1ZVFcVWLva iIzhW4/V6CjTQZN1Ln1Je/YDFqoUbka6m9oZr4NaC/tJ8 X-Gm-Gg: ASbGncsMSAgvF9iFp6lFr+GM/HlH0U90FkaukWXgVM1euLJngxP6dDWzcW4uUx5tMoB k/9AhuTi8dQ5PYhE4/9gLGD5Xu+g2cmaAg84bLpf8hqvuMbUg8TcVdOVmym0cnX6juOOONieTiB BdEhfrEPRZORTeJaK6sm6dW/cmadVxnyM+mK6uRM9VzijlhpBQW/+eaJlBMQ/kJhjJAkJTJZ5kj y9HpXb/YwbloolScB/sy1/tUcJiUU3h8TW3NsFBsCsR1E039M0oHsVtlODvom7FAAZQCsT6ddyB v+yvBV5tIRkXYeLEXtzKZ6H/BB+IbwuyE84YBWujTxcs5DnpVgcwqXmZHog= X-Google-Smtp-Source: AGHT+IG9ek3wkJltHtMFzfDGAyIrdF9HCzBL1yyj+GicxibF06DXpkC+MgbCNxKACeriKGTH5t4UptfALxHG X-Received: by 2002:a05:6122:370c:b0:526:1ddd:7603 with SMTP id 71dfb90a1353d-52f2c3c682dmr2446692e0c.0.1748096591003; Sat, 24 May 2025 07:23:11 -0700 (PDT) Received: from postal.iol.unh.edu (postal.iol.unh.edu. [132.177.123.84]) by smtp-relay.gmail.com with ESMTPS id 71dfb90a1353d-52dba91b6besm731751e0c.3.2025.05.24.07.23.10 (version=TLS1_2 cipher=ECDHE-ECDSA-AES128-GCM-SHA256 bits=128/128); Sat, 24 May 2025 07:23:10 -0700 (PDT) X-Relaying-Domain: iol.unh.edu Date: Sat, 24 May 2025 07:23:10 -0700 (PDT) Message-ID: <6831d64e.050a0220.141784.7594SMTPIN_ADDED_MISSING@mx.google.com> Received: from [172.17.0.2] (unknown [172.18.0.74]) by postal.iol.unh.edu (Postfix) with ESMTP id 6E95D6052471; Sat, 24 May 2025 10:23:10 -0400 (EDT) Subject: |SUCCESS| pw153671-153675 [PATCH] [25.11,v3,5/5] eventdev: refactor From: dpdklab@iol.unh.edu To: Test Report Cc: dpdk-test-reports@iol.unh.edu In-Reply-To: <20250524091316.10056-6-pbhagavatula@marvell.com> References: <20250524091316.10056-6-pbhagavatula@marvell.com> Content-Type: text/plain X-BeenThere: test-report@dpdk.org X-Mailman-Version: 2.1.29 Precedence: list List-Id: automatic DPDK test reports List-Unsubscribe: , List-Archive: List-Post: List-Help: List-Subscribe: , Errors-To: test-report-bounces@dpdk.org Test-Label: iol-compile-arm64-testing Test-Status: SUCCESS http://dpdk.org/patch/153675 _Testing PASS_ Submitter: Pavan Nikhilesh Bhagavatula Date: Saturday, May 24 2025 09:13:15 DPDK git baseline: Repo:dpdk Branch: master CommitID:117e86c4b96ed761e9a7ab766261208fe81bf5ca 153671-153675 --> testing pass Upstream job id: Generic-DPDK-Compile-Meson#391035 Test environment and result as below: +----------------------------------------+--------------------+ | Environment | dpdk_meson_compile | +========================================+====================+ | RHEL9 (ARM) | PASS | +----------------------------------------+--------------------+ | Ubuntu 20.04 ARM GCC Cross Compile | PASS | +----------------------------------------+--------------------+ | Ubuntu 20.04 ARM SVE | PASS | +----------------------------------------+--------------------+ | Fedora 40 (ARM Clang) | PASS | +----------------------------------------+--------------------+ | Debian 12 with MUSDK | PASS | +----------------------------------------+--------------------+ | Fedora 40 (ARM) | PASS | +----------------------------------------+--------------------+ | Fedora 41 (ARM) | PASS | +----------------------------------------+--------------------+ | Fedora 41 (ARM Clang) | PASS | +----------------------------------------+--------------------+ | Ubuntu 20.04 (ARM) | PASS | +----------------------------------------+--------------------+ | Ubuntu 22.04 (ARM) | PASS | +----------------------------------------+--------------------+ | CentOS Stream 9 (ARM) | PASS | +----------------------------------------+--------------------+ | Ubuntu 24.04 (ARM) | PASS | +----------------------------------------+--------------------+ | CentOS Stream 10 (ARM) | PASS | +----------------------------------------+--------------------+ | Debian 12 (arm) | PASS | +----------------------------------------+--------------------+ | Ubuntu 20.04 ARM Clang Cross Compile | PASS | +----------------------------------------+--------------------+ | Ubuntu 20.04 aarch32 GCC Cross Compile | PASS | +----------------------------------------+--------------------+ RHEL9 (ARM) Kernel: Depends on container host Compiler: gcc 11.5.0 20240719 (Red Hat 11.5.0-2) Ubuntu 20.04 ARM GCC Cross Compile Kernel: Depends on container host Compiler: aarch64-linux-gnu-gcc (Ubuntu 9.4.0-1ubuntu1~20.04.2) 9.4.0 Ubuntu 20.04 ARM SVE Kernel: Depends on container host Compiler: gcc (Ubuntu 10.5.0-1ubuntu1~20.04) 10.5.0 Fedora 40 (ARM Clang) Kernel: Depends on container host Compiler: clang 18.1.8 (Fedora 18.1.8-1.fc40) Debian 12 with MUSDK Kernel: Depends on container host Compiler: gcc (Debian 12.2.0-14) 12.2.0 Fedora 40 (ARM) Kernel: Depends on container host Compiler: gcc 14.2.1 20240912 (Red Hat 14.2.1-3) Fedora 41 (ARM) Kernel: Depends on container host Compiler: gcc 14.2.1 20240912 (Red Hat 14.2.1-3) Fedora 41 (ARM Clang) Kernel: Depends on container host Compiler: clang 19.1.5 (Fedora 19.1.5-1.fc41) Ubuntu 20.04 (ARM) Kernel: Depends on container host Compiler: gcc (Ubuntu 9.4.0-1ubuntu1~20.04.2) 9.4.0 Ubuntu 22.04 (ARM) Kernel: Depends on container host Compiler: gcc (Ubuntu 11.4.0-1ubuntu1~22.04) 11.4.0 CentOS Stream 9 (ARM) Kernel: Depends on container host Compiler: gcc 11.5.0 20240719 (Red Hat 11.5.0-2) Ubuntu 24.04 (ARM) Kernel: Depends on container host Compiler: gcc (Ubuntu 13.3.0-6ubuntu2~24.04) 13.3.0 CentOS Stream 10 (ARM) Kernel: Depends on container host Compiler: gcc 14.2.1 20241104 (Red Hat 14.2.1-6) Debian 12 (arm) Kernel: Depends on container host Compiler: gcc (Debian 12.2.0-14) 12.2.0 Ubuntu 20.04 ARM Clang Cross Compile Kernel: Depends on container host Compiler: clang 10.0.0-4ubuntu1 Ubuntu 20.04 aarch32 GCC Cross Compile Kernel: Depends on container host Compiler: gcc 9.4.0 To view detailed results, visit: https://lab.dpdk.org/results/dashboard/patchsets/33243/ UNH-IOL DPDK Community Lab To manage your email subscriptions, visit: https://lab.dpdk.org/results/dashboard/preferences/subscriptions/