From mboxrd@z Thu Jan 1 00:00:00 1970 Return-Path: Received: from mails.dpdk.org (mails.dpdk.org [217.70.189.124]) by inbox.dpdk.org (Postfix) with ESMTP id 566A3467F2 for ; Mon, 26 May 2025 11:58:36 +0200 (CEST) Received: from mails.dpdk.org (localhost [127.0.0.1]) by mails.dpdk.org (Postfix) with ESMTP id 4CE4340280; Mon, 26 May 2025 11:58:36 +0200 (CEST) Received: from mail-vk1-f228.google.com (mail-vk1-f228.google.com [209.85.221.228]) by mails.dpdk.org (Postfix) with ESMTP id 2290E40280 for ; Mon, 26 May 2025 11:58:35 +0200 (CEST) Received: by mail-vk1-f228.google.com with SMTP id 71dfb90a1353d-52617ceae0dso694479e0c.0 for ; Mon, 26 May 2025 02:58:35 -0700 (PDT) DKIM-Signature: v=1; a=rsa-sha256; c=relaxed/relaxed; d=iol.unh.edu; s=unh-iol; t=1748253514; x=1748858314; darn=dpdk.org; h=references:in-reply-to:cc:to:from:subject:message-id:date:from:to :cc:subject:date:message-id:reply-to; bh=oxjFUsEyUjtEefSKwHSddxQFvSGvlZmO04s6N/IQqfI=; b=Iko7WuBvyH8TszGg/06ZHsXDeig4E7YtM4qv0D9zhaPrdCJloG87xm5fZaz+P3zS0N RJGQZvEFYgx0S489vg25bIChakXBEdgr5a9pBXDMK05hkK2NMytcuj8XEfLf62gk1PdD W4lBLQ1P+LBHmXMmpSBj9DWm87EoFf4ldc7IM= X-Google-DKIM-Signature: v=1; a=rsa-sha256; c=relaxed/relaxed; d=1e100.net; s=20230601; t=1748253514; x=1748858314; h=references:in-reply-to:cc:to:from:subject:message-id:date :x-gm-message-state:from:to:cc:subject:date:message-id:reply-to; bh=oxjFUsEyUjtEefSKwHSddxQFvSGvlZmO04s6N/IQqfI=; b=L9M8rgrIMRn1nSAsbDPpS2QQDzrUnOBg//VQJPLlC/CSSTYv0PfARdc59VuzrHNHCE qP1B0CF1UaUFJtXD1cU95eLnWRx5KsgQRrN/+OTGsXtZsOo2mFlYDhlekPTg8dOkXrw9 3kuRmgOX/uSokdpjQ80tQyGyFNjWQG+boW390irwGsQOQTtQpkRuOwkk/OAFLK3CIsWr cYkSOtOOon2ssA+kkEQuiHnlUqTW3xa5teNE9vtOGJT/eFGBTv9UWe72hjyj4uph9CNp 1SEh048qRgg37zS+gfUbXT8ZY/Th8kDVn68kLvKHZvu0Tgbb1e1LJXdHYssb/8UQ6PoV NpAw== X-Gm-Message-State: AOJu0YwJ+14Xe0OTuJzx33iSyQ0UC/+umsqEz9ZgojYhzpVX2o8m9UIl EaQKPu/kkd3Ts2eV+/baJrRgnJPHUo1GTqnKKKQy1mhsmLLRzQ5iD96i33kxtvhLA9JSb8DVXAH 9Mtt7RM7LqfOj8MMKjZD8bLWArBk4t44PuelgQBM0VoPS X-Gm-Gg: ASbGncuIC9aRbm4OFiZP0T/foJdhQtFTIO0Q16Lh245vox/23EU9x4oNdzXdtkW3HuS /sf8xSoj+3StcJtZ9WhnGpNuSGsmLjUteelvshzHIeUrkET8SPGKlTYDIeGOpTFaE7NOxUA7DTw XaDpNbQDVU2VRY6b6VeOTSVrIhXn1GXpcIK5b6wxFfN9qddXprslPAnirfau0S2J4qI0SiiM8lD WWutrRr83+J215/z5rY78iulcP4tkrqCtfKrPTc8qhjTvGeEnKOQ+46EezWgyIKZ0DNKSfVuwYv 5yTaoSTIzmBAU5VPfGrj05vM3wUesqSpVdJy0mJ3fsIrtBlKNGMHvg4mBLo= X-Google-Smtp-Source: AGHT+IHXv0Z8CwGT6PMsasc3tfXrkXIhlnJ/F3RlMJKqkISJKeyK5lLJmjp9CeM2JMAjlgg2uakS2k2+Kkf9 X-Received: by 2002:a05:6122:8c9:b0:520:6773:e5ea with SMTP id 71dfb90a1353d-52f2c57b328mr5868391e0c.7.1748253514480; Mon, 26 May 2025 02:58:34 -0700 (PDT) Received: from postal.iol.unh.edu (postal.iol.unh.edu. [132.177.123.84]) by smtp-relay.gmail.com with ESMTPS id 71dfb90a1353d-52dba91b6besm789774e0c.3.2025.05.26.02.58.34 (version=TLS1_2 cipher=ECDHE-ECDSA-AES128-GCM-SHA256 bits=128/128); Mon, 26 May 2025 02:58:34 -0700 (PDT) X-Relaying-Domain: iol.unh.edu Date: Mon, 26 May 2025 02:58:34 -0700 (PDT) Message-ID: <68343b4a.050a0220.141784.a2faSMTPIN_ADDED_MISSING@mx.google.com> Received: from [172.21.0.5] (unknown [172.18.0.240]) by postal.iol.unh.edu (Postfix) with ESMTP id CCE906052471; Mon, 26 May 2025 05:58:33 -0400 (EDT) Subject: |WARNING| pw153677-153685 [PATCH] [9/9] net/ice/base: increase reset From: dpdklab@iol.unh.edu To: Test Report Cc: dpdk-test-reports@iol.unh.edu In-Reply-To: <20250526083325.248384-10-dhanya.r.pillai@intel.com> References: <20250526083325.248384-10-dhanya.r.pillai@intel.com> Content-Type: text/plain X-BeenThere: test-report@dpdk.org X-Mailman-Version: 2.1.29 Precedence: list List-Id: automatic DPDK test reports List-Unsubscribe: , List-Archive: List-Post: List-Help: List-Subscribe: , Errors-To: test-report-bounces@dpdk.org Test-Label: iol-compile-amd64-testing Test-Status: WARNING http://dpdk.org/patch/153685 _Testing issues_ Submitter: Dhanya Pillai Date: Monday, May 26 2025 08:33:11 DPDK git baseline: Repo:dpdk Branch: master CommitID:3496f70ca7a8ee281fbb23ebcc249f728cbb00cd 153677-153685 --> testing issues Upstream job id: Generic-DPDK-Compile-Meson#391247 Test environment and result as below: +-----------------------------------+--------------------+-------------------+------------------+-------------------+ | Environment | dpdk_meson_compile | dpdk_compile_spdk | dpdk_compile_ovs | dpdk_msvc_compile | +===================================+====================+===================+==================+===================+ | CentOS Stream 9 | PEND | PEND | SKIPPED | SKIPPED | +-----------------------------------+--------------------+-------------------+------------------+-------------------+ | Debian 12 | PEND | PEND | SKIPPED | SKIPPED | +-----------------------------------+--------------------+-------------------+------------------+-------------------+ | CentOS Stream 10 | PASS | SKIPPED | SKIPPED | SKIPPED | +-----------------------------------+--------------------+-------------------+------------------+-------------------+ | Fedora 40 (Clang) | PASS | WARN | SKIPPED | SKIPPED | +-----------------------------------+--------------------+-------------------+------------------+-------------------+ | Fedora 40 | PASS | PASS | SKIPPED | SKIPPED | +-----------------------------------+--------------------+-------------------+------------------+-------------------+ | Fedora 41 (Clang) | PEND | PEND | PEND | SKIPPED | +-----------------------------------+--------------------+-------------------+------------------+-------------------+ | Fedora 41 | PEND | PEND | PEND | SKIPPED | +-----------------------------------+--------------------+-------------------+------------------+-------------------+ | openSUSE Leap 15 | PEND | SKIPPED | SKIPPED | SKIPPED | +-----------------------------------+--------------------+-------------------+------------------+-------------------+ | RHEL8 | PASS | SKIPPED | SKIPPED | SKIPPED | +-----------------------------------+--------------------+-------------------+------------------+-------------------+ | RHEL9 | PASS | SKIPPED | SKIPPED | SKIPPED | +-----------------------------------+--------------------+-------------------+------------------+-------------------+ | Ubuntu 20.04 | PASS | SKIPPED | SKIPPED | SKIPPED | +-----------------------------------+--------------------+-------------------+------------------+-------------------+ | Ubuntu 22.04 | PEND | PEND | SKIPPED | SKIPPED | +-----------------------------------+--------------------+-------------------+------------------+-------------------+ | Ubuntu 24.04 | PEND | PEND | PEND | SKIPPED | +-----------------------------------+--------------------+-------------------+------------------+-------------------+ | Alpine | PEND | SKIPPED | SKIPPED | SKIPPED | +-----------------------------------+--------------------+-------------------+------------------+-------------------+ | Ubuntu 24.04 32 Bit Cross Compile | PEND | SKIPPED | SKIPPED | SKIPPED | +-----------------------------------+--------------------+-------------------+------------------+-------------------+ | FreeBSD 14.2 | PASS | SKIPPED | SKIPPED | SKIPPED | +-----------------------------------+--------------------+-------------------+------------------+-------------------+ | Windows Server 2022 | SKIPPED | SKIPPED | SKIPPED | PASS | +-----------------------------------+--------------------+-------------------+------------------+-------------------+ ==== 20 line log output for Fedora 40 (Clang) (dpdk_compile_spdk): ==== --- Failed to get log output --- ==== End log output ==== CentOS Stream 9 Kernel: Depends on container host Compiler: gcc 11.5.0 20240719 (Red Hat 11.5.0-2) Debian 12 Kernel: Depends on container host Compiler: gcc (Debian 12.2.0-14) 12.2.0 CentOS Stream 10 Kernel: Depends on container host Compiler: gcc 14.2.1 20241104 (Red Hat 14.2.1-6) Fedora 40 (Clang) Kernel: Depends on container host Compiler: clang 18.1.8 (Fedora 18.1.8-1.fc40) Fedora 40 Kernel: Depends on container host Compiler: gcc 14.2.1 20240912 (Red Hat 14.2.1-3) Fedora 41 (Clang) Kernel: Depends on container host Compiler: clang 19.1.5 (Fedora 19.1.5-1.fc41) Fedora 41 Kernel: Depends on container host Compiler: gcc 14.2.1 20240912 (Red Hat 14.2.1-3) openSUSE Leap 15 Kernel: Depends on container host Compiler: gcc (SUSE Linux) 7.5.0 RHEL8 Kernel: Depends on container host Compiler: gcc 8.5.0 20210514 (Red Hat 8.5.0-22) RHEL9 Kernel: Depends on container host Compiler: gcc 11.5.0 20240719 (Red Hat 11.5.0-2) Ubuntu 20.04 Kernel: Depends on container host Compiler: gcc (Ubuntu 9.4.0-1ubuntu1~20.04.2) 9.4.0 Ubuntu 22.04 Kernel: Depends on container host Compiler: gcc (Ubuntu 11.4.0-1ubuntu1~22.04) 11.4.0 Ubuntu 24.04 Kernel: Depends on container host Compiler: gcc (Ubuntu 13.3.0-6ubuntu2~24.04) 13.3.0 Alpine Kernel: Depends on container host Compiler: gcc (Alpine 14.2.0) 14.2.0 Ubuntu 24.04 32 Bit Cross Compile Kernel: Depends on container host Compiler: gcc (Ubuntu 13.3.0-6ubuntu2~24.04) 13.3.0 FreeBSD 14.2 Kernel: 14.2-RELEASE Compiler: clang 18.1.6 Windows Server 2022 Kernel: 10.0.20348.2031 Compiler: clang 15.0.7, gcc 14.1.0 (MinGW), and MSVC VS 19.39.33521 To view detailed results, visit: https://lab.dpdk.org/results/dashboard/patchsets/33244/ UNH-IOL DPDK Community Lab To manage your email subscriptions, visit: https://lab.dpdk.org/results/dashboard/preferences/subscriptions/