From mboxrd@z Thu Jan 1 00:00:00 1970 Return-Path: Received: from mails.dpdk.org (mails.dpdk.org [217.70.189.124]) by inbox.dpdk.org (Postfix) with ESMTP id DFEEA46805 for ; Tue, 27 May 2025 19:52:03 +0200 (CEST) Received: from mails.dpdk.org (localhost [127.0.0.1]) by mails.dpdk.org (Postfix) with ESMTP id B71944028D; Tue, 27 May 2025 19:52:03 +0200 (CEST) Received: from mail-pl1-f227.google.com (mail-pl1-f227.google.com [209.85.214.227]) by mails.dpdk.org (Postfix) with ESMTP id 9150B4028D for ; Tue, 27 May 2025 19:52:01 +0200 (CEST) Received: by mail-pl1-f227.google.com with SMTP id d9443c01a7336-231e98e46c0so30430105ad.3 for ; Tue, 27 May 2025 10:52:01 -0700 (PDT) DKIM-Signature: v=1; a=rsa-sha256; c=relaxed/relaxed; d=iol.unh.edu; s=unh-iol; t=1748368320; x=1748973120; darn=dpdk.org; h=references:in-reply-to:cc:to:from:subject:message-id:date:from:to :cc:subject:date:message-id:reply-to; bh=RsWIwYUh1/Z1lW6jdTEzbG+UFazIGih3N+gkTH3gVz4=; b=ENxBlRrN1TiMrw+tvu0Zwn9HwnPlVnrvzskQx5UGYGMlznj8cHhZFp5TWuuGSUc0m6 T5AgPUKsg0Q69BBDDqtqUF/SmjVtNBilGthlatBGx7vNPCuBUOcVg4cKIu6hf0HWN2Uw WeVWjzgVyxmW+6L9EV49xoPNFC9d/O1dR0UMw= X-Google-DKIM-Signature: v=1; a=rsa-sha256; c=relaxed/relaxed; d=1e100.net; s=20230601; t=1748368320; x=1748973120; h=references:in-reply-to:cc:to:from:subject:message-id:date :x-gm-message-state:from:to:cc:subject:date:message-id:reply-to; bh=RsWIwYUh1/Z1lW6jdTEzbG+UFazIGih3N+gkTH3gVz4=; b=F4+bVOFzFNtxNu3rOrjfiI9P0B6IqwH6Xs1s6L2NKEFova4YwD3MciOQEOOeT6gCV7 7Wua+M/Rp6FpKgwlk/m1IEi8tg1oe3z4P9gZfNE/DBKcE4NJrHucrRt/hIFcR08q9dLw HXEvSwRPJFGxKYLcSoQIicBHugyNbwpUsxMFf8/28fmJY/ZMZ/nX8kudW08O4xCW5DDk wWfErlMDHSKSKR1O7Z35yasne6rOdfAEsWxrJHZeqd/xZ3AXh7cFMebiZXa2I1a8DCy3 jthSAkzm70cV2j9wuezYIpZglDtqkF8NkM79ET60xex+CdJt9EKavd4fN9wTrcvXkLRs iXBg== X-Gm-Message-State: AOJu0YwSL5JA5H4am2MDR41Z17jJaHu/UK7pJLWWFkaqBG6HYC6oEWN8 nPEwicI8/NEifGw42DPKyq35r+3cY19fTunTHZdU2oZZ+iBf1G8kZqbA5VRiYo47lKL/9ZpL6t8 5O6OY1xYF9wuv4w6gXQ396O3e5WK66ryf1B8lRnUd/4i9w/mtvPcD+b6g0Q3F X-Gm-Gg: ASbGncuSvVMBnOeGkAFszi+IbM7Rem7UL2DQLh8O6PA5A278GdteTpvWchARXolSq1U ZeTb+XmAyUZ5Y0tPonfdiS2wyFkUvFn2wDAJw0t0skKP0VqD9kTe+8QVyzdUGLunzyI4SmNWTty UE35KWu6lQDe8b3jU0Lof8Ub3qsFISC2qdGkceD/rdqIlm653HwWFloli9IjiBQn+E4WbIucUOv xlFlnJoAh0wpTpRViUMoGHgUMD2AXJ1k8tMGPN+3f7YDafvcXs7If4LMbA86B9mDknDqvSSugGP ZtP1lQOHhGv7uYx4XK3G592fzkX/ElEDimCD X-Google-Smtp-Source: AGHT+IECUg8c7D0bHwB3M3+HM8+3cJ7hZa59nHRr36kskdBBVludJbgSTYs9kx5WITl+g3qZESSYx5W/bON6 X-Received: by 2002:a17:902:e80e:b0:22e:50e1:73e with SMTP id d9443c01a7336-23414f49fc9mr196385815ad.14.1748368320340; Tue, 27 May 2025 10:52:00 -0700 (PDT) Received: from postal.iol.unh.edu (postal.iol.unh.edu. [2606:4100:3880:1234::84]) by smtp-relay.gmail.com with ESMTPS id d9443c01a7336-2344ca7547csm3232385ad.15.2025.05.27.10.52.00 (version=TLS1_2 cipher=ECDHE-ECDSA-AES128-GCM-SHA256 bits=128/128); Tue, 27 May 2025 10:52:00 -0700 (PDT) X-Relaying-Domain: iol.unh.edu Date: Tue, 27 May 2025 10:52:00 -0700 (PDT) Message-ID: <6835fbc0.170a0220.1419b3.1396SMTPIN_ADDED_MISSING@mx.google.com> Received: from [172.17.0.2] (unknown [172.18.0.76]) by postal.iol.unh.edu (Postfix) with ESMTP id 823B76052471; Tue, 27 May 2025 13:51:59 -0400 (EDT) Subject: |SUCCESS| pw153770 [PATCH] [V4] Add new tracepoint function for type From: dpdklab@iol.unh.edu To: Test Report Cc: dpdk-test-reports@iol.unh.edu In-Reply-To: <20250527115503.1505921-1-changqing.li@windriver.com> References: <20250527115503.1505921-1-changqing.li@windriver.com> Content-Type: text/plain X-BeenThere: test-report@dpdk.org X-Mailman-Version: 2.1.29 Precedence: list List-Id: automatic DPDK test reports List-Unsubscribe: , List-Archive: List-Post: List-Help: List-Subscribe: , Errors-To: test-report-bounces@dpdk.org Test-Label: iol-unit-arm64-testing Test-Status: SUCCESS http://dpdk.org/patch/153770 _Testing PASS_ Submitter: Changqing Li Date: Tuesday, May 27 2025 11:55:03 DPDK git baseline: Repo:dpdk Branch: master CommitID:e1dc5240fef85730c2f25a6cbccf29358e3afe25 153770 --> testing pass Upstream job id: Generic-Unit-Test-DPDK#340827 Test environment and result as below: +-----------------------------+------------------------------+--------------+---------------------------+----------------+ | Environment | cryptodev_sw_snow3g_autotest | lpm_autotest | cryptodev_sw_zuc_autotest | dpdk_unit_test | +=============================+==============================+==============+===========================+================+ | Debian 12 (arm) | PASS | SKIPPED | PASS | PASS | +-----------------------------+------------------------------+--------------+---------------------------+----------------+ | Ubuntu 20.04 ARM SVE | SKIPPED | PASS | SKIPPED | SKIPPED | +-----------------------------+------------------------------+--------------+---------------------------+----------------+ | CentOS Stream 9 (ARM) | SKIPPED | SKIPPED | SKIPPED | PASS | +-----------------------------+------------------------------+--------------+---------------------------+----------------+ | CentOS Stream 10 (ARM) | SKIPPED | SKIPPED | SKIPPED | PASS | +-----------------------------+------------------------------+--------------+---------------------------+----------------+ | Fedora 40 (ARM Clang) | SKIPPED | SKIPPED | SKIPPED | PASS | +-----------------------------+------------------------------+--------------+---------------------------+----------------+ | Fedora 40 (ARM) | SKIPPED | SKIPPED | SKIPPED | PASS | +-----------------------------+------------------------------+--------------+---------------------------+----------------+ | Fedora 41 (ARM) | SKIPPED | SKIPPED | SKIPPED | PASS | +-----------------------------+------------------------------+--------------+---------------------------+----------------+ | Fedora 41 (ARM Clang) | SKIPPED | SKIPPED | SKIPPED | PASS | +-----------------------------+------------------------------+--------------+---------------------------+----------------+ | Ubuntu 22.04 (ARM) | SKIPPED | SKIPPED | SKIPPED | PASS | +-----------------------------+------------------------------+--------------+---------------------------+----------------+ | RHEL9 (ARM) | SKIPPED | SKIPPED | SKIPPED | PASS | +-----------------------------+------------------------------+--------------+---------------------------+----------------+ | Ubuntu 20.04 (ARM) | SKIPPED | SKIPPED | SKIPPED | PASS | +-----------------------------+------------------------------+--------------+---------------------------+----------------+ | Ubuntu 24.04 (ARM) | SKIPPED | SKIPPED | SKIPPED | PASS | +-----------------------------+------------------------------+--------------+---------------------------+----------------+ | 32-bit Ubuntu 22.04.4 (ARM) | SKIPPED | SKIPPED | SKIPPED | PASS | +-----------------------------+------------------------------+--------------+---------------------------+----------------+ Debian 12 (arm) Kernel: Depends on container host Compiler: gcc (Debian 12.2.0-14) 12.2.0 Ubuntu 20.04 ARM SVE Kernel: Depends on container host Compiler: gcc (Ubuntu 10.5.0-1ubuntu1~20.04) 10.5.0 CentOS Stream 9 (ARM) Kernel: Depends on container host Compiler: gcc 11.5.0 20240719 (Red Hat 11.5.0-2) CentOS Stream 10 (ARM) Kernel: Depends on container host Compiler: gcc 14.2.1 20241104 (Red Hat 14.2.1-6) Fedora 40 (ARM Clang) Kernel: Depends on container host Compiler: clang 18.1.8 (Fedora 18.1.8-1.fc40) Fedora 40 (ARM) Kernel: Depends on container host Compiler: gcc 14.2.1 20240912 (Red Hat 14.2.1-3) Fedora 41 (ARM) Kernel: Depends on container host Compiler: gcc 14.2.1 20240912 (Red Hat 14.2.1-3) Fedora 41 (ARM Clang) Kernel: Depends on container host Compiler: clang 19.1.5 (Fedora 19.1.5-1.fc41) Ubuntu 22.04 (ARM) Kernel: Depends on container host Compiler: gcc (Ubuntu 11.4.0-1ubuntu1~22.04) 11.4.0 RHEL9 (ARM) Kernel: Depends on container host Compiler: gcc 11.5.0 20240719 (Red Hat 11.5.0-2) Ubuntu 20.04 (ARM) Kernel: Depends on container host Compiler: gcc (Ubuntu 9.4.0-1ubuntu1~20.04.2) 9.4.0 Ubuntu 24.04 (ARM) Kernel: Depends on container host Compiler: gcc (Ubuntu 13.3.0-6ubuntu2~24.04) 13.3.0 32-bit Ubuntu 22.04.4 (ARM) Kernel: 5.15.83+ aarch64 Compiler: gcc (Ubuntu 11.4.0-1ubuntu1~22.04) 11.4.0 To view detailed results, visit: https://lab.dpdk.org/results/dashboard/patchsets/33250/ UNH-IOL DPDK Community Lab To manage your email subscriptions, visit: https://lab.dpdk.org/results/dashboard/preferences/subscriptions/