From mboxrd@z Thu Jan 1 00:00:00 1970 Return-Path: Received: from mails.dpdk.org (mails.dpdk.org [217.70.189.124]) by inbox.dpdk.org (Postfix) with ESMTP id AC9534680A for ; Wed, 28 May 2025 00:08:40 +0200 (CEST) Received: from mails.dpdk.org (localhost [127.0.0.1]) by mails.dpdk.org (Postfix) with ESMTP id 900894027A; Wed, 28 May 2025 00:08:40 +0200 (CEST) Received: from mail-qt1-f226.google.com (mail-qt1-f226.google.com [209.85.160.226]) by mails.dpdk.org (Postfix) with ESMTP id 4BA824027A for ; Wed, 28 May 2025 00:08:39 +0200 (CEST) Received: by mail-qt1-f226.google.com with SMTP id d75a77b69052e-48d71b77cc0so40972101cf.1 for ; Tue, 27 May 2025 15:08:39 -0700 (PDT) DKIM-Signature: v=1; a=rsa-sha256; c=relaxed/relaxed; d=iol.unh.edu; s=unh-iol; t=1748383718; x=1748988518; darn=dpdk.org; h=references:in-reply-to:cc:to:from:subject:message-id:date:from:to :cc:subject:date:message-id:reply-to; bh=YYyRDyb0/m/I969jmMLTFjQApnRwKh5bwtu41ZfQlSA=; b=WlZz4SEhSily9PEkzVhbNAb6QjRwOmiNTrI7EHw5TXprU9cnSdOPa0JIibYQeCkCtS LgNVuJKCv8jgO12Uewq71v6jpGcfZdtytvfT9kFZg+ZgTxEL4NisJtYNiMUDhh/pzbx+ XEOEtt/OnDWp6Khl95wlu0qE5ykpIXjvbpYsE= X-Google-DKIM-Signature: v=1; a=rsa-sha256; c=relaxed/relaxed; d=1e100.net; s=20230601; t=1748383718; x=1748988518; h=references:in-reply-to:cc:to:from:subject:message-id:date :x-gm-message-state:from:to:cc:subject:date:message-id:reply-to; bh=YYyRDyb0/m/I969jmMLTFjQApnRwKh5bwtu41ZfQlSA=; b=oSxnsZkPPMPGuJAiGMzY2NS66Oup6lrgFpgzL0Wn3weKzsDWM3HoOMl0FyBSVNkAFO 46oAJAAehWEyLUkogmo51GJxahWCHO82xe0bxwrUHE4pHRsLy6tuvJPbvVTH2XlfL2Bi NXKWf9QDYywW2Kokktb/o4rhZc0L7+3US0qpFkfhoG2QX5jepysspKGQ6ROsKO7q1Qbe ejW9g3/WYgOv2YZZz4mnhG14l5v2qr7nnSgHoBOzIFTThC7Ddp6eruq4CuKOxGI3u4f0 zen3IT9RtRd8eSpJpUvROyNG6fukfC8S0APZHCxBXnaDK57GOEyFSQYppNfuDgUOIEEK 6g4Q== X-Gm-Message-State: AOJu0Yy0PvXecFHBRvgmSxs5OxX76ci/HAUH6YWIYj6mOy5U6g4vbk1O UIoGxv0qcbnX1aJNdgKttiUZDO0tQ0PYEjju8hv3K5G623BgR1dd8MLxbPug7KKatWSOAh3/jcO orw/5vx+9sm2HkQmpp9taiPSCevohUObz8W20PQ49d1Og X-Gm-Gg: ASbGncuAUx0eiqKSPmQcDHf/8TmXpDGWVNCwPxRyFyKQBON/4Ow6uJeGN53BH/Zlt5d M7a63K52iD8FluUtSFYo+wIi7qTIavRyoy4MKLRJZe1VJDyW4cGvrymi+Q98OINq1CZnv9aTQtQ E6HeCreeeanLtF7N0dI/8hp5zorZ3XlK4gVPCSuhf6y85cWRcOhYtBfkH1oeLn1WhirjaItNdwn CBLI1DjO2dj0j6CcrW8PWa876v0XOAOOpDvsX98KFXZgCWjyB9GFBYX0LgmoPIhDRQdBKjYVXb9 tYV1vuEL29cXE6vGzruEuT1eY5evRNIm+hGb8VRzauOtxWftt2gMfSLZ18w= X-Google-Smtp-Source: AGHT+IHcUB7UWzpZAH4KOjpbmvGs0npXD5DR2MUPoD8fYclzqxfhCPTvO3/UsJrhZrJJ4pR5XeLy9qVq3cba X-Received: by 2002:a05:622a:1bac:b0:48d:50eb:91df with SMTP id d75a77b69052e-49f4655900dmr236614031cf.15.1748383718690; Tue, 27 May 2025 15:08:38 -0700 (PDT) Received: from postal.iol.unh.edu (postal.iol.unh.edu. [132.177.123.84]) by smtp-relay.gmail.com with ESMTPS id d75a77b69052e-4a2f925b388sm140161cf.5.2025.05.27.15.08.38 (version=TLS1_2 cipher=ECDHE-ECDSA-AES128-GCM-SHA256 bits=128/128); Tue, 27 May 2025 15:08:38 -0700 (PDT) X-Relaying-Domain: iol.unh.edu Date: Tue, 27 May 2025 15:08:38 -0700 (PDT) Message-ID: <683637e6.050a0220.48db8.0bb4SMTPIN_ADDED_MISSING@mx.google.com> Received: from [172.17.0.4] (unknown [172.18.0.74]) by postal.iol.unh.edu (Postfix) with ESMTP id 61E986052471; Tue, 27 May 2025 18:08:38 -0400 (EDT) Subject: |SUCCESS| pw153792 [PATCH] doc: fix anchors namespace in guides From: dpdklab@iol.unh.edu To: Test Report Cc: dpdk-test-reports@iol.unh.edu In-Reply-To: <20250527140435.21361-1-nandinipersad361@gmail.com> References: <20250527140435.21361-1-nandinipersad361@gmail.com> Content-Type: text/plain X-BeenThere: test-report@dpdk.org X-Mailman-Version: 2.1.29 Precedence: list List-Id: automatic DPDK test reports List-Unsubscribe: , List-Archive: List-Post: List-Help: List-Subscribe: , Errors-To: test-report-bounces@dpdk.org Test-Label: iol-abi-testing Test-Status: SUCCESS http://dpdk.org/patch/153792 _Testing PASS_ Submitter: Nandini Persad Date: Tuesday, May 27 2025 14:04:35 DPDK git baseline: Repo:dpdk Branch: master CommitID:f77eb8f3c655a2573aed77bea122d98efc12edef 153792 --> testing pass Upstream job id: Generic-DPDK-Compile-ABI#127749 Test environment and result as below: +-------------------+----------+ | Environment | abi_test | +===================+==========+ | CentOS Stream 10 | PASS | +-------------------+----------+ | CentOS Stream 9 | PASS | +-------------------+----------+ | Debian 12 | PASS | +-------------------+----------+ | Fedora 40 (Clang) | PASS | +-------------------+----------+ | Fedora 40 | PASS | +-------------------+----------+ | Fedora 41 (Clang) | PASS | +-------------------+----------+ | openSUSE Leap 15 | PASS | +-------------------+----------+ | Fedora 41 | PASS | +-------------------+----------+ | RHEL8 | PASS | +-------------------+----------+ | Ubuntu 22.04 | PASS | +-------------------+----------+ | Ubuntu 24.04 | PASS | +-------------------+----------+ | RHEL9 | PASS | +-------------------+----------+ CentOS Stream 10 Kernel: Depends on container host Compiler: gcc 14.2.1 20241104 (Red Hat 14.2.1-6) CentOS Stream 9 Kernel: Depends on container host Compiler: gcc 11.5.0 20240719 (Red Hat 11.5.0-2) Debian 12 Kernel: Depends on container host Compiler: gcc (Debian 12.2.0-14) 12.2.0 Fedora 40 (Clang) Kernel: Depends on container host Compiler: clang 18.1.8 (Fedora 18.1.8-1.fc40) Fedora 40 Kernel: Depends on container host Compiler: gcc 14.2.1 20240912 (Red Hat 14.2.1-3) Fedora 41 (Clang) Kernel: Depends on container host Compiler: clang 19.1.5 (Fedora 19.1.5-1.fc41) openSUSE Leap 15 Kernel: Depends on container host Compiler: gcc (SUSE Linux) 7.5.0 Fedora 41 Kernel: Depends on container host Compiler: gcc 14.2.1 20240912 (Red Hat 14.2.1-3) RHEL8 Kernel: Depends on container host Compiler: gcc 8.5.0 20210514 (Red Hat 8.5.0-22) Ubuntu 22.04 Kernel: Depends on container host Compiler: gcc (Ubuntu 11.4.0-1ubuntu1~22.04) 11.4.0 Ubuntu 24.04 Kernel: Depends on container host Compiler: gcc (Ubuntu 13.3.0-6ubuntu2~24.04) 13.3.0 RHEL9 Kernel: Depends on container host Compiler: gcc 11.5.0 20240719 (Red Hat 11.5.0-2) To view detailed results, visit: https://lab.dpdk.org/results/dashboard/patchsets/33255/ UNH-IOL DPDK Community Lab To manage your email subscriptions, visit: https://lab.dpdk.org/results/dashboard/preferences/subscriptions/