From mboxrd@z Thu Jan  1 00:00:00 1970
Return-Path: <test-report-bounces@dpdk.org>
Received: from mails.dpdk.org (mails.dpdk.org [217.70.189.124])
	by inbox.dpdk.org (Postfix) with ESMTP id 6D5CA467F6
	for <public@inbox.dpdk.org>; Wed, 28 May 2025 13:39:03 +0200 (CEST)
Received: from mails.dpdk.org (localhost [127.0.0.1])
	by mails.dpdk.org (Postfix) with ESMTP id 40F9740279;
	Wed, 28 May 2025 13:39:03 +0200 (CEST)
Received: from mail-il1-f227.google.com (mail-il1-f227.google.com
 [209.85.166.227])
 by mails.dpdk.org (Postfix) with ESMTP id 3560B40279
 for <test-report@dpdk.org>; Wed, 28 May 2025 13:39:02 +0200 (CEST)
Received: by mail-il1-f227.google.com with SMTP id
 e9e14a558f8ab-3dc9e3bd2e3so13275885ab.1
 for <test-report@dpdk.org>; Wed, 28 May 2025 04:39:02 -0700 (PDT)
DKIM-Signature: v=1; a=rsa-sha256; c=relaxed/relaxed;
 d=iol.unh.edu; s=unh-iol; t=1748432341; x=1749037141; darn=dpdk.org;
 h=references:in-reply-to:cc:to:from:subject:message-id:date:from:to
 :cc:subject:date:message-id:reply-to;
 bh=q3SgThHhdhk2qiwE1Rt2EILoBoJcYe/fCSOtx0pUeiQ=;
 b=T038UMtcm9mvOzFi0gW3Qn0lBTA/tMxacx3EiK5IT53r4I3B20xXGMVGXAZEY8NZ7Z
 ljVA5GY0Bhb1+rN3064UhEkR8owMT7Mhu3twq/V8nGUqRfkRAfXbSa0BmtYbWPq0We/S
 jvmOm5z67H3hkSsxJCTvYDJAwLnhXcqJXaS0c=
X-Google-DKIM-Signature: v=1; a=rsa-sha256; c=relaxed/relaxed;
 d=1e100.net; s=20230601; t=1748432341; x=1749037141;
 h=references:in-reply-to:cc:to:from:subject:message-id:date
 :x-gm-message-state:from:to:cc:subject:date:message-id:reply-to;
 bh=q3SgThHhdhk2qiwE1Rt2EILoBoJcYe/fCSOtx0pUeiQ=;
 b=LLQLgHDiusFWP+LYrOMkBioLLgvsv1VN6CpZEq6dgzz7mloQXPTbLHPi2OeGckUyFr
 y+CbXxhO37P1QLtxiPBT5qxIg14qEd6TUrq+UfoqY9RdfYx8iZKgxO2NRtyZiHOduob7
 ylfCpqnxk0V/ChGu9OtQYCLuANaY3CdNTgqaW4s6SlLMUxMjtohTzJcXyImODdAgETxr
 8thUvmB1s6NcayobEFCHffcYK4l39tKIX1zE30bxxwcMMbLOlOyFdLlCZKH4t00drC+h
 TFTavRp7jmmcTvSo7kjfeznWf7tmB3la477ty7bN34M3g+5Esx9rVoYNaAvXVCQwXIZ4
 8d5A==
X-Gm-Message-State: AOJu0YxpzxIkqUzYVsSN5pIm3/h2sT6LksuVtUeWBvo5DkJGgFnxfZhm
 F//qPXk4LBYMyMPeT+rKOAEwy6VIipG0yhCQt6JWZJizFrms6+A4kZF8KEPCg8ApwWqLv9q0kCT
 +SHjQT8X683JJT4bpfQR5F3T6V8P+yy6+mVT31KY29nqGxgZHe/D4yWszfeWv
X-Gm-Gg: ASbGnctoX0j1+IaTqkS65h+IUZJwcjz9iM5yB2ZtbWZrJND5pOBFUmQoCvinHMjg3dt
 Yxpx6DwLjpYpOGXU5Vs1J3lQ7y9jNE0uzRXhVnwdQ8T6sdu2kXj3mtG7+9bDrtdfG/Dd12JzRtO
 0yMDMwdZ6xxGnD9sVrvoy+JV4TdsRB5fD2wLzD4jj1OHD26PkKJE3IoK4R4Cfm2NYhmUN7kItCF
 JXMKTueo85G0R3qYJ3Y838TEjqZe7hNUWVUR1X37hBWfIcEu62YIrTM1peRgTU2AfKlZMANd6L9
 ktRASnauH3uoo0VuPN/G4gw5lBmw5xje2HLB
X-Google-Smtp-Source: AGHT+IHBUHtGse4yHy6oXnDPscMlvHRPSw3CgEvx/fgPLxIAHifOH4p4kUYiPhcwSqZKbP1sRQmqgUpyr+WD
X-Received: by 2002:a05:6e02:2589:b0:3dc:804b:2e74 with SMTP id
 e9e14a558f8ab-3dc9b706a1fmr130124425ab.19.1748432341342; 
 Wed, 28 May 2025 04:39:01 -0700 (PDT)
Received: from postal.iol.unh.edu (postal.iol.unh.edu.
 [2606:4100:3880:1234::84]) by smtp-relay.gmail.com with ESMTPS id
 8926c6da1cb9f-4fdbd4ca007sm36455173.42.2025.05.28.04.39.01
 (version=TLS1_2 cipher=ECDHE-ECDSA-AES128-GCM-SHA256 bits=128/128);
 Wed, 28 May 2025 04:39:01 -0700 (PDT)
X-Relaying-Domain: iol.unh.edu
Date: Wed, 28 May 2025 04:39:01 -0700 (PDT)
Message-ID: <6836f5d5.050a0220.1cf9d7.1fabSMTPIN_ADDED_MISSING@mx.google.com>
Received: from [172.17.0.5] (unknown [172.18.0.74])
 by postal.iol.unh.edu (Postfix) with ESMTP id B43C96052471;
 Wed, 28 May 2025 07:39:00 -0400 (EDT)
Subject: |WARNING| pw153782-153791 [PATCH] [v3,10/10] net/ice/base: update ve
From: dpdklab@iol.unh.edu
To: Test Report <test-report@dpdk.org>
Cc: dpdk-test-reports@iol.unh.edu
In-Reply-To: <20250527131741.7606-11-dhanya.r.pillai@intel.com>
References: <20250527131741.7606-11-dhanya.r.pillai@intel.com>
Content-Type: text/plain
X-BeenThere: test-report@dpdk.org
X-Mailman-Version: 2.1.29
Precedence: list
List-Id: automatic DPDK test reports <test-report.dpdk.org>
List-Unsubscribe: <https://mails.dpdk.org/options/test-report>,
 <mailto:test-report-request@dpdk.org?subject=unsubscribe>
List-Archive: <http://mails.dpdk.org/archives/test-report/>
List-Post: <mailto:test-report@dpdk.org>
List-Help: <mailto:test-report-request@dpdk.org?subject=help>
List-Subscribe: <https://mails.dpdk.org/listinfo/test-report>,
 <mailto:test-report-request@dpdk.org?subject=subscribe>
Errors-To: test-report-bounces@dpdk.org

Test-Label: iol-compile-amd64-testing
Test-Status: WARNING
http://dpdk.org/patch/153791

_Testing issues_

Submitter: Dhanya Pillai <dhanya.r.pillai@intel.com>
Date: Tuesday, May 27 2025 13:17:29 
DPDK git baseline: Repo:dpdk
  Branch: master
  CommitID:f77eb8f3c655a2573aed77bea122d98efc12edef

153782-153791 --> testing issues

Upstream job id: Windows-Compile-DPDK-VS#5835

Test environment and result as below:

+-----------------------------------+--------------------+-------------------+------------------+-------------------+
|            Environment            | dpdk_meson_compile | dpdk_compile_spdk | dpdk_compile_ovs | dpdk_msvc_compile |
+===================================+====================+===================+==================+===================+
| CentOS Stream 9                   | PASS               | PASS              | SKIPPED          | SKIPPED           |
+-----------------------------------+--------------------+-------------------+------------------+-------------------+
| CentOS Stream 10                  | PASS               | SKIPPED           | SKIPPED          | SKIPPED           |
+-----------------------------------+--------------------+-------------------+------------------+-------------------+
| Debian 12                         | PASS               | PASS              | SKIPPED          | SKIPPED           |
+-----------------------------------+--------------------+-------------------+------------------+-------------------+
| Fedora 41 (Clang)                 | PASS               | WARN              | PASS             | SKIPPED           |
+-----------------------------------+--------------------+-------------------+------------------+-------------------+
| Fedora 40 (Clang)                 | PASS               | WARN              | SKIPPED          | SKIPPED           |
+-----------------------------------+--------------------+-------------------+------------------+-------------------+
| Fedora 40                         | PASS               | PASS              | SKIPPED          | SKIPPED           |
+-----------------------------------+--------------------+-------------------+------------------+-------------------+
| Fedora 41                         | PASS               | PASS              | PASS             | SKIPPED           |
+-----------------------------------+--------------------+-------------------+------------------+-------------------+
| openSUSE Leap 15                  | PASS               | SKIPPED           | SKIPPED          | SKIPPED           |
+-----------------------------------+--------------------+-------------------+------------------+-------------------+
| RHEL8                             | PASS               | SKIPPED           | SKIPPED          | SKIPPED           |
+-----------------------------------+--------------------+-------------------+------------------+-------------------+
| RHEL9                             | PASS               | SKIPPED           | SKIPPED          | SKIPPED           |
+-----------------------------------+--------------------+-------------------+------------------+-------------------+
| Ubuntu 22.04                      | PASS               | PASS              | SKIPPED          | SKIPPED           |
+-----------------------------------+--------------------+-------------------+------------------+-------------------+
| Ubuntu 20.04                      | PASS               | SKIPPED           | SKIPPED          | SKIPPED           |
+-----------------------------------+--------------------+-------------------+------------------+-------------------+
| Ubuntu 24.04                      | PASS               | PASS              | PASS             | SKIPPED           |
+-----------------------------------+--------------------+-------------------+------------------+-------------------+
| Alpine                            | PASS               | SKIPPED           | SKIPPED          | SKIPPED           |
+-----------------------------------+--------------------+-------------------+------------------+-------------------+
| Ubuntu 24.04 32 Bit Cross Compile | PASS               | SKIPPED           | SKIPPED          | SKIPPED           |
+-----------------------------------+--------------------+-------------------+------------------+-------------------+
| FreeBSD 14.2                      | PASS               | SKIPPED           | SKIPPED          | SKIPPED           |
+-----------------------------------+--------------------+-------------------+------------------+-------------------+
| Windows Server 2022               | SKIPPED            | SKIPPED           | SKIPPED          | PASS              |
+-----------------------------------+--------------------+-------------------+------------------+-------------------+

==== 20 line log output for Fedora 40 (Clang) (dpdk_compile_spdk): ====
 --- Failed to get log output --- 
==== End log output ====

CentOS Stream 9
	Kernel: Depends on container host
	Compiler: gcc 11.5.0 20240719 (Red Hat 11.5.0-2)

CentOS Stream 10
	Kernel: Depends on container host
	Compiler: gcc 14.2.1 20241104 (Red Hat 14.2.1-6)

Debian 12
	Kernel: Depends on container host
	Compiler: gcc (Debian 12.2.0-14) 12.2.0

Fedora 41 (Clang)
	Kernel: Depends on container host
	Compiler: clang 19.1.5 (Fedora 19.1.5-1.fc41)

Fedora 40 (Clang)
	Kernel: Depends on container host
	Compiler: clang 18.1.8 (Fedora 18.1.8-1.fc40)

Fedora 40
	Kernel: Depends on container host
	Compiler: gcc 14.2.1 20240912 (Red Hat 14.2.1-3)

Fedora 41
	Kernel: Depends on container host
	Compiler: gcc 14.2.1 20240912 (Red Hat 14.2.1-3)

openSUSE Leap 15
	Kernel: Depends on container host
	Compiler: gcc (SUSE Linux) 7.5.0

RHEL8
	Kernel: Depends on container host
	Compiler: gcc 8.5.0 20210514 (Red Hat 8.5.0-22)

RHEL9
	Kernel: Depends on container host
	Compiler: gcc 11.5.0 20240719 (Red Hat 11.5.0-2)

Ubuntu 22.04
	Kernel: Depends on container host
	Compiler: gcc (Ubuntu 11.4.0-1ubuntu1~22.04) 11.4.0

Ubuntu 20.04
	Kernel: Depends on container host
	Compiler: gcc (Ubuntu 9.4.0-1ubuntu1~20.04.2) 9.4.0

Ubuntu 24.04
	Kernel: Depends on container host
	Compiler: gcc (Ubuntu 13.3.0-6ubuntu2~24.04) 13.3.0

Alpine
	Kernel: Depends on container host
	Compiler: gcc (Alpine 14.2.0) 14.2.0

Ubuntu 24.04 32 Bit Cross Compile
	Kernel: Depends on container host
	Compiler: gcc (Ubuntu 13.3.0-6ubuntu2~24.04) 13.3.0

FreeBSD 14.2
	Kernel: 14.2-RELEASE
	Compiler: clang 18.1.6

Windows Server 2022
	Kernel: 10.0.20348.2031
	Compiler: clang 15.0.7, gcc 14.1.0 (MinGW), and MSVC VS 19.39.33521

To view detailed results, visit:
https://lab.dpdk.org/results/dashboard/patchsets/33254/

UNH-IOL DPDK Community Lab

To manage your email subscriptions, visit: 
https://lab.dpdk.org/results/dashboard/preferences/subscriptions/