From mboxrd@z Thu Jan  1 00:00:00 1970
Return-Path: <test-report-bounces@dpdk.org>
Received: from mails.dpdk.org (mails.dpdk.org [217.70.189.124])
	by inbox.dpdk.org (Postfix) with ESMTP id DFEDB46818
	for <public@inbox.dpdk.org>; Thu, 29 May 2025 07:28:38 +0200 (CEST)
Received: from mails.dpdk.org (localhost [127.0.0.1])
	by mails.dpdk.org (Postfix) with ESMTP id ABD7D4003C;
	Thu, 29 May 2025 07:28:38 +0200 (CEST)
Received: from mail-pl1-f228.google.com (mail-pl1-f228.google.com
 [209.85.214.228])
 by mails.dpdk.org (Postfix) with ESMTP id A46BA4003C
 for <test-report@dpdk.org>; Thu, 29 May 2025 07:28:37 +0200 (CEST)
Received: by mail-pl1-f228.google.com with SMTP id
 d9443c01a7336-23461842024so5380205ad.0
 for <test-report@dpdk.org>; Wed, 28 May 2025 22:28:37 -0700 (PDT)
DKIM-Signature: v=1; a=rsa-sha256; c=relaxed/relaxed;
 d=iol.unh.edu; s=unh-iol; t=1748496516; x=1749101316; darn=dpdk.org;
 h=references:in-reply-to:cc:to:from:subject:message-id:date:from:to
 :cc:subject:date:message-id:reply-to;
 bh=8HjVY8cDnKiqdJjjcx45TxHuqFJYvOv8kT0YboKOzng=;
 b=XIsMHPIkz3QkEHNpCHVvPpK6pKHEOVB0Y4skwKCmi2xWqul2Tq4mFDliQUr2xiEV4n
 41sl7qWtYOP7kx2KhDURWJYd+bnRe8imsNQmnD/3FzVxTM9knYM+0kttGylxEhRQSGVF
 +xssmNzsHx6Ljg51vmYsep6dTGVcnR/f5Kf50=
X-Google-DKIM-Signature: v=1; a=rsa-sha256; c=relaxed/relaxed;
 d=1e100.net; s=20230601; t=1748496516; x=1749101316;
 h=references:in-reply-to:cc:to:from:subject:message-id:date
 :x-gm-message-state:from:to:cc:subject:date:message-id:reply-to;
 bh=8HjVY8cDnKiqdJjjcx45TxHuqFJYvOv8kT0YboKOzng=;
 b=llC4I3qKSQpxLDnpPbe/4toxbjBKjmESXs8lOcB72Qlnm/cJXl42OBFjidnGHuP4of
 NRdaW9lU0EqRCoo+zQ0RUzb4oYLZYYqC60YBfclJs1OKLaS5aWu12hjqbIyTfaLI5u+S
 ItQTQThU83zEXaOq1wEE0pNYsSc+Jd/zVJVc3VPXAuPcMO2AhV8D8pcCeX0gT8MAyOdF
 RspIG0tJpfvznCqqk76eVh3R0gxic4BJGwptx0jagoIGzCykz9GddZcW3GB6lguXu5A8
 NuDv2q6ZI+vgR6SbYQg4LRhdKVDmVQec3ZvdtFXi+FmZcc+7DKIB4NrZFcG705ObmWBH
 GaZw==
X-Gm-Message-State: AOJu0YxgylW3KBV4RzhoAzlJis8pNxZPtGsmz/FeFsMoSWTZXpOqbJp5
 GgvtCo198NqmwAkKbLZBoBg5vxriaeNGIyMU//N5u3AmxXZqbsll4Hn1LoqnXLugOhN8v1iM25E
 SNSUyy1y1o79+9tfv8zSBHL7jdAcu2csy5QDUceI5J7bpwyqC20XxcGxkLhsy
X-Gm-Gg: ASbGnctQBcGU92KQXg+6iOGQjMnmzOm4KKEv7yS8psv7tTvLSVXo66iK81QE8aAMkEy
 Isi9Zsk30qwazgyL9CA1JikDPE4L+5PxyFonMtnTsN/7i3eFn6wv83NcTL1hYpXPDQOm3Ia2+OF
 pzO5ESJdpHzL+0x74peOiJxLgxLa3iK8g+W0nxil4Kud8TW1MPwIaYExcH3rVdYo7/l0/b4WFXY
 4ut9y1bHjgmfNDM866ci2Ff7ny2jDvQ4H5OmZYKWQKARvRvP2jhFegjLASU0bZSoMTLfQZMP5nU
 2JfygCPME48aW1Rp/LfKWjb4rWWNBSnSNoH4
X-Google-Smtp-Source: AGHT+IFWUl1X0HEf9OmUSLl74N1Gkb5yXLz9+RHYBapa/mLvWyCZT0xonr1+4mZs1IPycfdHcxtXJSFRWSwN
X-Received: by 2002:a17:903:32cd:b0:235:779:edf0 with SMTP id
 d9443c01a7336-2350779f25amr14642225ad.50.1748496516336; 
 Wed, 28 May 2025 22:28:36 -0700 (PDT)
Received: from postal.iol.unh.edu (postal.iol.unh.edu.
 [2606:4100:3880:1234::84]) by smtp-relay.gmail.com with ESMTPS id
 d9443c01a7336-23506d51a1bsm451605ad.99.2025.05.28.22.28.36
 (version=TLS1_2 cipher=ECDHE-ECDSA-AES128-GCM-SHA256 bits=128/128);
 Wed, 28 May 2025 22:28:36 -0700 (PDT)
X-Relaying-Domain: iol.unh.edu
Date: Wed, 28 May 2025 22:28:36 -0700 (PDT)
Message-ID: <6837f084.170a0220.1f1de0.2660SMTPIN_ADDED_MISSING@mx.google.com>
Received: from [172.17.0.5] (unknown [172.18.0.74])
 by postal.iol.unh.edu (Postfix) with ESMTP id 7D58B6052471;
 Thu, 29 May 2025 01:28:35 -0400 (EDT)
Subject: |SUCCESS| pw153838 [PATCH] doc: update ABI reference version in exam
From: dpdklab@iol.unh.edu
To: Test Report <test-report@dpdk.org>
Cc: dpdk-test-reports@iol.unh.edu
In-Reply-To: <20250528233041.200373-1-stephen@networkplumber.org>
References: <20250528233041.200373-1-stephen@networkplumber.org>
Content-Type: text/plain
X-BeenThere: test-report@dpdk.org
X-Mailman-Version: 2.1.29
Precedence: list
List-Id: automatic DPDK test reports <test-report.dpdk.org>
List-Unsubscribe: <https://mails.dpdk.org/options/test-report>,
 <mailto:test-report-request@dpdk.org?subject=unsubscribe>
List-Archive: <http://mails.dpdk.org/archives/test-report/>
List-Post: <mailto:test-report@dpdk.org>
List-Help: <mailto:test-report-request@dpdk.org?subject=help>
List-Subscribe: <https://mails.dpdk.org/listinfo/test-report>,
 <mailto:test-report-request@dpdk.org?subject=subscribe>
Errors-To: test-report-bounces@dpdk.org

Test-Label: iol-abi-testing
Test-Status: SUCCESS
http://dpdk.org/patch/153838

_Testing PASS_

Submitter: Stephen Hemminger <stephen@networkplumber.org>
Date: Wednesday, May 28 2025 23:30:41 
DPDK git baseline: Repo:dpdk
  Branch: master
  CommitID:a633a128fd09ff1fc72312f4e4d1a9e0f73aa359

153838 --> testing pass

Upstream job id: Generic-DPDK-Compile-ABI#128017

Test environment and result as below:

+-------------------------------+----------+
|          Environment          | abi_test |
+===============================+==========+
| CentOS Stream 9               | PASS     |
+-------------------------------+----------+
| Fedora 40 (Clang)             | PASS     |
+-------------------------------+----------+
| CentOS Stream 10              | PASS     |
+-------------------------------+----------+
| Debian GNU/Linux 12           | PASS     |
+-------------------------------+----------+
| Fedora 41 (Clang)             | PASS     |
+-------------------------------+----------+
| Fedora 40                     | PASS     |
+-------------------------------+----------+
| Fedora 41                     | PASS     |
+-------------------------------+----------+
| openSUSE Leap 15.6            | PASS     |
+-------------------------------+----------+
| Ubuntu 24.04                  | PASS     |
+-------------------------------+----------+
| Red Hat Enterprise Linux 9.5  | PASS     |
+-------------------------------+----------+
| Red Hat Enterprise Linux 8.10 | PASS     |
+-------------------------------+----------+
| Ubuntu 22.04                  | PASS     |
+-------------------------------+----------+


CentOS Stream 9
	Kernel: Depends on container host
	Compiler: gcc 11.5.0 20240719 (Red Hat 11.5.0-2)

Fedora 40 (Clang)
	Kernel: Depends on container host
	Compiler: clang 18.1.8 (Fedora 18.1.8-1.fc40)

CentOS Stream 10
	Kernel: Depends on container host
	Compiler: gcc 14.2.1 20241104 (Red Hat 14.2.1-6)

Debian GNU/Linux 12
	Kernel: 5.15
	Compiler: gcc gcc (Debian 12.2.0-14) 12.2.0

Fedora 41 (Clang)
	Kernel: Depends on container host
	Compiler: clang 19.1.5 (Fedora 19.1.5-1.fc41)

Fedora 40
	Kernel: Depends on container host
	Compiler: gcc 14.2.1 20240912 (Red Hat 14.2.1-3)

Fedora 41
	Kernel: Depends on container host
	Compiler: gcc 14.2.1 20240912 (Red Hat 14.2.1-3)

openSUSE Leap 15.6
	Kernel: 5.15
	Compiler: gcc gcc (SUSE Linux) 7.5.0

Ubuntu 24.04
	Kernel: 5.15
	Compiler: gcc gcc (Ubuntu 13.3.0-6ubuntu2~24.04) 13.3.0

Red Hat Enterprise Linux 9.5
	Kernel: 5.15
	Compiler: gcc gcc (GCC) 11.5.0 20240719 (Red Hat 11.5.0-2)

Red Hat Enterprise Linux 8.10
	Kernel: 5.15
	Compiler: gcc gcc (GCC) 8.5.0 20210514 (Red Hat 8.5.0-22)

Ubuntu 22.04
	Kernel: 5.15
	Compiler: gcc gcc (Ubuntu 11.4.0-1ubuntu1~22.04) 11.4.0

To view detailed results, visit:
https://lab.dpdk.org/results/dashboard/patchsets/33273/

UNH-IOL DPDK Community Lab

To manage your email subscriptions, visit: 
https://lab.dpdk.org/results/dashboard/preferences/subscriptions/