From mboxrd@z Thu Jan  1 00:00:00 1970
Return-Path: <test-report-bounces@dpdk.org>
Received: from mails.dpdk.org (mails.dpdk.org [217.70.189.124])
	by inbox.dpdk.org (Postfix) with ESMTP id ED82146823
	for <public@inbox.dpdk.org>; Thu, 29 May 2025 16:16:12 +0200 (CEST)
Received: from mails.dpdk.org (localhost [127.0.0.1])
	by mails.dpdk.org (Postfix) with ESMTP id E7E094021F;
	Thu, 29 May 2025 16:16:12 +0200 (CEST)
Received: from mail-pg1-f225.google.com (mail-pg1-f225.google.com
 [209.85.215.225])
 by mails.dpdk.org (Postfix) with ESMTP id A3A114021F
 for <test-report@dpdk.org>; Thu, 29 May 2025 16:16:11 +0200 (CEST)
Received: by mail-pg1-f225.google.com with SMTP id
 41be03b00d2f7-b26f01c638fso899512a12.1
 for <test-report@dpdk.org>; Thu, 29 May 2025 07:16:11 -0700 (PDT)
DKIM-Signature: v=1; a=rsa-sha256; c=relaxed/relaxed;
 d=iol.unh.edu; s=unh-iol; t=1748528171; x=1749132971; darn=dpdk.org;
 h=references:in-reply-to:cc:to:from:subject:message-id:date:from:to
 :cc:subject:date:message-id:reply-to;
 bh=4PwIlZSMzlhfQP0FxbL8lUSmHWyvaiBzIV67FovfDYQ=;
 b=cxg3hbnYQUO2HFQNWFv2YVyRr6x0/mB/qN6SBxNXb6B7/KkZhQKedhRSL78GcK99Z2
 MsTsfNWIEWA0FL+ESmVVtiUe+mB1LrkLa/5fAp8lsR7eLKzaLy5CzlgxKinP9JjkEXDO
 AxHqCLn99zchAPl/VIqRveUmJhUJGYlAfW4NE=
X-Google-DKIM-Signature: v=1; a=rsa-sha256; c=relaxed/relaxed;
 d=1e100.net; s=20230601; t=1748528171; x=1749132971;
 h=references:in-reply-to:cc:to:from:subject:message-id:date
 :x-gm-message-state:from:to:cc:subject:date:message-id:reply-to;
 bh=4PwIlZSMzlhfQP0FxbL8lUSmHWyvaiBzIV67FovfDYQ=;
 b=gJBJkaXukSXl+nuelOXOeo1g9xII8n9WY1ACDKBMIbkf8BvMS93G5X34Gdha+QBWCZ
 k1UEt6bMZquX+4icjeQVeSf4f8XZ4DXO/YLSvG2+L7uQ1TLC0p2S0SAoKxmTdZM1hv1+
 dIS1nm0hJQfSK8kBX3klgvL2Un51W86HlAFgHoA0BR0oXPc0+xQ8RzRqD0F9ad35rq5x
 JCGX3WD4SHEfHJjW63j+gWlmnj2yOsgj9rB2Z5mkVhNywOYh0Tx99tpl0W2ypXI1KZcs
 r7feDQycgzLWU/qItoQmd7fi23SSlxWxcmh1ZkFiPaS/bA5ytfTQnbEfkDFBqnYq8jef
 t81w==
X-Gm-Message-State: AOJu0YyetS+YdR1odRdtEbii3yiPicbntxWwscNDeb8NDyugjwIJ9G/K
 51DYNNygnzh93Euli/J+SfPR9FnAywfNi9yj0ibUL6b4ACgRPSc+xSw6bYa/GBZruw58AbcSeIu
 Oufv3s2BYdhJGqzpC7ab1JRRSUXIfK1UUOtecGv5NGHTc1zIlMcZn6Qd09H5A
X-Gm-Gg: ASbGncvSkXVs3fu0ehfwLLgMmZAFC2oPyImLV2aigX3fftHUg6I9iI2DXNmTl4MQgjT
 T03wPgLANHcA36QrmuBlcCkWj6SLyDwI7AZVNPdczt9QB1mdmGNza6heCWiUNT5KqDlJBpQkWfG
 7ITH8KF2n0sZcUSnMDtnMVBbFmxc6MbOhejycWOGDArPckny35VvsON91PxOr44SvcPi6nVf7Gx
 i24FXAX+xWMho4Jk67xs8RJD10isTKOAc7lsehY2dcBJyUCBTdCDdQBS+7wAkaZ+RT9sh0DxRME
 Y5BHpiyeU8C+I8MLwvpMcpss7Boh4OB5XV/j
X-Google-Smtp-Source: AGHT+IF0FATX0W2zfNqgrm7IIM3vLh+avix1azHqMdachKJtfSFt4tV9ayOZwFelNOrvsNRWjw7jQm+d/E3D
X-Received: by 2002:a17:90b:5623:b0:30e:8c5d:8e4 with SMTP id
 98e67ed59e1d1-31110d886a1mr35759281a91.16.1748528170414; 
 Thu, 29 May 2025 07:16:10 -0700 (PDT)
Received: from postal.iol.unh.edu (postal.iol.unh.edu.
 [2606:4100:3880:1234::84]) by smtp-relay.gmail.com with ESMTPS id
 98e67ed59e1d1-3121bdad763sm89425a91.13.2025.05.29.07.16.10
 (version=TLS1_2 cipher=ECDHE-ECDSA-AES128-GCM-SHA256 bits=128/128);
 Thu, 29 May 2025 07:16:10 -0700 (PDT)
X-Relaying-Domain: iol.unh.edu
Date: Thu, 29 May 2025 07:16:10 -0700 (PDT)
Message-ID: <68386c2a.170a0220.257ccb.54d4SMTPIN_ADDED_MISSING@mx.google.com>
Received: from [172.21.0.6] (unknown [172.18.0.240])
 by postal.iol.unh.edu (Postfix) with ESMTP id E375B6052471;
 Thu, 29 May 2025 10:16:09 -0400 (EDT)
Subject: |SUCCESS| pw153825-153831 [PATCH] [7/7] doc: updates cnxk doc for ne
From: dpdklab@iol.unh.edu
To: Test Report <test-report@dpdk.org>
Cc: dpdk-test-reports@iol.unh.edu
In-Reply-To: <20250528115122.24052-7-rbhansali@marvell.com>
References: <20250528115122.24052-7-rbhansali@marvell.com>
Content-Type: text/plain
X-BeenThere: test-report@dpdk.org
X-Mailman-Version: 2.1.29
Precedence: list
List-Id: automatic DPDK test reports <test-report.dpdk.org>
List-Unsubscribe: <https://mails.dpdk.org/options/test-report>,
 <mailto:test-report-request@dpdk.org?subject=unsubscribe>
List-Archive: <http://mails.dpdk.org/archives/test-report/>
List-Post: <mailto:test-report@dpdk.org>
List-Help: <mailto:test-report-request@dpdk.org?subject=help>
List-Subscribe: <https://mails.dpdk.org/listinfo/test-report>,
 <mailto:test-report-request@dpdk.org?subject=subscribe>
Errors-To: test-report-bounces@dpdk.org

Test-Label: iol-compile-arm64-testing
Test-Status: SUCCESS
http://dpdk.org/patch/153831

_Testing PASS_

Submitter: Rahul Bhansali <rbhansali@marvell.com>
Date: Wednesday, May 28 2025 11:51:22 
DPDK git baseline: Repo:dpdk
  Branch: master
  CommitID:d0f30081805b9b798a059dd26287436018888064

153825-153831 --> testing pass

Upstream job id: Generic-DPDK-Compile-Meson#392383

Test environment and result as below:

+------------------------------+--------------------+
|         Environment          | dpdk_meson_compile |
+==============================+====================+
| Red Hat Enterprise Linux 9.5 | PASS               |
+------------------------------+--------------------+
| Ubuntu 20.04                 | PASS               |
+------------------------------+--------------------+
| Debian GNU/Linux 12          | PASS               |
+------------------------------+--------------------+
| Fedora 40 (ARM)              | PASS               |
+------------------------------+--------------------+
| Fedora 40 (ARM Clang)        | PASS               |
+------------------------------+--------------------+
| Fedora 41 (ARM)              | PASS               |
+------------------------------+--------------------+
| Fedora 41 (ARM Clang)        | PASS               |
+------------------------------+--------------------+
| Ubuntu 22.04                 | PASS               |
+------------------------------+--------------------+
| Ubuntu 24.04                 | PASS               |
+------------------------------+--------------------+
| CentOS Stream 9 (ARM)        | PASS               |
+------------------------------+--------------------+
| CentOS Stream 10 (ARM)       | PASS               |
+------------------------------+--------------------+


Red Hat Enterprise Linux 9.5
	Kernel: 5.4
	Compiler: gcc gcc (GCC) 11.5.0 20240719 (Red Hat 11.5.0-2)

Ubuntu 20.04
	Kernel: 5.15
	Compiler: aarch64-linux-gnu-gcc gcc (Ubuntu 9.4.0-1ubuntu1~20.04.2) 9.4.0

Debian GNU/Linux 12
	Kernel: 5.4
	Compiler: gcc gcc (Debian 12.2.0-14) 12.2.0

Fedora 40 (ARM)
	Kernel: Depends on container host
	Compiler: gcc 14.2.1 20240912 (Red Hat 14.2.1-3)

Fedora 40 (ARM Clang)
	Kernel: Depends on container host
	Compiler: clang 18.1.8 (Fedora 18.1.8-1.fc40)

Fedora 41 (ARM)
	Kernel: Depends on container host
	Compiler: gcc 14.2.1 20240912 (Red Hat 14.2.1-3)

Fedora 41 (ARM Clang)
	Kernel: Depends on container host
	Compiler: clang 19.1.5 (Fedora 19.1.5-1.fc41)

Ubuntu 22.04
	Kernel: 5.4
	Compiler: gcc gcc (Ubuntu 11.4.0-1ubuntu1~22.04) 11.4.0

Ubuntu 24.04
	Kernel: 5.4
	Compiler: gcc gcc (Ubuntu 13.3.0-6ubuntu2~24.04) 13.3.0

CentOS Stream 9 (ARM)
	Kernel: Depends on container host
	Compiler: gcc 11.5.0 20240719 (Red Hat 11.5.0-2)

CentOS Stream 10 (ARM)
	Kernel: Depends on container host
	Compiler: gcc 14.2.1 20241104 (Red Hat 14.2.1-6)

To view detailed results, visit:
https://lab.dpdk.org/results/dashboard/patchsets/33268/

UNH-IOL DPDK Community Lab

To manage your email subscriptions, visit: 
https://lab.dpdk.org/results/dashboard/preferences/subscriptions/