From mboxrd@z Thu Jan 1 00:00:00 1970 Return-Path: Received: from mails.dpdk.org (mails.dpdk.org [217.70.189.124]) by inbox.dpdk.org (Postfix) with ESMTP id ED03A46823 for ; Thu, 29 May 2025 16:46:23 +0200 (CEST) Received: from mails.dpdk.org (localhost [127.0.0.1]) by mails.dpdk.org (Postfix) with ESMTP id C09D94021F; Thu, 29 May 2025 16:46:23 +0200 (CEST) Received: from mail-pg1-f228.google.com (mail-pg1-f228.google.com [209.85.215.228]) by mails.dpdk.org (Postfix) with ESMTP id 87BCC4021F for ; Thu, 29 May 2025 16:46:22 +0200 (CEST) Received: by mail-pg1-f228.google.com with SMTP id 41be03b00d2f7-b2c40a7ca6eso1046903a12.1 for ; Thu, 29 May 2025 07:46:22 -0700 (PDT) DKIM-Signature: v=1; a=rsa-sha256; c=relaxed/relaxed; d=iol.unh.edu; s=unh-iol; t=1748529981; x=1749134781; darn=dpdk.org; h=references:in-reply-to:cc:to:from:subject:message-id:date:from:to :cc:subject:date:message-id:reply-to; bh=jbZO1V+44Dhjsxnst9EQvUUz2io69PLlKzPlNuG9M5k=; b=VmVpqan78+j0/WX7p131mUOUzx7S1NrsdLH4eGtnLw1ioyqQC9NH36F8mKGOHtVTwG qQSUb5Tj247gYXJtN6n/DmAiHSAvl9dj8uUoajAfwwesmGcV8BGRsmeUOM7BQ7MFPMQg 4dtQRQsXp7IhoaHVbOu+87lpT2mFGmd+6It5E= X-Google-DKIM-Signature: v=1; a=rsa-sha256; c=relaxed/relaxed; d=1e100.net; s=20230601; t=1748529981; x=1749134781; h=references:in-reply-to:cc:to:from:subject:message-id:date :x-gm-message-state:from:to:cc:subject:date:message-id:reply-to; bh=jbZO1V+44Dhjsxnst9EQvUUz2io69PLlKzPlNuG9M5k=; b=Sd62SvWvUUBlLhTL4OvAE7MutBl+lCoS/Rq1tl4c1yMd6W3za2ctzCl4c7hemWXs// r9xPCnZ2nS82nhdyKf97QAO3IdeYV25wzNLNgu0q8kGIeqtBSGk6UZbv0n4xZfCK1rB/ J7m5P2ehOLizD3XAqgq6C0Xo0FOzctc/QYWGrugA+cuRZVkRuW3bQHmw/Eog2jJ6KViF vG13l/THpKAhm88YKXV/lg81c5HQ6NtIoAkOGYuaJokuGES2jaA4dnq+mxGGs517+D7S yq1DA3NagbRGsA1q1xMioXW1mLQ6vVeqZYDohtCPMAs2lZGVsmNkayNw9n7uG4ia3vGC Ew+g== X-Gm-Message-State: AOJu0Yw26uABH9/KM+D2HDu6LWiab05a6sWukS7E6N1NZH+WWKzo4mZn 94uW5k96RyZv0nKHPycm6xAFaK2UDlVNuqCeZGJrGeiGd8Qb48WEaCmIy3TpNjVB1zEunrqB1nO RFPr3A5JSK5UA8YkVOPicHWJ3qKel8hMABD0oFWx9K3V3zLcEToUouvoFicX3 X-Gm-Gg: ASbGncspsIDOOdqD0APxWtyAgbPYr/4oWUJFL+VfNHAhsu9GaI9fDz2RKFhxpIkhvnz pwJA1AiqRwhawbHHxoqd6j/UvDAujvGzEIZbz5h/z27amv/5+H26n1zi76duLzxWF3Pg+KTGB03 tmsmeReHgDnSIOlmpFySfMf/Krl5FN8i64vjhpaiyCR7hk60VQvncoml+0CSLQXdxei9EZirYdO yVAdF/3X3dLB64pNsJuU/hv6UoIXqV5u7zb19AwRKV8WnHyxMuAeXXqVtlY49rVjl7RIwfSkjhI sxG2sWL6UYPnfMuRw60/jTZhlg3hKShem2lm X-Google-Smtp-Source: AGHT+IFq5TiS11fGqDuabtDPkCLjXHGy8k8gwnLW1hxTzlfqkpFVT9fv9+67OQhH1IaUAPB83GJbdXKYMgcP X-Received: by 2002:a17:903:1a04:b0:234:8f5d:e3b6 with SMTP id d9443c01a7336-23507fd74f1mr31008365ad.3.1748529981268; Thu, 29 May 2025 07:46:21 -0700 (PDT) Received: from postal.iol.unh.edu (postal.iol.unh.edu. [2606:4100:3880:1234::84]) by smtp-relay.gmail.com with ESMTPS id d9443c01a7336-23506c32977sm904405ad.58.2025.05.29.07.46.21 (version=TLS1_2 cipher=ECDHE-ECDSA-AES128-GCM-SHA256 bits=128/128); Thu, 29 May 2025 07:46:21 -0700 (PDT) X-Relaying-Domain: iol.unh.edu Date: Thu, 29 May 2025 07:46:21 -0700 (PDT) Message-ID: <6838733d.170a0220.3bb7e0.4e3fSMTPIN_ADDED_MISSING@mx.google.com> Received: from [172.21.0.5] (unknown [172.18.0.240]) by postal.iol.unh.edu (Postfix) with ESMTP id B6D8D6052471; Thu, 29 May 2025 10:46:20 -0400 (EDT) Subject: |SUCCESS| pw153839 [PATCH] ethdev: fix null error struct in flow con From: dpdklab@iol.unh.edu To: Test Report Cc: dpdk-test-reports@iol.unh.edu In-Reply-To: <20250529055612.115265-1-mkashani@nvidia.com> References: <20250529055612.115265-1-mkashani@nvidia.com> Content-Type: text/plain X-BeenThere: test-report@dpdk.org X-Mailman-Version: 2.1.29 Precedence: list List-Id: automatic DPDK test reports List-Unsubscribe: , List-Archive: List-Post: List-Help: List-Subscribe: , Errors-To: test-report-bounces@dpdk.org Test-Label: iol-abi-testing Test-Status: SUCCESS http://dpdk.org/patch/153839 _Testing PASS_ Submitter: Maayan Kashani Date: Thursday, May 29 2025 05:56:10 DPDK git baseline: Repo:dpdk Branch: master CommitID:466db466e2938c0d4e7f3dd75435483133f98770 153839 --> testing pass Upstream job id: Generic-DPDK-Compile-ABI#128113 Test environment and result as below: +-------------------------------+----------+ | Environment | abi_test | +===============================+==========+ | CentOS Stream 9 | PASS | +-------------------------------+----------+ | CentOS Stream 10 | PASS | +-------------------------------+----------+ | Debian GNU/Linux 12 | PASS | +-------------------------------+----------+ | Fedora 40 (Clang) | PASS | +-------------------------------+----------+ | Fedora 40 | PASS | +-------------------------------+----------+ | Red Hat Enterprise Linux 8.10 | PASS | +-------------------------------+----------+ | Fedora 41 | PASS | +-------------------------------+----------+ | openSUSE Leap 15.6 | PASS | +-------------------------------+----------+ | Fedora 41 (Clang) | PASS | +-------------------------------+----------+ | Ubuntu 22.04 | PASS | +-------------------------------+----------+ | Ubuntu 24.04 | PASS | +-------------------------------+----------+ CentOS Stream 9 Kernel: Depends on container host Compiler: gcc 11.5.0 20240719 (Red Hat 11.5.0-2) CentOS Stream 10 Kernel: Depends on container host Compiler: gcc 14.2.1 20241104 (Red Hat 14.2.1-6) Debian GNU/Linux 12 Kernel: 5.15 Compiler: gcc gcc (Debian 12.2.0-14) 12.2.0 Fedora 40 (Clang) Kernel: Depends on container host Compiler: clang 18.1.8 (Fedora 18.1.8-1.fc40) Fedora 40 Kernel: Depends on container host Compiler: gcc 14.2.1 20240912 (Red Hat 14.2.1-3) Red Hat Enterprise Linux 8.10 Kernel: 5.15 Compiler: gcc gcc (GCC) 8.5.0 20210514 (Red Hat 8.5.0-22) Fedora 41 Kernel: Depends on container host Compiler: gcc 14.2.1 20240912 (Red Hat 14.2.1-3) openSUSE Leap 15.6 Kernel: 5.15 Compiler: gcc gcc (SUSE Linux) 7.5.0 Fedora 41 (Clang) Kernel: Depends on container host Compiler: clang 19.1.5 (Fedora 19.1.5-1.fc41) Ubuntu 22.04 Kernel: 5.15 Compiler: gcc gcc (Ubuntu 11.4.0-1ubuntu1~22.04) 11.4.0 Ubuntu 24.04 Kernel: 5.15 Compiler: gcc gcc (Ubuntu 13.3.0-6ubuntu2~24.04) 13.3.0 To view detailed results, visit: https://lab.dpdk.org/results/dashboard/patchsets/33274/ UNH-IOL DPDK Community Lab To manage your email subscriptions, visit: https://lab.dpdk.org/results/dashboard/preferences/subscriptions/