From mboxrd@z Thu Jan 1 00:00:00 1970 Return-Path: Received: from mails.dpdk.org (mails.dpdk.org [217.70.189.124]) by inbox.dpdk.org (Postfix) with ESMTP id 50D9746824 for ; Thu, 29 May 2025 19:01:16 +0200 (CEST) Received: from mails.dpdk.org (localhost [127.0.0.1]) by mails.dpdk.org (Postfix) with ESMTP id 2F81140275; Thu, 29 May 2025 19:01:16 +0200 (CEST) Received: from mail-oa1-f98.google.com (mail-oa1-f98.google.com [209.85.160.98]) by mails.dpdk.org (Postfix) with ESMTP id CA9C74067D for ; Thu, 29 May 2025 19:01:14 +0200 (CEST) Received: by mail-oa1-f98.google.com with SMTP id 586e51a60fabf-2e4bbd9cad6so634169fac.0 for ; Thu, 29 May 2025 10:01:14 -0700 (PDT) DKIM-Signature: v=1; a=rsa-sha256; c=relaxed/relaxed; d=iol.unh.edu; s=unh-iol; t=1748538074; x=1749142874; darn=dpdk.org; h=references:in-reply-to:cc:to:from:subject:message-id:date:from:to :cc:subject:date:message-id:reply-to; bh=r8o0N3j2uRsrd9VmNUAwkcMKUi/LVMzaTSyQWYFgmKE=; b=WA/mzs04c6xrEYswt+BlWM7Q1ZJTbrarp2DivMiE4SV9EKJOc7aZJYl+KlTNnN463H dtzk2/N16kbulyv6JeU7AYjgmcU1in147nvD53g3826f+w2U/e2L3ejCqVWt7n9KVAzy E72Mn8BuwN11uksQSGIBoBPWjErhLtEF0BOms= X-Google-DKIM-Signature: v=1; a=rsa-sha256; c=relaxed/relaxed; d=1e100.net; s=20230601; t=1748538074; x=1749142874; h=references:in-reply-to:cc:to:from:subject:message-id:date :x-gm-message-state:from:to:cc:subject:date:message-id:reply-to; bh=r8o0N3j2uRsrd9VmNUAwkcMKUi/LVMzaTSyQWYFgmKE=; b=kYIXye/ti89Ria0meUzU8Btaj9Gl9ixPAoPAMdywxPJrxmfHBmtjl4IxdZoS4Z1Qpu oVNLpcxyZFqMnDQ8MLTyvig9T3Axf2lgGTYU3v7+gc2LzMOiAbncPj4E2n07jkbT9s0G mGKfR6u1SzmOlWDm97SdSKr/UaCrdWt0Vm2yp5kJDOvkVRMW9Y41tk6vF/NvtGo49qw8 qGjEvO2fjsTTrTowhakGOAUQ4xGoFfzcTkBZLMROlSCv3l8YQhbW/6pcmh06QqUehzs2 6LYqEr1GZoL2g3YQKDVsLh3E+oEo0WfZB7LdCPILBH3K39c3FpfEX8+vxts9FzeHRoY0 P8mg== X-Gm-Message-State: AOJu0YzBB1wKmX9Q4JsReS60dyZd6ctA1SA4Ap0+Bfz74deJOnntnNc9 p5Bo4V24YLHpIoqkLYZCA8nrKsZWL6wA0ltEk4zKLrcsD2UUeSxKbjAX1QfoXgrZwVBTxujGv9u G6Zw2hAj/b9I1c3o1bojVsWvgpxCxul6VNQmQB13OTVxq9GwvdzqQCdvjYcuY X-Gm-Gg: ASbGncuLyJ8hq+IXrQqxENRQBopCKT/m8VvPFbTAYb4dLjDKqy5Q5GASy7YrTzaV2D8 AAPord+f8Klr1GPk4ZFCzt4URRcOlSOwXagUsDBGkSwrQiMihZyKYfSvN7AShTt/Gjxwy+9cI6F AEIGEMQb1XOLDnVIVsC/zrJvZJH2VaOH4jSVUCtZA7zoywY+d8JKfL9L1Iv7p/L0FcTc/6yOA3c acWVk37rDdFScsZAzLmqA1+tciK30pt3rMb4A20DCqFgydLby6u8T2fuVru9CbGmReTX0cALJav sZ71cmiwx0ZikFBwm4ypE5Wtjbjz9tCltzmg X-Google-Smtp-Source: AGHT+IH5Pi67yeBtu6Ps7CUHhUtugqRRTKPMhBpHgo9m31HqQAp6k4PApA2xstumqB4BkS97E+22B64D1ZzG X-Received: by 2002:a05:6871:878f:b0:2c2:3eb4:e53 with SMTP id 586e51a60fabf-2e9216a6b5emr22890fac.37.1748538073758; Thu, 29 May 2025 10:01:13 -0700 (PDT) Received: from postal.iol.unh.edu (postal.iol.unh.edu. [2606:4100:3880:1234::84]) by smtp-relay.gmail.com with ESMTPS id 586e51a60fabf-2e906791a62sm86277fac.10.2025.05.29.10.01.13 (version=TLS1_2 cipher=ECDHE-ECDSA-AES128-GCM-SHA256 bits=128/128); Thu, 29 May 2025 10:01:13 -0700 (PDT) X-Relaying-Domain: iol.unh.edu Date: Thu, 29 May 2025 10:01:13 -0700 (PDT) Message-ID: <683892d9.050a0220.3d1bd7.49f5SMTPIN_ADDED_MISSING@mx.google.com> Received: from [172.17.0.3] (unknown [172.18.0.76]) by postal.iol.unh.edu (Postfix) with ESMTP id 3F0B36052471; Thu, 29 May 2025 13:01:13 -0400 (EDT) Subject: |SUCCESS| pw153839 [PATCH] ethdev: fix null error struct in flow con From: dpdklab@iol.unh.edu To: Test Report Cc: dpdk-test-reports@iol.unh.edu In-Reply-To: <20250529055612.115265-1-mkashani@nvidia.com> References: <20250529055612.115265-1-mkashani@nvidia.com> Content-Type: text/plain X-BeenThere: test-report@dpdk.org X-Mailman-Version: 2.1.29 Precedence: list List-Id: automatic DPDK test reports List-Unsubscribe: , List-Archive: List-Post: List-Help: List-Subscribe: , Errors-To: test-report-bounces@dpdk.org Test-Label: iol-abi-testing Test-Status: SUCCESS http://dpdk.org/patch/153839 _Testing PASS_ Submitter: Maayan Kashani Date: Thursday, May 29 2025 05:56:10 DPDK git baseline: Repo:dpdk Branch: master CommitID:466db466e2938c0d4e7f3dd75435483133f98770 153839 --> testing pass Upstream job id: Generic-DPDK-Compile-ABI#128127 Test environment and result as below: +-------------------------------+----------+ | Environment | abi_test | +===============================+==========+ | CentOS Stream 9 | PASS | +-------------------------------+----------+ | Debian GNU/Linux 12 | PASS | +-------------------------------+----------+ | CentOS Stream 10 | PASS | +-------------------------------+----------+ | Fedora 40 (Clang) | PASS | +-------------------------------+----------+ | Fedora 41 (Clang) | PASS | +-------------------------------+----------+ | Fedora 40 | PASS | +-------------------------------+----------+ | Fedora 41 | PASS | +-------------------------------+----------+ | openSUSE Leap 15.6 | PASS | +-------------------------------+----------+ | Ubuntu 24.04 | PASS | +-------------------------------+----------+ | Red Hat Enterprise Linux 9.5 | PASS | +-------------------------------+----------+ | Ubuntu 22.04 | PASS | +-------------------------------+----------+ | Red Hat Enterprise Linux 8.10 | PASS | +-------------------------------+----------+ CentOS Stream 9 Kernel: Depends on container host Compiler: gcc 11.5.0 20240719 (Red Hat 11.5.0-2) Debian GNU/Linux 12 Kernel: 5.15 Compiler: gcc gcc (Debian 12.2.0-14) 12.2.0 CentOS Stream 10 Kernel: Depends on container host Compiler: gcc 14.2.1 20241104 (Red Hat 14.2.1-6) Fedora 40 (Clang) Kernel: Depends on container host Compiler: clang 18.1.8 (Fedora 18.1.8-1.fc40) Fedora 41 (Clang) Kernel: Depends on container host Compiler: clang 19.1.5 (Fedora 19.1.5-1.fc41) Fedora 40 Kernel: Depends on container host Compiler: gcc 14.2.1 20240912 (Red Hat 14.2.1-3) Fedora 41 Kernel: Depends on container host Compiler: gcc 14.2.1 20240912 (Red Hat 14.2.1-3) openSUSE Leap 15.6 Kernel: 5.15 Compiler: gcc gcc (SUSE Linux) 7.5.0 Ubuntu 24.04 Kernel: 5.15 Compiler: gcc gcc (Ubuntu 13.3.0-6ubuntu2~24.04) 13.3.0 Red Hat Enterprise Linux 9.5 Kernel: 5.15 Compiler: gcc gcc (GCC) 11.5.0 20240719 (Red Hat 11.5.0-2) Ubuntu 22.04 Kernel: 5.15 Compiler: gcc gcc (Ubuntu 11.4.0-1ubuntu1~22.04) 11.4.0 Red Hat Enterprise Linux 8.10 Kernel: 5.15 Compiler: gcc gcc (GCC) 8.5.0 20210514 (Red Hat 8.5.0-22) To view detailed results, visit: https://lab.dpdk.org/results/dashboard/patchsets/33274/ UNH-IOL DPDK Community Lab To manage your email subscriptions, visit: https://lab.dpdk.org/results/dashboard/preferences/subscriptions/