From mboxrd@z Thu Jan 1 00:00:00 1970 Return-Path: Received: from mails.dpdk.org (mails.dpdk.org [217.70.189.124]) by inbox.dpdk.org (Postfix) with ESMTP id 908EA46824 for ; Thu, 29 May 2025 19:03:04 +0200 (CEST) Received: from mails.dpdk.org (localhost [127.0.0.1]) by mails.dpdk.org (Postfix) with ESMTP id 8A6B940275; Thu, 29 May 2025 19:03:04 +0200 (CEST) Received: from mail-qv1-f97.google.com (mail-qv1-f97.google.com [209.85.219.97]) by mails.dpdk.org (Postfix) with ESMTP id E04A940275 for ; Thu, 29 May 2025 19:03:02 +0200 (CEST) Received: by mail-qv1-f97.google.com with SMTP id 6a1803df08f44-6f8a70fe146so19385106d6.0 for ; Thu, 29 May 2025 10:03:02 -0700 (PDT) DKIM-Signature: v=1; a=rsa-sha256; c=relaxed/relaxed; d=iol.unh.edu; s=unh-iol; t=1748538182; x=1749142982; darn=dpdk.org; h=references:in-reply-to:cc:to:from:subject:message-id:date:from:to :cc:subject:date:message-id:reply-to; bh=/icF48eCT3F59BAWr8u+/GwOfdkeBf1AR7DkehUJb1w=; b=hnYXWIiFAaHaKESX3zcWZBp6jM5XFC35EI6xmWwbOLblxHtf4DlFy07eCAsMVBMjMj 9E+FvqirIgbxscvcQtmsibTkCRq8qWVFCss5/Hm8tZi++vLuBBr9I/qR6yy1nrNS0mUK KU2FQK3twL6eMS1Sqy74iG42rDDxE/GLnHMac= X-Google-DKIM-Signature: v=1; a=rsa-sha256; c=relaxed/relaxed; d=1e100.net; s=20230601; t=1748538182; x=1749142982; h=references:in-reply-to:cc:to:from:subject:message-id:date :x-gm-message-state:from:to:cc:subject:date:message-id:reply-to; bh=/icF48eCT3F59BAWr8u+/GwOfdkeBf1AR7DkehUJb1w=; b=LRJp7VnVNDpwgxV+2YyfVMkf3NQxIDTj9ZniBJZRRRfryCnY0MYNdNh/TUcHkhWWv9 8BW//FRagnhsB+ETb53/5TontqflBJE6keOvDi3tCgxphA+wzkbZscKvg1QLkROHRVVh Lf7fHcYd0FfBj4o55vxbZ1gL7JMHznW9J/ob3GkNowYAs6Q94CC6Tu8KQwjNe3akNsG8 SQ8PfCiMJmlasKVi+hAERiEdft1JRIaH3vGrznbVOwNmEX0jKqbO3ATGfWjIToySJ/h3 jaQvWWoAegOCsyxZZlbeJVVutp8lgkyz/j7F6l7Fua/hoX4S9VAnro9lYsTA81bQNllg WObw== X-Gm-Message-State: AOJu0Ywhsq2z2d2GMf1sc4moLJ9t7GnAyf1UKUaszoowR4XRlDoYi2Ui SuAnl6IDIVRzTUr3vU/N52sAEvbXXIvQS61VDRYxoHJUZoxLO5/awD8DR61MuJhtxgxJk2fRdRZ Vmnx1OUvrj9YZPmhAqO6GrsEMujD0oV4gGQxW+pKGD98k X-Gm-Gg: ASbGncvNXzVwHx50eW90F6JOCquZgu1l0jZnqs2AREvzO3EL7ODOOPgl9oCuFdKIhI2 hYqCpSAK319JhRiRGQcQakCSnaZUf04OX+Z+IXy8EELzeL0zzdO1OSyJ0hD5VsZrLqVlBbV3dHX hYWF8s1aePH4qfpQ0ijWmL/+S0AlTG7tZKv1fm2kmEG1D/RWvu/XYPTpnqzLwoSbjP/11FhRSlI 44s7+nbYMzBRCD75SwGupfhHO9JuVJ1XBg45EOAz23yCudrDvX5NnqJ0sKBo2+Mg0+YJPP8A1wt +n72GnZzkPsTU/F/lC1ojUDjA5InwleHt6o+FhBvHma4Ouq0EnEJWmcda4Y= X-Google-Smtp-Source: AGHT+IEK2waUky6l4u25UumBsMqDxpi13cemQxI1iUQL15DIoHiHJQvSMG3GCoe7I2wkcwiRobXxmfI6RPap X-Received: by 2002:ad4:4ea5:0:b0:6fa:cdc9:8b09 with SMTP id 6a1803df08f44-6faceb4a9d0mr6063026d6.6.1748538182097; Thu, 29 May 2025 10:03:02 -0700 (PDT) Received: from postal.iol.unh.edu (postal.iol.unh.edu. [132.177.123.84]) by smtp-relay.gmail.com with ESMTPS id 6a1803df08f44-6fac6f4820esm941906d6.62.2025.05.29.10.03.02 (version=TLS1_2 cipher=ECDHE-ECDSA-AES128-GCM-SHA256 bits=128/128); Thu, 29 May 2025 10:03:02 -0700 (PDT) X-Relaying-Domain: iol.unh.edu Date: Thu, 29 May 2025 10:03:02 -0700 (PDT) Message-ID: <68389346.d40a0220.3ba10f.51f4SMTPIN_ADDED_MISSING@mx.google.com> Received: from [172.17.0.2] (unknown [172.18.0.74]) by postal.iol.unh.edu (Postfix) with ESMTP id D7C126052471; Thu, 29 May 2025 13:03:01 -0400 (EDT) Subject: |SUCCESS| pw153839 [PATCH] ethdev: fix null error struct in flow con From: dpdklab@iol.unh.edu To: Test Report Cc: dpdk-test-reports@iol.unh.edu In-Reply-To: <20250529055612.115265-1-mkashani@nvidia.com> References: <20250529055612.115265-1-mkashani@nvidia.com> Content-Type: text/plain X-BeenThere: test-report@dpdk.org X-Mailman-Version: 2.1.29 Precedence: list List-Id: automatic DPDK test reports List-Unsubscribe: , List-Archive: List-Post: List-Help: List-Subscribe: , Errors-To: test-report-bounces@dpdk.org Test-Label: iol-abi-testing Test-Status: SUCCESS http://dpdk.org/patch/153839 _Testing PASS_ Submitter: Maayan Kashani Date: Thursday, May 29 2025 05:56:10 DPDK git baseline: Repo:dpdk Branch: master CommitID:466db466e2938c0d4e7f3dd75435483133f98770 153839 --> testing pass Upstream job id: Generic-DPDK-Compile-ABI#128130 Test environment and result as below: +-------------------------------+----------+ | Environment | abi_test | +===============================+==========+ | CentOS Stream 9 | PASS | +-------------------------------+----------+ | Debian GNU/Linux 12 | PASS | +-------------------------------+----------+ | CentOS Stream 10 | PASS | +-------------------------------+----------+ | Fedora 40 (Clang) | PASS | +-------------------------------+----------+ | Fedora 41 (Clang) | PASS | +-------------------------------+----------+ | Fedora 40 | PASS | +-------------------------------+----------+ | Fedora 41 | PASS | +-------------------------------+----------+ | openSUSE Leap 15.6 | PASS | +-------------------------------+----------+ | Ubuntu 24.04 | PASS | +-------------------------------+----------+ | Red Hat Enterprise Linux 9.5 | PASS | +-------------------------------+----------+ | Ubuntu 22.04 | PASS | +-------------------------------+----------+ | Red Hat Enterprise Linux 8.10 | PASS | +-------------------------------+----------+ CentOS Stream 9 Kernel: Depends on container host Compiler: gcc 11.5.0 20240719 (Red Hat 11.5.0-2) Debian GNU/Linux 12 Kernel: 5.15 Compiler: gcc gcc (Debian 12.2.0-14) 12.2.0 CentOS Stream 10 Kernel: Depends on container host Compiler: gcc 14.2.1 20241104 (Red Hat 14.2.1-6) Fedora 40 (Clang) Kernel: Depends on container host Compiler: clang 18.1.8 (Fedora 18.1.8-1.fc40) Fedora 41 (Clang) Kernel: Depends on container host Compiler: clang 19.1.5 (Fedora 19.1.5-1.fc41) Fedora 40 Kernel: Depends on container host Compiler: gcc 14.2.1 20240912 (Red Hat 14.2.1-3) Fedora 41 Kernel: Depends on container host Compiler: gcc 14.2.1 20240912 (Red Hat 14.2.1-3) openSUSE Leap 15.6 Kernel: 5.15 Compiler: gcc gcc (SUSE Linux) 7.5.0 Ubuntu 24.04 Kernel: 5.15 Compiler: gcc gcc (Ubuntu 13.3.0-6ubuntu2~24.04) 13.3.0 Red Hat Enterprise Linux 9.5 Kernel: 5.15 Compiler: gcc gcc (GCC) 11.5.0 20240719 (Red Hat 11.5.0-2) Ubuntu 22.04 Kernel: 5.15 Compiler: gcc gcc (Ubuntu 11.4.0-1ubuntu1~22.04) 11.4.0 Red Hat Enterprise Linux 8.10 Kernel: 5.15 Compiler: gcc gcc (GCC) 8.5.0 20210514 (Red Hat 8.5.0-22) To view detailed results, visit: https://lab.dpdk.org/results/dashboard/patchsets/33274/ UNH-IOL DPDK Community Lab To manage your email subscriptions, visit: https://lab.dpdk.org/results/dashboard/preferences/subscriptions/