From mboxrd@z Thu Jan 1 00:00:00 1970 Return-Path: Received: from mails.dpdk.org (mails.dpdk.org [217.70.189.124]) by inbox.dpdk.org (Postfix) with ESMTP id 70ADA46824 for ; Thu, 29 May 2025 19:53:28 +0200 (CEST) Received: from mails.dpdk.org (localhost [127.0.0.1]) by mails.dpdk.org (Postfix) with ESMTP id 5070640275; Thu, 29 May 2025 19:53:28 +0200 (CEST) Received: from mail-il1-f226.google.com (mail-il1-f226.google.com [209.85.166.226]) by mails.dpdk.org (Postfix) with ESMTP id D6F2D40275 for ; Thu, 29 May 2025 19:53:26 +0200 (CEST) Received: by mail-il1-f226.google.com with SMTP id e9e14a558f8ab-3dc6b2a8647so4048245ab.2 for ; Thu, 29 May 2025 10:53:26 -0700 (PDT) DKIM-Signature: v=1; a=rsa-sha256; c=relaxed/relaxed; d=iol.unh.edu; s=unh-iol; t=1748541206; x=1749146006; darn=dpdk.org; h=references:in-reply-to:cc:to:from:subject:message-id:date:from:to :cc:subject:date:message-id:reply-to; bh=a59rvJDX86n6Lqr/9RjeYq+eaG5lTwzt+jp/KPVQNzU=; b=DnBhT6nafehjT5uCxCwS4Nie1ZfC25q1k0P26GtLHOddVRToRI3me2yXrGpeiRDs1K FXfnFdbzkkcF19O9sCnia8/q2L6KaUzIOq9C07N4X1ACqQkhsP1PkP+ONNaV8fbQq780 /ysNGFJmdB8F+O0eOc4SGh9bQc1EDjZeLIbfQ= X-Google-DKIM-Signature: v=1; a=rsa-sha256; c=relaxed/relaxed; d=1e100.net; s=20230601; t=1748541206; x=1749146006; h=references:in-reply-to:cc:to:from:subject:message-id:date :x-gm-message-state:from:to:cc:subject:date:message-id:reply-to; bh=a59rvJDX86n6Lqr/9RjeYq+eaG5lTwzt+jp/KPVQNzU=; b=lOWpmzZnp2n9ZKHC3hRGfSoz0Hzd8pR+HNW+GIeFkKY+pwklbrO1fwcMlTF4LshPMS Q36SfQ3bEK2aTMRy5V+Y5L0hDd5FdhWRBq5t3jnPQxSh9MXhOK5rc+zGmzrzii8B+4n6 I7JayMqwT6H5hDUh7HSWoe9VaALCPDWfpSedRBm+sdPWlf2SkWmUWnKKq+n0epSGktbh PD8e8T/dBx1/NNMhHZpcnPM7mat3scJoYJhEpVEfwpEy2nbjkMfHBuKwf1BM6jy5YPX6 FR11BK4FhUfM1n5teIH0KD2FWC1Jn8qzzS1uK3u8eloOs5amH8v9SoUjhrmWgBW+0+d/ mO3A== X-Gm-Message-State: AOJu0Yy3BksJcH2d7PHsOgrBFOjUK4FoqZGRlfbjnGbotY6gBSc/mOP8 rXzXtQsjFLv6JUzZRXLj0U96m5O5/lR8FyWe0+YsZfyhyh1mtmshT+oaNOQTkwH01q2+4Wu1KD7 IH7MVT0jCF2chBowsVue1Ihbkf3ZZzdC/7xUu2DMV+VmZ X-Gm-Gg: ASbGnctqIich3mq67dHv0PG4OM0obTtRw25qsDhN5InqsV4dTwGy0hgevWDJqtt+gTM bcWrDWwZE5k3z3imRypTC/ZmY9fbyOOHX1LP23b/96dHAbVAsSGIXARnVYrUqajfrsVLWdU1sp0 YRaffW8Vwq69UfoGz39Q+Ar3M4OE9ir7WAbSJhMGhVw+kbpcQ3p+SVi3akF/ACEnJHl1NTnRjFj Z4aMPfqvYV8Q60yLs1L/Yq23qllghpVVOuRyxYk8gewPwdbkcbmjxzHdnPcmwrs9/wacXyBeb79 R/eHDtQVkIaK88zT96qpn7anl8B7U9ihduwuXC1eReMYLMTHiGpEAQWTKi0= X-Google-Smtp-Source: AGHT+IECgxucyvx6UbeWxvNOVXjjKTxcFmZCC+mCXprC7bepsF06fEP7bUr0xidf/x2sDtrkGTbLzpipso7E X-Received: by 2002:a05:6e02:b43:b0:3d8:20fb:f060 with SMTP id e9e14a558f8ab-3dd99bd068dmr10014795ab.4.1748541205996; Thu, 29 May 2025 10:53:25 -0700 (PDT) Received: from postal.iol.unh.edu (postal.iol.unh.edu. [132.177.123.84]) by smtp-relay.gmail.com with ESMTPS id e9e14a558f8ab-3dd93534524sm937715ab.11.2025.05.29.10.53.25 (version=TLS1_2 cipher=ECDHE-ECDSA-AES128-GCM-SHA256 bits=128/128); Thu, 29 May 2025 10:53:25 -0700 (PDT) X-Relaying-Domain: iol.unh.edu Date: Thu, 29 May 2025 10:53:25 -0700 (PDT) Message-ID: <68389f15.050a0220.385c29.4fd0SMTPIN_ADDED_MISSING@mx.google.com> Received: from [172.21.0.6] (unknown [172.18.0.240]) by postal.iol.unh.edu (Postfix) with ESMTP id 78DD46052471; Thu, 29 May 2025 13:53:25 -0400 (EDT) Subject: |WARNING| pw153839 [PATCH] ethdev: fix null error struct in flow con From: dpdklab@iol.unh.edu To: Test Report Cc: dpdk-test-reports@iol.unh.edu In-Reply-To: <20250529055612.115265-1-mkashani@nvidia.com> References: <20250529055612.115265-1-mkashani@nvidia.com> Content-Type: text/plain X-BeenThere: test-report@dpdk.org X-Mailman-Version: 2.1.29 Precedence: list List-Id: automatic DPDK test reports List-Unsubscribe: , List-Archive: List-Post: List-Help: List-Subscribe: , Errors-To: test-report-bounces@dpdk.org Test-Label: iol-compile-amd64-testing Test-Status: WARNING http://dpdk.org/patch/153839 _Testing issues_ Submitter: Maayan Kashani Date: Thursday, May 29 2025 05:56:10 DPDK git baseline: Repo:dpdk Branch: master CommitID:466db466e2938c0d4e7f3dd75435483133f98770 153839 --> testing issues Upstream job id: Generic-DPDK-Compile-Meson#392541 Test environment and result as below: +-------------------------------+--------------------+-------------------+------------------+ | Environment | dpdk_meson_compile | dpdk_compile_spdk | dpdk_compile_ovs | +===============================+====================+===================+==================+ | CentOS Stream 9 | PASS | PASS | SKIPPED | +-------------------------------+--------------------+-------------------+------------------+ | Debian GNU/Linux 12 | PASS | PASS | SKIPPED | +-------------------------------+--------------------+-------------------+------------------+ | Fedora 40 | PASS | PASS | SKIPPED | +-------------------------------+--------------------+-------------------+------------------+ | Fedora 41 (Clang) | PASS | WARN | PASS | +-------------------------------+--------------------+-------------------+------------------+ | Red Hat Enterprise Linux 8.10 | PASS | SKIPPED | SKIPPED | +-------------------------------+--------------------+-------------------+------------------+ | Red Hat Enterprise Linux 9.5 | PASS | SKIPPED | SKIPPED | +-------------------------------+--------------------+-------------------+------------------+ | openSUSE Leap 15.6 | PASS | SKIPPED | SKIPPED | +-------------------------------+--------------------+-------------------+------------------+ | Ubuntu 20.04 | PASS | SKIPPED | SKIPPED | +-------------------------------+--------------------+-------------------+------------------+ | Ubuntu 22.04 | PASS | PASS | SKIPPED | +-------------------------------+--------------------+-------------------+------------------+ | Ubuntu 24.04 | PASS | PASS | PASS | +-------------------------------+--------------------+-------------------+------------------+ | Alpine | PASS | SKIPPED | SKIPPED | +-------------------------------+--------------------+-------------------+------------------+ | FreeBSD 14.2 | PASS | SKIPPED | SKIPPED | +-------------------------------+--------------------+-------------------+------------------+ ==== 20 line log output for Fedora 41 (Clang) (dpdk_compile_spdk): ==== --- Failed to get log output --- ==== End log output ==== CentOS Stream 9 Kernel: Depends on container host Compiler: gcc 11.5.0 20240719 (Red Hat 11.5.0-2) Debian GNU/Linux 12 Kernel: 5.15 Compiler: gcc gcc (Debian 12.2.0-14) 12.2.0 Fedora 40 Kernel: Depends on container host Compiler: gcc 14.2.1 20240912 (Red Hat 14.2.1-3) Fedora 41 (Clang) Kernel: Depends on container host Compiler: clang 19.1.5 (Fedora 19.1.5-1.fc41) Red Hat Enterprise Linux 8.10 Kernel: 5.15 Compiler: gcc gcc (GCC) 8.5.0 20210514 (Red Hat 8.5.0-22) Red Hat Enterprise Linux 9.5 Kernel: 5.15 Compiler: gcc gcc (GCC) 11.5.0 20240719 (Red Hat 11.5.0-2) openSUSE Leap 15.6 Kernel: 5.15 Compiler: gcc gcc (SUSE Linux) 7.5.0 Ubuntu 20.04 Kernel: 5.15 Compiler: gcc gcc (Ubuntu 9.4.0-1ubuntu1~20.04.2) 9.4.0 Ubuntu 22.04 Kernel: 5.15 Compiler: gcc gcc (Ubuntu 11.4.0-1ubuntu1~22.04) 11.4.0 Ubuntu 24.04 Kernel: 5.15 Compiler: gcc gcc (Ubuntu 13.3.0-6ubuntu2~24.04) 13.3.0 Alpine Kernel: Depends on container host Compiler: gcc (Alpine 14.2.0) 14.2.0 FreeBSD 14.2 Kernel: 14.2-RELEASE Compiler: clang 18.1.6 To view detailed results, visit: https://lab.dpdk.org/results/dashboard/patchsets/33274/ UNH-IOL DPDK Community Lab To manage your email subscriptions, visit: https://lab.dpdk.org/results/dashboard/preferences/subscriptions/