From mboxrd@z Thu Jan 1 00:00:00 1970 Return-Path: Received: from mails.dpdk.org (mails.dpdk.org [217.70.189.124]) by inbox.dpdk.org (Postfix) with ESMTP id 9793E46824 for ; Thu, 29 May 2025 19:55:08 +0200 (CEST) Received: from mails.dpdk.org (localhost [127.0.0.1]) by mails.dpdk.org (Postfix) with ESMTP id 9266F40275; Thu, 29 May 2025 19:55:08 +0200 (CEST) Received: from mail-pf1-f227.google.com (mail-pf1-f227.google.com [209.85.210.227]) by mails.dpdk.org (Postfix) with ESMTP id 7E30940275 for ; Thu, 29 May 2025 19:55:06 +0200 (CEST) Received: by mail-pf1-f227.google.com with SMTP id d2e1a72fcca58-742c7a52e97so1022193b3a.3 for ; Thu, 29 May 2025 10:55:06 -0700 (PDT) DKIM-Signature: v=1; a=rsa-sha256; c=relaxed/relaxed; d=iol.unh.edu; s=unh-iol; t=1748541305; x=1749146105; darn=dpdk.org; h=references:in-reply-to:cc:to:from:subject:message-id:date:from:to :cc:subject:date:message-id:reply-to; bh=Gb0HgztLpa3/I+Ws6jZR7N0u3ynOIngu0ZYYYo8l2Hg=; b=XYsTtsCuQxh9K4ZpaYPjGJZzJUC8Mez7HY6FHbo5Rhd9uQyJm8YhApfGoZU9WwcLnI kBB/xICA7UWIZ5N2Av7rNa30zSyLvzhycWlYtkpSaEfAG1/jUxdurX74odOKt5heejr0 dH6jzJynKg4u+ucIky2OsEhik98XdsuhYVcGs= X-Google-DKIM-Signature: v=1; a=rsa-sha256; c=relaxed/relaxed; d=1e100.net; s=20230601; t=1748541305; x=1749146105; h=references:in-reply-to:cc:to:from:subject:message-id:date :x-gm-message-state:from:to:cc:subject:date:message-id:reply-to; bh=Gb0HgztLpa3/I+Ws6jZR7N0u3ynOIngu0ZYYYo8l2Hg=; b=pL0pfJlsGsekm+z2+qViNNfiMgJFUiNia4uwAjs1bU5afBUD8UO71s/cW5oCukuZLU dxJIl790FctYCM9Qn48StV/yU54ZS4QUF9e3Bv4DXbkyDB9kFd0MNM9+kXsnxfW5oQot /1SxxgVe0+UBt2/ndojkP1DuCZ93CqxEwMtuvRJjsHr6IgJ9WdBPnmhLBWwkWLCJMvQU nkxEtLWtKevSDBoicyYf63zeQTNcxDoQmFF0BxDiYTt/nM2WSN6WxlJH/VMP2tR6T7q7 /TWDNU6TXY/ij+ZV/UUYc8Taey/pRpAU6qAtJx2JlrR1LenZpeirn8gZKoumw1ID09fT UhJw== X-Gm-Message-State: AOJu0Yw4xeVAwGUdRJT54LWv8JV3Tj0K0Dv48cD746jyCvWpjddrBcJx APA3Mteg+3y3SjI12GYO/MWC4eb0f2DJVrjqLRcIUGK/HBwwHsyAt2rD9iMXhoLmjzR36j1lrU1 nf5loSMWLZRaNeP0Ddym2ipE/Pla4HmAV5jv2+/OglZt+ X-Gm-Gg: ASbGnctSTAHUIXbWD8FKrFhtDYjDEOu143n/qSoMBtBNsovv6LnQB5plHLvsQ5bm0Xi xR06Zyx16K9lophbB/TwAOF3zFFX0mIcYP/N1u3VUQtlYXJYr4zo06tJ0cPizpEzuwt3r5gkUZe EYY4xOyM85DPS3+gPcujiol2EgqnRFbQGGpUNI6626e26Gfy8lrqyFfxL3EMunYm+weYH7GFJML YgYIlzGWg7ctjs975fnkkkXU5ZeTXId1tg2r9+D3EusxouLd9g+7sP5ADad5xlLAte9whZ5wLjP B6ybkfX6NbuGEnhTVgrrG4cdXqbcXN9j0Z/ZQyiA4IrhacuUcRqcdPvJH3Q= X-Google-Smtp-Source: AGHT+IHpK932V/RP/ZCMLkZ8ATXOj/htOYFq//QpEKpXG6D0b2n8eBRfr3L6yijZcGWO+zvQQpmHGYi55+NP X-Received: by 2002:a05:6a00:4f8b:b0:734:b136:9c39 with SMTP id d2e1a72fcca58-747bd9f148emr425122b3a.19.1748541305598; Thu, 29 May 2025 10:55:05 -0700 (PDT) Received: from postal.iol.unh.edu (postal.iol.unh.edu. [132.177.123.84]) by smtp-relay.gmail.com with ESMTPS id d2e1a72fcca58-747afe97972sm90687b3a.3.2025.05.29.10.55.05 (version=TLS1_2 cipher=ECDHE-ECDSA-AES128-GCM-SHA256 bits=128/128); Thu, 29 May 2025 10:55:05 -0700 (PDT) X-Relaying-Domain: iol.unh.edu Date: Thu, 29 May 2025 10:55:05 -0700 (PDT) Message-ID: <68389f79.050a0220.2dae53.4f76SMTPIN_ADDED_MISSING@mx.google.com> Received: from [172.21.0.6] (unknown [172.18.0.240]) by postal.iol.unh.edu (Postfix) with ESMTP id 9C29E6052471; Thu, 29 May 2025 13:55:04 -0400 (EDT) Subject: |WARNING| pw153839 [PATCH] ethdev: fix null error struct in flow con From: dpdklab@iol.unh.edu To: Test Report Cc: dpdk-test-reports@iol.unh.edu In-Reply-To: <20250529055612.115265-1-mkashani@nvidia.com> References: <20250529055612.115265-1-mkashani@nvidia.com> Content-Type: text/plain X-BeenThere: test-report@dpdk.org X-Mailman-Version: 2.1.29 Precedence: list List-Id: automatic DPDK test reports List-Unsubscribe: , List-Archive: List-Post: List-Help: List-Subscribe: , Errors-To: test-report-bounces@dpdk.org Test-Label: iol-compile-amd64-testing Test-Status: WARNING http://dpdk.org/patch/153839 _Testing issues_ Submitter: Maayan Kashani Date: Thursday, May 29 2025 05:56:10 DPDK git baseline: Repo:dpdk Branch: master CommitID:466db466e2938c0d4e7f3dd75435483133f98770 153839 --> testing issues Upstream job id: Generic-DPDK-Compile-Meson#392533 Test environment and result as below: +-------------------------------+--------------------+-------------------+------------------+ | Environment | dpdk_meson_compile | dpdk_compile_spdk | dpdk_compile_ovs | +===============================+====================+===================+==================+ | CentOS Stream 9 | PASS | PASS | SKIPPED | +-------------------------------+--------------------+-------------------+------------------+ | Debian GNU/Linux 12 | PASS | PASS | SKIPPED | +-------------------------------+--------------------+-------------------+------------------+ | Fedora 40 | PASS | PASS | SKIPPED | +-------------------------------+--------------------+-------------------+------------------+ | Fedora 41 (Clang) | PASS | WARN | PASS | +-------------------------------+--------------------+-------------------+------------------+ | Red Hat Enterprise Linux 8.10 | PASS | SKIPPED | SKIPPED | +-------------------------------+--------------------+-------------------+------------------+ | Red Hat Enterprise Linux 9.5 | PASS | SKIPPED | SKIPPED | +-------------------------------+--------------------+-------------------+------------------+ | openSUSE Leap 15.6 | PASS | SKIPPED | SKIPPED | +-------------------------------+--------------------+-------------------+------------------+ | Ubuntu 20.04 | PASS | SKIPPED | SKIPPED | +-------------------------------+--------------------+-------------------+------------------+ | Ubuntu 22.04 | PASS | PASS | SKIPPED | +-------------------------------+--------------------+-------------------+------------------+ | Ubuntu 24.04 | PASS | PASS | PASS | +-------------------------------+--------------------+-------------------+------------------+ | Alpine | PASS | SKIPPED | SKIPPED | +-------------------------------+--------------------+-------------------+------------------+ | FreeBSD 14.2 | PASS | SKIPPED | SKIPPED | +-------------------------------+--------------------+-------------------+------------------+ ==== 20 line log output for Fedora 41 (Clang) (dpdk_compile_spdk): ==== --- Failed to get log output --- ==== End log output ==== CentOS Stream 9 Kernel: Depends on container host Compiler: gcc 11.5.0 20240719 (Red Hat 11.5.0-2) Debian GNU/Linux 12 Kernel: 5.15 Compiler: gcc gcc (Debian 12.2.0-14) 12.2.0 Fedora 40 Kernel: Depends on container host Compiler: gcc 14.2.1 20240912 (Red Hat 14.2.1-3) Fedora 41 (Clang) Kernel: Depends on container host Compiler: clang 19.1.5 (Fedora 19.1.5-1.fc41) Red Hat Enterprise Linux 8.10 Kernel: 5.15 Compiler: gcc gcc (GCC) 8.5.0 20210514 (Red Hat 8.5.0-22) Red Hat Enterprise Linux 9.5 Kernel: 5.15 Compiler: gcc gcc (GCC) 11.5.0 20240719 (Red Hat 11.5.0-2) openSUSE Leap 15.6 Kernel: 5.15 Compiler: gcc gcc (SUSE Linux) 7.5.0 Ubuntu 20.04 Kernel: 5.15 Compiler: gcc gcc (Ubuntu 9.4.0-1ubuntu1~20.04.2) 9.4.0 Ubuntu 22.04 Kernel: 5.15 Compiler: gcc gcc (Ubuntu 11.4.0-1ubuntu1~22.04) 11.4.0 Ubuntu 24.04 Kernel: 5.15 Compiler: gcc gcc (Ubuntu 13.3.0-6ubuntu2~24.04) 13.3.0 Alpine Kernel: Depends on container host Compiler: gcc (Alpine 14.2.0) 14.2.0 FreeBSD 14.2 Kernel: 14.2-RELEASE Compiler: clang 18.1.6 To view detailed results, visit: https://lab.dpdk.org/results/dashboard/patchsets/33274/ UNH-IOL DPDK Community Lab To manage your email subscriptions, visit: https://lab.dpdk.org/results/dashboard/preferences/subscriptions/