From mboxrd@z Thu Jan  1 00:00:00 1970
Return-Path: <test-report-bounces@dpdk.org>
Received: from mails.dpdk.org (mails.dpdk.org [217.70.189.124])
	by inbox.dpdk.org (Postfix) with ESMTP id 4880546826
	for <public@inbox.dpdk.org>; Thu, 29 May 2025 22:32:14 +0200 (CEST)
Received: from mails.dpdk.org (localhost [127.0.0.1])
	by mails.dpdk.org (Postfix) with ESMTP id 2948E40150;
	Thu, 29 May 2025 22:32:14 +0200 (CEST)
Received: from mail-il1-f226.google.com (mail-il1-f226.google.com
 [209.85.166.226])
 by mails.dpdk.org (Postfix) with ESMTP id 6A52240150
 for <test-report@dpdk.org>; Thu, 29 May 2025 22:32:13 +0200 (CEST)
Received: by mail-il1-f226.google.com with SMTP id
 e9e14a558f8ab-3dc83a8a4afso8239295ab.1
 for <test-report@dpdk.org>; Thu, 29 May 2025 13:32:13 -0700 (PDT)
DKIM-Signature: v=1; a=rsa-sha256; c=relaxed/relaxed;
 d=iol.unh.edu; s=unh-iol; t=1748550733; x=1749155533; darn=dpdk.org;
 h=references:in-reply-to:cc:to:from:subject:message-id:date:from:to
 :cc:subject:date:message-id:reply-to;
 bh=9JJRr6kWayZDx9zffgxmtSfOfEHq19IvK9kgJSMi9Wg=;
 b=ZYNcAU/0lTjuKq3Pw4iRT3qPzi/wym7ke2tm7NNt5vLPxaST2t5PlSEppZpqsUZbKu
 xZ//BT/70EyPrGIGepfT1k6nzWxwlbQ2yY+qA2+n5dgWNZQesIJZ3tSC34z9WkfClG8B
 6emwo9Fl+limTQKOypfXxzltBaeiTmtcGwecM=
X-Google-DKIM-Signature: v=1; a=rsa-sha256; c=relaxed/relaxed;
 d=1e100.net; s=20230601; t=1748550733; x=1749155533;
 h=references:in-reply-to:cc:to:from:subject:message-id:date
 :x-gm-message-state:from:to:cc:subject:date:message-id:reply-to;
 bh=9JJRr6kWayZDx9zffgxmtSfOfEHq19IvK9kgJSMi9Wg=;
 b=IVTNrGdhCNG1/ZyWjg14A+35aFXO/JvaO9bbkINCuKJJ1M9UqixMHXa4x0xHogEyao
 IjySZ1vigJMVQPLjLcAtiKLbbfIJMFJtekzb1Gau2PFIvwPVTVMyyTqBXoqhU2khf5ai
 Kf3FN7BYfxFAf30SqWN5sl0UTJe4H48A4BYvsQfZy0xrsOK/Lnoy3UOpsSTvFxig6VLy
 RDaIheINqDfXqWj8W55iE/YskMWazZhRZmC0SIm3sJBodpnw9G9tF0qCwdDCg4JaYI+P
 tWSCTqhPzQqJfip/YCb52UiS6ZfW0lzCog421w2ZVz6CCy8SS2BdePzpICgh1GA55s/5
 jnSw==
X-Gm-Message-State: AOJu0YxrfvosHkBxyXuH7IPxZ10LuVms4TiC9vnO/jVTsappJSLOrYCB
 RxJpCvoN+PSkJrv2dpyOszIBvqpOq+aidq53hhL2cxTRCEVq3itwjG2IGINbm7KzX6E2dI8TI+c
 AzkbAQbfDJnMFP0v5/0pslQB77yM50CS+DwI6o0dzrrcYGHvC59k4SqUhie0s
X-Gm-Gg: ASbGnctNGfdoApmG/o7PGq7FQHz3pEvZedsO9ZR2gicHZRF0gaDdjKxna4kZJ1oF39C
 fcGHRilfpeEWkkaTwBc4IOUfTcohR0/YeW4isGVgbKU5DLM/DfzWJM8P2UewHsOdM7X8vRZBXuG
 YAUo6/9EKARHwQfZH5ByjyHkbIaxEp2urLdhNlaknIjhmeiVhxdsoIi3fTM/18GQzKNPXW/sQon
 kjr4fdtiQIyRCYQDg+HKQ5bYq0Qy6k0+9jMq51xBeTVcs5VNaYipPLe8j37GJ+I29EF7H7024J/
 5dYjEcUbx6xP11A2hviiANM1Xm7Sk1D+JJz0
X-Google-Smtp-Source: AGHT+IGVDJnzTOePAkmYCSAef1/LqFElm7gGiR0pasCbV+WgHDhKQvzrYhlSk+gePawUTzdzKJt1l57pXdf3
X-Received: by 2002:a05:6e02:32c8:b0:3db:80f8:e8d4 with SMTP id
 e9e14a558f8ab-3dd90cc06b8mr70046065ab.6.1748550732737; 
 Thu, 29 May 2025 13:32:12 -0700 (PDT)
Received: from postal.iol.unh.edu (postal.iol.unh.edu.
 [2606:4100:3880:1234::84]) by smtp-relay.gmail.com with ESMTPS id
 e9e14a558f8ab-3dd9353e227sm1064385ab.15.2025.05.29.13.32.12
 (version=TLS1_2 cipher=ECDHE-ECDSA-AES128-GCM-SHA256 bits=128/128);
 Thu, 29 May 2025 13:32:12 -0700 (PDT)
X-Relaying-Domain: iol.unh.edu
Date: Thu, 29 May 2025 13:32:12 -0700 (PDT)
Message-ID: <6838c44c.050a0220.263297.57f7SMTPIN_ADDED_MISSING@mx.google.com>
Received: from [172.17.0.5] (unknown [172.18.0.74])
 by postal.iol.unh.edu (Postfix) with ESMTP id 599B56052471;
 Thu, 29 May 2025 16:32:12 -0400 (EDT)
Subject: |SUCCESS| pw153771 [PATCH] [V4] Add new tracepoint function for type
From: dpdklab@iol.unh.edu
To: Test Report <test-report@dpdk.org>
Cc: dpdk-test-reports@iol.unh.edu
In-Reply-To: <20250527120404.2027529-1-changqing.li@windriver.com>
References: <20250527120404.2027529-1-changqing.li@windriver.com>
Content-Type: text/plain
X-BeenThere: test-report@dpdk.org
X-Mailman-Version: 2.1.29
Precedence: list
List-Id: automatic DPDK test reports <test-report.dpdk.org>
List-Unsubscribe: <https://mails.dpdk.org/options/test-report>,
 <mailto:test-report-request@dpdk.org?subject=unsubscribe>
List-Archive: <http://mails.dpdk.org/archives/test-report/>
List-Post: <mailto:test-report@dpdk.org>
List-Help: <mailto:test-report-request@dpdk.org?subject=help>
List-Subscribe: <https://mails.dpdk.org/listinfo/test-report>,
 <mailto:test-report-request@dpdk.org?subject=subscribe>
Errors-To: test-report-bounces@dpdk.org

Test-Label: iol-unit-amd64-testing
Test-Status: SUCCESS
http://dpdk.org/patch/153771

_Testing PASS_

Submitter: Changqing Li <changqing.li@windriver.com>
Date: Tuesday, May 27 2025 12:04:04 
DPDK git baseline: Repo:dpdk
  Branch: master
  CommitID:7d24d0db8869287d219562a636ceba3d39bb5dd5

153771 --> testing pass

Upstream job id: Generic-VM-Unit-Test-DPDK#28798

Test environment and result as below:

+-------------------------------+----------------+
|          Environment          | dpdk_unit_test |
+===============================+================+
| Debian GNU/Linux 12           | PASS           |
+-------------------------------+----------------+
| Fedora 40                     | PASS           |
+-------------------------------+----------------+
| CentOS Stream 10              | PASS           |
+-------------------------------+----------------+
| CentOS Stream 9               | PASS           |
+-------------------------------+----------------+
| Fedora 40 (Clang)             | PASS           |
+-------------------------------+----------------+
| Fedora 41                     | PASS           |
+-------------------------------+----------------+
| Fedora 41 (Clang)             | PASS           |
+-------------------------------+----------------+
| Red Hat Enterprise Linux 9.5  | PASS           |
+-------------------------------+----------------+
| Ubuntu 22.04                  | PASS           |
+-------------------------------+----------------+
| Ubuntu 20.04                  | PASS           |
+-------------------------------+----------------+
| Red Hat Enterprise Linux 8.10 | PASS           |
+-------------------------------+----------------+
| Ubuntu 24.04                  | PASS           |
+-------------------------------+----------------+
| Windows Server 2022           | PASS           |
+-------------------------------+----------------+


Debian GNU/Linux 12
	Kernel: 5.15
	Compiler: gcc gcc (Debian 12.2.0-14) 12.2.0

Fedora 40
	Kernel: Depends on container host
	Compiler: gcc 14.2.1 20240912 (Red Hat 14.2.1-3)

CentOS Stream 10
	Kernel: Depends on container host
	Compiler: gcc 14.2.1 20241104 (Red Hat 14.2.1-6)

CentOS Stream 9
	Kernel: Depends on container host
	Compiler: gcc 11.5.0 20240719 (Red Hat 11.5.0-2)

Fedora 40 (Clang)
	Kernel: Depends on container host
	Compiler: clang 18.1.8 (Fedora 18.1.8-1.fc40)

Fedora 41
	Kernel: Depends on container host
	Compiler: gcc 14.2.1 20240912 (Red Hat 14.2.1-3)

Fedora 41 (Clang)
	Kernel: Depends on container host
	Compiler: clang 19.1.5 (Fedora 19.1.5-1.fc41)

Red Hat Enterprise Linux 9.5
	Kernel: 5.15
	Compiler: gcc gcc (GCC) 11.5.0 20240719 (Red Hat 11.5.0-2)

Ubuntu 22.04
	Kernel: 5.15
	Compiler: gcc gcc (Ubuntu 11.4.0-1ubuntu1~22.04) 11.4.0

Ubuntu 20.04
	Kernel: 5.15
	Compiler: gcc gcc (Ubuntu 9.4.0-1ubuntu1~20.04.2) 9.4.0

Red Hat Enterprise Linux 8.10
	Kernel: 5.15
	Compiler: gcc gcc (GCC) 8.5.0 20210514 (Red Hat 8.5.0-22)

Ubuntu 24.04
	Kernel: 5.15
	Compiler: gcc gcc (Ubuntu 13.3.0-6ubuntu2~24.04) 13.3.0

Windows Server 2022
	Kernel: 10.0.20348.2031
	Compiler: clang 15.0.7, gcc 14.1.0 (MinGW), and MSVC VS 19.39.33521

To view detailed results, visit:
https://lab.dpdk.org/results/dashboard/patchsets/33251/

UNH-IOL DPDK Community Lab

To manage your email subscriptions, visit: 
https://lab.dpdk.org/results/dashboard/preferences/subscriptions/