From mboxrd@z Thu Jan 1 00:00:00 1970 Return-Path: Received: from mails.dpdk.org (mails.dpdk.org [217.70.189.124]) by inbox.dpdk.org (Postfix) with ESMTP id DAF4A4682A for ; Thu, 29 May 2025 23:46:32 +0200 (CEST) Received: from mails.dpdk.org (localhost [127.0.0.1]) by mails.dpdk.org (Postfix) with ESMTP id B670A40150; Thu, 29 May 2025 23:46:32 +0200 (CEST) Received: from mail-vk1-f228.google.com (mail-vk1-f228.google.com [209.85.221.228]) by mails.dpdk.org (Postfix) with ESMTP id C1D8740150 for ; Thu, 29 May 2025 23:46:31 +0200 (CEST) Received: by mail-vk1-f228.google.com with SMTP id 71dfb90a1353d-52eec011ff2so430793e0c.1 for ; Thu, 29 May 2025 14:46:31 -0700 (PDT) DKIM-Signature: v=1; a=rsa-sha256; c=relaxed/relaxed; d=iol.unh.edu; s=unh-iol; t=1748555191; x=1749159991; darn=dpdk.org; h=references:in-reply-to:cc:to:from:subject:message-id:date:from:to :cc:subject:date:message-id:reply-to; bh=jJ16KBcQJtLx4DKuksbxCWkAZcYj85uVY6pk77ETqcs=; b=hS7m1HFA6bdGXETUvEGwk2CMhevULk24/ZFxiKhACfJXkYLZ5FeoPrF1vpJSuiHZXn KjZDdQe77U2twIk7cDYyLzezJfPSGFczo487g9kQ9PmtvqFrRz9xcBXA1rW8kqwktCnE QotbDVA/npVh/Cxift0YQWRDy50dR8wvnMYKE= X-Google-DKIM-Signature: v=1; a=rsa-sha256; c=relaxed/relaxed; d=1e100.net; s=20230601; t=1748555191; x=1749159991; h=references:in-reply-to:cc:to:from:subject:message-id:date :x-gm-message-state:from:to:cc:subject:date:message-id:reply-to; bh=jJ16KBcQJtLx4DKuksbxCWkAZcYj85uVY6pk77ETqcs=; b=Ixq1a7Osj4BaiZrW4B5AEIiwgMDY4weLzLJdlv21Ztcuk8Oi+B9fW1sP7Adw56oxiN hZrug3cOlKyIMKABd1CIl+PW1a58NJilRaa4Nh8XKff3Shazsc0xn94BjXGb+NjEBjwU BcKTxnAfvlm6LYDdElSbyr12e4MEmXXBL1A3riWgI2EGKxc1ktLWrS3m8/VKKlaaQh1v exfCzFjwAvrMTwtipIql6nzuNE/uzhPJSpnYDXwHSFbQVvFnCKUQL9TYO9+7As9wMmgL 5GaArgelRLnMuoKoKEBCnSC0x+bCLpT4OIpDLJoRfYyTdmSvK7i0yufIaSvefp4amlQd 376Q== X-Gm-Message-State: AOJu0Yyt8xvTX8dq4sg9EgJsfEEBpRdZJXBOZ/pI0YPwdSe9UL3cRtEi 7pINoAidqp9wLtXi2ghLR8lr1P8qKX8bfLSiMbWhPpaMfOhwdCi9wVOKWTarZsmCeAuczTShgEe xUKUfYMfEeTsnHPv+CQ9zMcmcFU1UjY9lOnPfd4qgHYi6 X-Gm-Gg: ASbGncskQQq6+ZUmRF4LOtPM16Z4wqrmx5ueQUTIuLFScOioNROq6ZMWrbQ2PDoOG2K fvDBRfdmS0ZwT4p3oXXhA7CKtYPP1WjY6kjkQvMRPC8ZOU/+FQltT6u9N3Qsi3XUyCjx8aX/rWR FWbU6yvI0uTHb/7sEYyC3jdwba5LVv6t2nnMBG/+OOr6gwaENABM5VDJNMp2iwQYMkgYqzFHZH+ DUI8k5OvL8ED6OelkPdUgSFewsTo1RKlA+JOl8fuh+H1hP8bWg93kIpv6EFdE5PP8SCHPh1mh7k BUeHt2dyUGykiB6imIyTLD/K/jYilSGXk2+qU9rwu+4ps2HBUDMcHkMcmHU= X-Google-Smtp-Source: AGHT+IEkyInrVTXT5f/lrcz4fxTWMSVRITm85+665195Xfj2irDhQM7fvHoepJBw8NJ8K5Gf5nQtpHK0lTq/ X-Received: by 2002:a05:6122:180f:b0:530:5fe5:7ea4 with SMTP id 71dfb90a1353d-53081107badmr1382307e0c.11.1748555190995; Thu, 29 May 2025 14:46:30 -0700 (PDT) Received: from postal.iol.unh.edu (postal.iol.unh.edu. [132.177.123.84]) by smtp-relay.gmail.com with ESMTPS id 71dfb90a1353d-53074bce481sm114732e0c.12.2025.05.29.14.46.30 (version=TLS1_2 cipher=ECDHE-ECDSA-AES128-GCM-SHA256 bits=128/128); Thu, 29 May 2025 14:46:30 -0700 (PDT) X-Relaying-Domain: iol.unh.edu Date: Thu, 29 May 2025 14:46:30 -0700 (PDT) Message-ID: <6838d5b6.050a0220.d586b.645fSMTPIN_ADDED_MISSING@mx.google.com> Received: from [172.17.0.3] (unknown [172.18.0.74]) by postal.iol.unh.edu (Postfix) with ESMTP id A2D8E6052471; Thu, 29 May 2025 17:46:30 -0400 (EDT) Subject: |SUCCESS| pw153825-153831 [PATCH] [7/7] doc: updates cnxk doc for ne From: dpdklab@iol.unh.edu To: Test Report Cc: dpdk-test-reports@iol.unh.edu In-Reply-To: <20250528115122.24052-7-rbhansali@marvell.com> References: <20250528115122.24052-7-rbhansali@marvell.com> Content-Type: text/plain X-BeenThere: test-report@dpdk.org X-Mailman-Version: 2.1.29 Precedence: list List-Id: automatic DPDK test reports List-Unsubscribe: , List-Archive: List-Post: List-Help: List-Subscribe: , Errors-To: test-report-bounces@dpdk.org Test-Label: iol-compile-arm64-testing Test-Status: SUCCESS http://dpdk.org/patch/153831 _Testing PASS_ Submitter: Rahul Bhansali Date: Wednesday, May 28 2025 11:51:22 DPDK git baseline: Repo:dpdk Branch: master CommitID:d0f30081805b9b798a059dd26287436018888064 153825-153831 --> testing pass Upstream job id: Generic-DPDK-Compile-Meson#392412 Test environment and result as below: +------------------------------+--------------------+ | Environment | dpdk_meson_compile | +==============================+====================+ | Red Hat Enterprise Linux 9.5 | PASS | +------------------------------+--------------------+ | Ubuntu 20.04 | PASS | +------------------------------+--------------------+ | Fedora 40 (ARM) | PASS | +------------------------------+--------------------+ | Debian GNU/Linux 12 | PASS | +------------------------------+--------------------+ | Fedora 40 (ARM Clang) | PASS | +------------------------------+--------------------+ | Fedora 41 (ARM Clang) | PASS | +------------------------------+--------------------+ | Ubuntu 22.04 | PASS | +------------------------------+--------------------+ | Ubuntu 24.04 | PASS | +------------------------------+--------------------+ | CentOS Stream 9 (ARM) | PASS | +------------------------------+--------------------+ | CentOS Stream 10 (ARM) | PASS | +------------------------------+--------------------+ Red Hat Enterprise Linux 9.5 Kernel: 5.4 Compiler: gcc gcc (GCC) 11.5.0 20240719 (Red Hat 11.5.0-2) Ubuntu 20.04 Kernel: 5.15 Compiler: aarch64-linux-gnu-gcc gcc (Ubuntu 9.4.0-1ubuntu1~20.04.2) 9.4.0 Fedora 40 (ARM) Kernel: Depends on container host Compiler: gcc 14.2.1 20240912 (Red Hat 14.2.1-3) Debian GNU/Linux 12 Kernel: 5.4 Compiler: gcc gcc (Debian 12.2.0-14) 12.2.0 Fedora 40 (ARM Clang) Kernel: Depends on container host Compiler: clang 18.1.8 (Fedora 18.1.8-1.fc40) Fedora 41 (ARM Clang) Kernel: Depends on container host Compiler: clang 19.1.5 (Fedora 19.1.5-1.fc41) Ubuntu 22.04 Kernel: 5.4 Compiler: gcc gcc (Ubuntu 11.4.0-1ubuntu1~22.04) 11.4.0 Ubuntu 24.04 Kernel: 5.4 Compiler: gcc gcc (Ubuntu 13.3.0-6ubuntu2~24.04) 13.3.0 CentOS Stream 9 (ARM) Kernel: Depends on container host Compiler: gcc 11.5.0 20240719 (Red Hat 11.5.0-2) CentOS Stream 10 (ARM) Kernel: Depends on container host Compiler: gcc 14.2.1 20241104 (Red Hat 14.2.1-6) To view detailed results, visit: https://lab.dpdk.org/results/dashboard/patchsets/33268/ UNH-IOL DPDK Community Lab To manage your email subscriptions, visit: https://lab.dpdk.org/results/dashboard/preferences/subscriptions/