From mboxrd@z Thu Jan  1 00:00:00 1970
Return-Path: <test-report-bounces@dpdk.org>
Received: from mails.dpdk.org (mails.dpdk.org [217.70.189.124])
	by inbox.dpdk.org (Postfix) with ESMTP id CA2A74682A
	for <public@inbox.dpdk.org>; Thu, 29 May 2025 23:56:05 +0200 (CEST)
Received: from mails.dpdk.org (localhost [127.0.0.1])
	by mails.dpdk.org (Postfix) with ESMTP id A328D40150;
	Thu, 29 May 2025 23:56:05 +0200 (CEST)
Received: from mail-qv1-f97.google.com (mail-qv1-f97.google.com
 [209.85.219.97]) by mails.dpdk.org (Postfix) with ESMTP id 660B040150
 for <test-report@dpdk.org>; Thu, 29 May 2025 23:56:04 +0200 (CEST)
Received: by mail-qv1-f97.google.com with SMTP id
 6a1803df08f44-6f8aa9e6ffdso15171496d6.3
 for <test-report@dpdk.org>; Thu, 29 May 2025 14:56:04 -0700 (PDT)
DKIM-Signature: v=1; a=rsa-sha256; c=relaxed/relaxed;
 d=iol.unh.edu; s=unh-iol; t=1748555764; x=1749160564; darn=dpdk.org;
 h=references:in-reply-to:cc:to:from:subject:message-id:date:from:to
 :cc:subject:date:message-id:reply-to;
 bh=jup25Lqfys2c4QjSOe5HMo4qO6hlZR1BiahzbGiKxKo=;
 b=BwDl00wtdjB6M38Xs8l2cgz8L7AoR/NYyK8Jxdcsh9TxOA21uG4dtEFtqBEVT6BxFI
 M7KpPxHN3MciTEve+RF9hKebvHv/z/blDDkrVh6YasN16CKjBsln1Y6UMzwoLLuyeQdR
 it6Mqt0lfX/GjiYqcxCsSz/VFaz2OdDp6LYQ4=
X-Google-DKIM-Signature: v=1; a=rsa-sha256; c=relaxed/relaxed;
 d=1e100.net; s=20230601; t=1748555764; x=1749160564;
 h=references:in-reply-to:cc:to:from:subject:message-id:date
 :x-gm-message-state:from:to:cc:subject:date:message-id:reply-to;
 bh=jup25Lqfys2c4QjSOe5HMo4qO6hlZR1BiahzbGiKxKo=;
 b=PQ5gjMcFM09ohre1l5oE1XsDig7JOe+j2XFiNfI7kIuT672KDJsfc/IU+7kB9NNXb1
 GqGM+f+Wg1/z51BEAfjuDmIAUtFKrsZ+GlZNqrFueAJH0ng1+erxj2kBK5cjvIGX8xO1
 EnkwSnt0F8gHzrNtjFwXJwS3Qy/CbV2a1lMJ0HNCfusHiXIg07SCAhKkhqH/QrHo79fS
 09geDFMLFDZ2bEKOnqinMCfKk7sqfbHCm5BYrlb51l+J5LTxFRYWt1zkyIOWYV9L/fSK
 h66HGoLB2TK/D13vAaGIsdigYr8peWdkD2ueizS0vwgKxT/m8PxkSQPBZdw9Zp/MyqOL
 0i5w==
X-Gm-Message-State: AOJu0YxwWM1pJmiWCx40jWZe78keEIXOeHXG8yJ24KvU2/qRBVZ8qpne
 ZB025oUalCMF9Cv1dbh8HUDbR2E/SRzqXCg4bHX3N8AjZWp6IPgYNZn97a7w59QAdxCcSWtUjIf
 HWZI9++3nsyOP3PESA/Bt2s1Bn+1Zus4nf0rWGTXCdfXl
X-Gm-Gg: ASbGncuo06mkhLon0z+HV9iT6Vxj15TfJRyXx57EyHElV2dOFXr5KBC+1G6uaaeXPTT
 5KO9IuE1gk7yJoYQTtHKFxqrySzzkMwBNpwFNZmIlF/ZEUuFoJMknuaBjNCZk5OdmIk7m/Zk+bv
 kpBggzOrXoamdszA6oIz5poI/Rv/MzDVGI+szIqwdHpt5whnb20Ik+kibiqokPRJKcFM5XBQO0t
 6xebermpUtdAfFjY3g4eXhDraqa39we5Y3AU0bsf6ZGDxMh03kF28ycgFrCym/Da7GD5MRCUQxW
 eaebibH5kgNbGy7RwSIgTYKII9PdXBPlib6zNkBbnxJ6vTkm1Jgg6N1gnIX35oYlexdcBQ==
X-Google-Smtp-Source: AGHT+IFQXrtOFffjJD2uOWMQZ1vpfi2aB5wwLN9HifFS1tA3pUw6fYcSbRb7NJIorU7XfCP+ilFnmAQZgfMc
X-Received: by 2002:a05:6214:3003:b0:6e8:9b52:7a1d with SMTP id
 6a1803df08f44-6faceb61a70mr20694946d6.8.1748555763692; 
 Thu, 29 May 2025 14:56:03 -0700 (PDT)
Received: from postal.iol.unh.edu (postal.iol.unh.edu. [132.177.123.84])
 by smtp-relay.gmail.com with ESMTPS id
 6a1803df08f44-6fac6f25c8esm1104156d6.49.2025.05.29.14.56.03
 (version=TLS1_2 cipher=ECDHE-ECDSA-AES128-GCM-SHA256 bits=128/128);
 Thu, 29 May 2025 14:56:03 -0700 (PDT)
X-Relaying-Domain: iol.unh.edu
Date: Thu, 29 May 2025 14:56:03 -0700 (PDT)
Message-ID: <6838d7f3.0c0a0220.3c43c4.5e04SMTPIN_ADDED_MISSING@mx.google.com>
Received: from [172.17.0.3] (unknown [172.18.0.74])
 by postal.iol.unh.edu (Postfix) with ESMTP id 657816052471;
 Thu, 29 May 2025 17:56:03 -0400 (EDT)
Subject: |SUCCESS| pw153824 [PATCH] crypto/virtio: fix driver ID for virtio
From: dpdklab@iol.unh.edu
To: Test Report <test-report@dpdk.org>
Cc: dpdk-test-reports@iol.unh.edu
In-Reply-To: <20250528105347.2014993-1-rmudimadugul@marvell.com>
References: <20250528105347.2014993-1-rmudimadugul@marvell.com>
Content-Type: text/plain
X-BeenThere: test-report@dpdk.org
X-Mailman-Version: 2.1.29
Precedence: list
List-Id: automatic DPDK test reports <test-report.dpdk.org>
List-Unsubscribe: <https://mails.dpdk.org/options/test-report>,
 <mailto:test-report-request@dpdk.org?subject=unsubscribe>
List-Archive: <http://mails.dpdk.org/archives/test-report/>
List-Post: <mailto:test-report@dpdk.org>
List-Help: <mailto:test-report-request@dpdk.org?subject=help>
List-Subscribe: <https://mails.dpdk.org/listinfo/test-report>,
 <mailto:test-report-request@dpdk.org?subject=subscribe>
Errors-To: test-report-bounces@dpdk.org

Test-Label: iol-compile-arm64-testing
Test-Status: SUCCESS
http://dpdk.org/patch/153824

_Testing PASS_

Submitter: Rajesh Mudimadugula <rmudimadugul@marvell.com>
Date: Wednesday, May 28 2025 10:53:47 
DPDK git baseline: Repo:dpdk
  Branch: master
  CommitID:d5968c8a2b355a083db1d2f4f00334760389b54c

153824 --> testing pass

Upstream job id: Generic-DPDK-Compile-Meson#392478

Test environment and result as below:

+------------------------------+--------------------+
|         Environment          | dpdk_meson_compile |
+==============================+====================+
| Red Hat Enterprise Linux 9.5 | PASS               |
+------------------------------+--------------------+
| Ubuntu 20.04                 | PASS               |
+------------------------------+--------------------+
| Debian GNU/Linux 12          | PASS               |
+------------------------------+--------------------+
| Fedora 40 (ARM)              | PASS               |
+------------------------------+--------------------+
| Fedora 40 (ARM Clang)        | PASS               |
+------------------------------+--------------------+
| Fedora 41 (ARM)              | PASS               |
+------------------------------+--------------------+
| Fedora 41 (ARM Clang)        | PASS               |
+------------------------------+--------------------+
| Ubuntu 22.04                 | PASS               |
+------------------------------+--------------------+
| Ubuntu 24.04                 | PASS               |
+------------------------------+--------------------+
| CentOS Stream 9 (ARM)        | PASS               |
+------------------------------+--------------------+
| CentOS Stream 10 (ARM)       | PASS               |
+------------------------------+--------------------+


Red Hat Enterprise Linux 9.5
	Kernel: 5.4
	Compiler: gcc gcc (GCC) 11.5.0 20240719 (Red Hat 11.5.0-2)

Ubuntu 20.04
	Kernel: 5.15
	Compiler: aarch64-linux-gnu-gcc gcc (Ubuntu 9.4.0-1ubuntu1~20.04.2) 9.4.0

Debian GNU/Linux 12
	Kernel: 5.4
	Compiler: gcc gcc (Debian 12.2.0-14) 12.2.0

Fedora 40 (ARM)
	Kernel: Depends on container host
	Compiler: gcc 14.2.1 20240912 (Red Hat 14.2.1-3)

Fedora 40 (ARM Clang)
	Kernel: Depends on container host
	Compiler: clang 18.1.8 (Fedora 18.1.8-1.fc40)

Fedora 41 (ARM)
	Kernel: Depends on container host
	Compiler: gcc 14.2.1 20240912 (Red Hat 14.2.1-3)

Fedora 41 (ARM Clang)
	Kernel: Depends on container host
	Compiler: clang 19.1.5 (Fedora 19.1.5-1.fc41)

Ubuntu 22.04
	Kernel: 5.4
	Compiler: gcc gcc (Ubuntu 11.4.0-1ubuntu1~22.04) 11.4.0

Ubuntu 24.04
	Kernel: 5.4
	Compiler: gcc gcc (Ubuntu 13.3.0-6ubuntu2~24.04) 13.3.0

CentOS Stream 9 (ARM)
	Kernel: Depends on container host
	Compiler: gcc 11.5.0 20240719 (Red Hat 11.5.0-2)

CentOS Stream 10 (ARM)
	Kernel: Depends on container host
	Compiler: gcc 14.2.1 20241104 (Red Hat 14.2.1-6)

To view detailed results, visit:
https://lab.dpdk.org/results/dashboard/patchsets/33267/

UNH-IOL DPDK Community Lab

To manage your email subscriptions, visit: 
https://lab.dpdk.org/results/dashboard/preferences/subscriptions/