From mboxrd@z Thu Jan  1 00:00:00 1970
Return-Path: <test-report-bounces@dpdk.org>
Received: from mails.dpdk.org (mails.dpdk.org [217.70.189.124])
	by inbox.dpdk.org (Postfix) with ESMTP id 0244F4682A
	for <public@inbox.dpdk.org>; Fri, 30 May 2025 01:13:25 +0200 (CEST)
Received: from mails.dpdk.org (localhost [127.0.0.1])
	by mails.dpdk.org (Postfix) with ESMTP id DF28340150;
	Fri, 30 May 2025 01:13:25 +0200 (CEST)
Received: from mail-io1-f100.google.com (mail-io1-f100.google.com
 [209.85.166.100])
 by mails.dpdk.org (Postfix) with ESMTP id E883140150
 for <test-report@dpdk.org>; Fri, 30 May 2025 01:13:24 +0200 (CEST)
Received: by mail-io1-f100.google.com with SMTP id
 ca18e2360f4ac-86cf9f46b06so28453739f.2
 for <test-report@dpdk.org>; Thu, 29 May 2025 16:13:24 -0700 (PDT)
DKIM-Signature: v=1; a=rsa-sha256; c=relaxed/relaxed;
 d=iol.unh.edu; s=unh-iol; t=1748560404; x=1749165204; darn=dpdk.org;
 h=references:in-reply-to:cc:to:from:subject:message-id:date:from:to
 :cc:subject:date:message-id:reply-to;
 bh=0McyCQAl/0zGPL1R1nCmXiqVk4pKfPJN32Zbb72CbO4=;
 b=Ijh5f6lNMdwACOAvN1Y/IKIUmalNsTXfTTxUlDC8fHzwxFpEoY9GsnwMn2qSJJYIbZ
 W9yFy60TwlhAixNCV7KrchDEq8U+mjEW/i8urFiHHAHUXb3c6eGedvi5ebF2rP9rCH4Y
 k81K8+m0pwAW+fHf2ulzdTTr9kppPlxl75CR0=
X-Google-DKIM-Signature: v=1; a=rsa-sha256; c=relaxed/relaxed;
 d=1e100.net; s=20230601; t=1748560404; x=1749165204;
 h=references:in-reply-to:cc:to:from:subject:message-id:date
 :x-gm-message-state:from:to:cc:subject:date:message-id:reply-to;
 bh=0McyCQAl/0zGPL1R1nCmXiqVk4pKfPJN32Zbb72CbO4=;
 b=F7h+TFEA1uJ77tIFpcatAn/5by7vYuMOfoL/6ZElicGRspekrTdoPTgRWTAS+V8PFm
 WNcKpH811s72pYlNQIMa+70cDKyMlJu4YdsLM4mGvkaNUUShS/vkLsD1dhcB+yErf8xs
 pmqehOsYzhiz/U6YM99stbVHqf5/EYA2y8np61rrgxzOygXInT253xg77XWp5/iKWpsj
 t2MRrZ8ppwecKmcFMXcaDAW9onPDAf6aVvHYDcwQGzJgw11lZNknd9sQ7Wg7Sx09F8S/
 v1LMNdJjBsAd5IZSKUkiYnLWnn1FVycR63Y+2h4CAvoO1y1fyYmjZR0/1axzcnX6nxDh
 fr/w==
X-Gm-Message-State: AOJu0YzbKggHsVXymTpWgLKaI/b5sfaja7iq04uGmIuXEpqQ1Ct7qUu8
 YffBCVdpg8vl3cshU6YRMtmjncEPFeKQoeKpDyn8vmJTKnemTP4CsjpTwO5G9o8Wlmc9nja8K6O
 twe0kxh2e3U7jSWzYD5mfGgq5ftk7d5m+pghjTHlQwfqR
X-Gm-Gg: ASbGncsv23+r5V3c+MqDq25zIpmBfAhQvB/EVh25odrmoMyBfzgj+emS5DvetM8ST5n
 +HFKv1hg2kBTHXclcbB1yVSGS4+I2UBUbn0MOzisAiJ4rLesETXP2SnCfARTB4i1MuDySLUsrX3
 HEE20m3X+NAE3nIbeA3yg/UjRTEcuITWUidBDFGbock/MZVDbYhlaxCHC8A3XttsYHtz/gB7UGp
 C3zAs0/rKYA6yGGX/9GpAX9fo8r1TEo0aYs6Be4MalvvwR7KtQsv2eS1I8zxVjN+QpS3vJWxylq
 Pdto5zp9T/lLek7v3CN+EzmMdh8aSJWYfUiPAYnHaRzkHa3SWlFbOleqf0E=
X-Google-Smtp-Source: AGHT+IEhpFmzfWJPviliRLCBmbxcaGPo6JhWGhUCCp6uzccrt17yVoJlEDusZxo7MNtbKo48g+ha2beTly4C
X-Received: by 2002:a05:6602:4017:b0:85b:476e:ede2 with SMTP id
 ca18e2360f4ac-86d00117498mr205089339f.13.1748560404202; 
 Thu, 29 May 2025 16:13:24 -0700 (PDT)
Received: from postal.iol.unh.edu (postal.iol.unh.edu. [132.177.123.84])
 by smtp-relay.gmail.com with ESMTPS id
 ca18e2360f4ac-86cf5e43303sm8636239f.12.2025.05.29.16.13.24
 (version=TLS1_2 cipher=ECDHE-ECDSA-AES128-GCM-SHA256 bits=128/128);
 Thu, 29 May 2025 16:13:24 -0700 (PDT)
X-Relaying-Domain: iol.unh.edu
Date: Thu, 29 May 2025 16:13:24 -0700 (PDT)
Message-ID: <6838ea14.6b0a0220.e8098.49c1SMTPIN_ADDED_MISSING@mx.google.com>
Received: from [172.17.0.3] (unknown [172.18.0.76])
 by postal.iol.unh.edu (Postfix) with ESMTP id 68AF56052471;
 Thu, 29 May 2025 19:13:23 -0400 (EDT)
Subject: |WARNING| pw153839 [PATCH] ethdev: fix null error struct in flow con
From: dpdklab@iol.unh.edu
To: Test Report <test-report@dpdk.org>
Cc: dpdk-test-reports@iol.unh.edu
In-Reply-To: <20250529055612.115265-1-mkashani@nvidia.com>
References: <20250529055612.115265-1-mkashani@nvidia.com>
Content-Type: text/plain
X-BeenThere: test-report@dpdk.org
X-Mailman-Version: 2.1.29
Precedence: list
List-Id: automatic DPDK test reports <test-report.dpdk.org>
List-Unsubscribe: <https://mails.dpdk.org/options/test-report>,
 <mailto:test-report-request@dpdk.org?subject=unsubscribe>
List-Archive: <http://mails.dpdk.org/archives/test-report/>
List-Post: <mailto:test-report@dpdk.org>
List-Help: <mailto:test-report-request@dpdk.org?subject=help>
List-Subscribe: <https://mails.dpdk.org/listinfo/test-report>,
 <mailto:test-report-request@dpdk.org?subject=subscribe>
Errors-To: test-report-bounces@dpdk.org

Test-Label: iol-compile-amd64-testing
Test-Status: WARNING
http://dpdk.org/patch/153839

_Testing issues_

Submitter: Maayan Kashani <mkashani@nvidia.com>
Date: Thursday, May 29 2025 05:56:10 
DPDK git baseline: Repo:dpdk
  Branch: master
  CommitID:466db466e2938c0d4e7f3dd75435483133f98770

153839 --> testing issues

Upstream job id: Generic-DPDK-Compile-Meson#392555

Test environment and result as below:

+-------------------------------+--------------------+-------------------+------------------+
|          Environment          | dpdk_meson_compile | dpdk_compile_spdk | dpdk_compile_ovs |
+===============================+====================+===================+==================+
| Ubuntu 20.04                  | PASS               | SKIPPED           | SKIPPED          |
+-------------------------------+--------------------+-------------------+------------------+
| FreeBSD 14.2                  | PASS               | SKIPPED           | SKIPPED          |
+-------------------------------+--------------------+-------------------+------------------+
| CentOS Stream 9               | PASS               | PASS              | SKIPPED          |
+-------------------------------+--------------------+-------------------+------------------+
| CentOS Stream 10              | PASS               | SKIPPED           | SKIPPED          |
+-------------------------------+--------------------+-------------------+------------------+
| Debian GNU/Linux 12           | PASS               | PASS              | SKIPPED          |
+-------------------------------+--------------------+-------------------+------------------+
| Fedora 40 (Clang)             | PASS               | WARN              | SKIPPED          |
+-------------------------------+--------------------+-------------------+------------------+
| Fedora 40                     | PASS               | PASS              | SKIPPED          |
+-------------------------------+--------------------+-------------------+------------------+
| Fedora 41 (Clang)             | PASS               | WARN              | PASS             |
+-------------------------------+--------------------+-------------------+------------------+
| Fedora 41                     | PASS               | PASS              | PASS             |
+-------------------------------+--------------------+-------------------+------------------+
| openSUSE Leap 15.6            | PASS               | SKIPPED           | SKIPPED          |
+-------------------------------+--------------------+-------------------+------------------+
| Red Hat Enterprise Linux 8.10 | PASS               | SKIPPED           | SKIPPED          |
+-------------------------------+--------------------+-------------------+------------------+
| Red Hat Enterprise Linux 9.5  | PASS               | SKIPPED           | SKIPPED          |
+-------------------------------+--------------------+-------------------+------------------+
| Ubuntu 22.04                  | PASS               | PASS              | SKIPPED          |
+-------------------------------+--------------------+-------------------+------------------+
| Ubuntu 24.04                  | PASS               | PASS              | PASS             |
+-------------------------------+--------------------+-------------------+------------------+
| Alpine                        | PASS               | SKIPPED           | SKIPPED          |
+-------------------------------+--------------------+-------------------+------------------+

==== 20 line log output for Fedora 41 (Clang) (dpdk_compile_spdk): ====
 --- Failed to get log output --- 
==== End log output ====

Ubuntu 20.04
	Kernel: 4.19.325-0419325-generic
	Compiler: gcc (Ubuntu 9.4.0-1ubuntu1~20.04.2) 9.4.0

FreeBSD 14.2
	Kernel: 14.2-RELEASE
	Compiler: clang 18.1.6

CentOS Stream 9
	Kernel: Depends on container host
	Compiler: gcc 11.5.0 20240719 (Red Hat 11.5.0-2)

CentOS Stream 10
	Kernel: Depends on container host
	Compiler: gcc 14.2.1 20241104 (Red Hat 14.2.1-6)

Debian GNU/Linux 12
	Kernel: 5.15
	Compiler: gcc gcc (Debian 12.2.0-14) 12.2.0

Fedora 40 (Clang)
	Kernel: Depends on container host
	Compiler: clang 18.1.8 (Fedora 18.1.8-1.fc40)

Fedora 40
	Kernel: Depends on container host
	Compiler: gcc 14.2.1 20240912 (Red Hat 14.2.1-3)

Fedora 41 (Clang)
	Kernel: Depends on container host
	Compiler: clang 19.1.5 (Fedora 19.1.5-1.fc41)

Fedora 41
	Kernel: Depends on container host
	Compiler: gcc 14.2.1 20240912 (Red Hat 14.2.1-3)

openSUSE Leap 15.6
	Kernel: 5.15
	Compiler: gcc gcc (SUSE Linux) 7.5.0

Red Hat Enterprise Linux 8.10
	Kernel: 5.15
	Compiler: gcc gcc (GCC) 8.5.0 20210514 (Red Hat 8.5.0-22)

Red Hat Enterprise Linux 9.5
	Kernel: 5.15
	Compiler: gcc gcc (GCC) 11.5.0 20240719 (Red Hat 11.5.0-2)

Ubuntu 22.04
	Kernel: 5.15
	Compiler: gcc gcc (Ubuntu 11.4.0-1ubuntu1~22.04) 11.4.0

Ubuntu 24.04
	Kernel: 5.15
	Compiler: gcc gcc (Ubuntu 13.3.0-6ubuntu2~24.04) 13.3.0

Alpine
	Kernel: Depends on container host
	Compiler: gcc (Alpine 14.2.0) 14.2.0

To view detailed results, visit:
https://lab.dpdk.org/results/dashboard/patchsets/33274/

UNH-IOL DPDK Community Lab

To manage your email subscriptions, visit: 
https://lab.dpdk.org/results/dashboard/preferences/subscriptions/